BEGIN:VCALENDAR
VERSION:2.0
PRODID:-//Hempstead in Essex - ECPv6.1.3//NONSGML v1.0//EN
CALSCALE:GREGORIAN
METHOD:PUBLISH
X-WR-CALNAME:Hempstead in Essex
X-ORIGINAL-URL:https://www.hempstead-essex.org.uk
X-WR-CALDESC:Events for Hempstead in Essex
REFRESH-INTERVAL;VALUE=DURATION:PT1H
X-Robots-Tag:noindex
X-PUBLISHED-TTL:PT1H
BEGIN:VTIMEZONE
TZID:Europe/London
BEGIN:DAYLIGHT
TZOFFSETFROM:+0000
TZOFFSETTO:+0100
TZNAME:BST
DTSTART:20260329T010000
END:DAYLIGHT
BEGIN:STANDARD
TZOFFSETFROM:+0100
TZOFFSETTO:+0000
TZNAME:GMT
DTSTART:20261025T010000
END:STANDARD
END:VTIMEZONE
BEGIN:VEVENT
DTSTART;VALUE=DATE:20260409
DTEND;VALUE=DATE:20260410
DTSTAMP:20260424T225621
CREATED:20260126T120619Z
LAST-MODIFIED:20260126T120833Z
UID:10001564-1775692800-1775779199@www.hempstead-essex.org.uk
SUMMARY:Recycling Bin Day
DESCRIPTION:
URL:https://www.hempstead-essex.org.uk/event/recycling-bin-day-2/2026-04-09/
ATTACH;FMTTYPE=image/jpeg:https://www.hempstead-essex.org.uk/wp-content/uploads/2025/05/IMG_3251.jpg
END:VEVENT
BEGIN:VEVENT
DTSTART;TZID=Europe/London:20260409T193000
DTEND;TZID=Europe/London:20260409T213000
DTSTAMP:20260424T225621
CREATED:20260330T173530Z
LAST-MODIFIED:20260330T173530Z
UID:10001588-1775763000-1775770200@www.hempstead-essex.org.uk
SUMMARY:Hempstead Parish Council Meeting
DESCRIPTION:
URL:https://www.hempstead-essex.org.uk/event/hempstead-parish-council-meeting/
CATEGORIES:Parish Council
ATTACH;FMTTYPE=image/jpeg:https://www.hempstead-essex.org.uk/wp-content/uploads/2026/03/Parish-Council-meeting-image.jpg
END:VEVENT
END:VCALENDAR