BEGIN:VCALENDAR
VERSION:2.0
PRODID:-//Hempstead in Essex - ECPv6.1.3//NONSGML v1.0//EN
CALSCALE:GREGORIAN
METHOD:PUBLISH
X-WR-CALNAME:Hempstead in Essex
X-ORIGINAL-URL:https://www.hempstead-essex.org.uk
X-WR-CALDESC:Events for Hempstead in Essex
REFRESH-INTERVAL;VALUE=DURATION:PT1H
X-Robots-Tag:noindex
X-PUBLISHED-TTL:PT1H
BEGIN:VTIMEZONE
TZID:Europe/London
BEGIN:DAYLIGHT
TZOFFSETFROM:+0000
TZOFFSETTO:+0100
TZNAME:BST
DTSTART:20230326T010000
END:DAYLIGHT
BEGIN:STANDARD
TZOFFSETFROM:+0100
TZOFFSETTO:+0000
TZNAME:GMT
DTSTART:20231029T010000
END:STANDARD
END:VTIMEZONE
BEGIN:VEVENT
DTSTART;TZID=Europe/London:20231209T100000
DTEND;TZID=Europe/London:20231209T120000
DTSTAMP:20260421T035248
CREATED:20231013T171227Z
LAST-MODIFIED:20231013T171227Z
UID:10001327-1702116000-1702123200@www.hempstead-essex.org.uk
SUMMARY:Christmas Card Exchange\, Sat 9th Dec
DESCRIPTION:The Christmas Card Exchange will take place in St. Andrew’s church on Saturday 9th December from 10am to 12 noon. Bring along your village addressed Christmas cards and leave them on the alphabetically marked out pews for others to collect when they visit. Those not collected will be delivered to their addresses. If you prefer a greener option than writing individual cards\, this year the church is introducing one tree where you can peg up your seasonal greeting to the whole village. Coffee and cakes will be provided and a donation to the church will be greatly appreciated. A very sociable occasion – do come.
URL:https://www.hempstead-essex.org.uk/event/christmas-card-exchange-sat-9th-dec/
LOCATION:Hempstead Village Hall\, High Street\, Hempstead\, CB10 2PD\, United Kingdom
CATEGORIES:Community Events
ATTACH;FMTTYPE=image/jpeg:https://www.hempstead-essex.org.uk/wp-content/uploads/2023/04/st-andrews-christmas.jpg
GEO:52.0171751;0.3796575
X-APPLE-STRUCTURED-LOCATION;VALUE=URI;X-ADDRESS=Hempstead Village Hall High Street Hempstead CB10 2PD United Kingdom;X-APPLE-RADIUS=500;X-TITLE=High Street:geo:0.3796575,52.0171751
END:VEVENT
BEGIN:VEVENT
DTSTART;TZID=Europe/London:20231224T180000
DTEND;TZID=Europe/London:20231224T193000
DTSTAMP:20260421T035248
CREATED:20231204T181041Z
LAST-MODIFIED:20231204T181334Z
UID:10001357-1703440800-1703446200@www.hempstead-essex.org.uk
SUMMARY:Nine Lessons & Carols Service
DESCRIPTION:Our favourite service of Nine Lessons & Carols will be held at St. Andrew’s church at 6pm (not 6.30pm as in previous years) on Sunday 24th December 2023. Mulled wine and mince pies will be served at the back of the church after the service. If you wish to kindly donate red wine for this purpose\, please leave it at Pippins\, on Church Hill. And feel free to bring a lantern to light your way on the evening.
URL:https://www.hempstead-essex.org.uk/event/nine-lessons-carols-service/
LOCATION:St. Andrew’s church\, Church Hill\, Hempstead Nr Saffron Walden\, GB\, CB10 2PD\, United Kingdom
CATEGORIES:Community Events
ATTACH;FMTTYPE=image/jpeg:https://www.hempstead-essex.org.uk/wp-content/uploads/2023/04/st-andrews-christmas.jpg
END:VEVENT
END:VCALENDAR