BEGIN:VCALENDAR
VERSION:2.0
PRODID:-//Hempstead in Essex - ECPv6.1.3//NONSGML v1.0//EN
CALSCALE:GREGORIAN
METHOD:PUBLISH
X-ORIGINAL-URL:https://www.hempstead-essex.org.uk
X-WR-CALDESC:Events for Hempstead in Essex
REFRESH-INTERVAL;VALUE=DURATION:PT1H
X-Robots-Tag:noindex
X-PUBLISHED-TTL:PT1H
BEGIN:VTIMEZONE
TZID:Europe/London
BEGIN:DAYLIGHT
TZOFFSETFROM:+0000
TZOFFSETTO:+0100
TZNAME:BST
DTSTART:20240331T010000
END:DAYLIGHT
BEGIN:STANDARD
TZOFFSETFROM:+0100
TZOFFSETTO:+0000
TZNAME:GMT
DTSTART:20241027T010000
END:STANDARD
END:VTIMEZONE
BEGIN:VEVENT
DTSTART;TZID=Europe/London:20240407T100000
DTEND;TZID=Europe/London:20240407T120000
DTSTAMP:20260420T212711
CREATED:20240229T183849Z
LAST-MODIFIED:20240229T183849Z
UID:10001364-1712484000-1712491200@www.hempstead-essex.org.uk
SUMMARY:Litter Picking
DESCRIPTION:We ask all villagers to join us in a litter pick on Sunday 7th April from 10am to 12 noon. Collect bags and equipment from the village hall and then start at the furthest point\, collecting as you come back towards the hall. We have some hi-vis jackets and litter picks and bags will be provided. Please wear strong protective gloves.
URL:https://www.hempstead-essex.org.uk/event/litter-picking/
LOCATION:Hempstead Village Hall\, High Street\, Hempstead\, CB10 2PD\, United Kingdom
CATEGORIES:Community Events
ATTACH;FMTTYPE=image/jpeg:https://www.hempstead-essex.org.uk/wp-content/uploads/2024/02/LitterPickApr18.jpg
GEO:52.0171751;0.3796575
X-APPLE-STRUCTURED-LOCATION;VALUE=URI;X-ADDRESS=Hempstead Village Hall High Street Hempstead CB10 2PD United Kingdom;X-APPLE-RADIUS=500;X-TITLE=High Street:geo:0.3796575,52.0171751
END:VEVENT
END:VCALENDAR