BEGIN:VCALENDAR
VERSION:2.0
PRODID:-//Hempstead in Essex - ECPv6.1.3//NONSGML v1.0//EN
CALSCALE:GREGORIAN
METHOD:PUBLISH
X-ORIGINAL-URL:https://www.hempstead-essex.org.uk
X-WR-CALDESC:Events for Hempstead in Essex
REFRESH-INTERVAL;VALUE=DURATION:PT1H
X-Robots-Tag:noindex
X-PUBLISHED-TTL:PT1H
BEGIN:VTIMEZONE
TZID:Europe/London
BEGIN:DAYLIGHT
TZOFFSETFROM:+0000
TZOFFSETTO:+0100
TZNAME:BST
DTSTART:20240331T010000
END:DAYLIGHT
BEGIN:STANDARD
TZOFFSETFROM:+0100
TZOFFSETTO:+0000
TZNAME:GMT
DTSTART:20241027T010000
END:STANDARD
END:VTIMEZONE
BEGIN:VEVENT
DTSTART;TZID=Europe/London:20240324T093000
DTEND;TZID=Europe/London:20240324T103000
DTSTAMP:20260421T003416
CREATED:20240229T182625Z
LAST-MODIFIED:20240229T182625Z
UID:10001363-1711272600-1711276200@www.hempstead-essex.org.uk
SUMMARY:Palm Sunday Service at St. Andrew's
DESCRIPTION:There will be a Holy Eucharist service on Palm Sunday 24th March at 9.30am.at St. Andrew’s\, Hempstead
URL:https://www.hempstead-essex.org.uk/event/palm-sunday-service-at-st-andrews/
CATEGORIES:Community Events
ATTACH;FMTTYPE=image/png:https://www.hempstead-essex.org.uk/wp-content/uploads/2023/05/Hempview.png
END:VEVENT
END:VCALENDAR