BEGIN:VCALENDAR
VERSION:2.0
PRODID:-//Hempstead in Essex - ECPv6.1.3//NONSGML v1.0//EN
CALSCALE:GREGORIAN
METHOD:PUBLISH
X-WR-CALNAME:Hempstead in Essex
X-ORIGINAL-URL:https://www.hempstead-essex.org.uk
X-WR-CALDESC:Events for Hempstead in Essex
REFRESH-INTERVAL;VALUE=DURATION:PT1H
X-Robots-Tag:noindex
X-PUBLISHED-TTL:PT1H
BEGIN:VTIMEZONE
TZID:Europe/London
BEGIN:DAYLIGHT
TZOFFSETFROM:+0000
TZOFFSETTO:+0100
TZNAME:BST
DTSTART:20260329T010000
END:DAYLIGHT
BEGIN:STANDARD
TZOFFSETFROM:+0100
TZOFFSETTO:+0000
TZNAME:GMT
DTSTART:20261025T010000
END:STANDARD
BEGIN:DAYLIGHT
TZOFFSETFROM:+0000
TZOFFSETTO:+0100
TZNAME:BST
DTSTART:20270328T010000
END:DAYLIGHT
BEGIN:STANDARD
TZOFFSETFROM:+0100
TZOFFSETTO:+0000
TZNAME:GMT
DTSTART:20271031T010000
END:STANDARD
END:VTIMEZONE
BEGIN:VEVENT
DTSTART;VALUE=DATE:20261217
DTEND;VALUE=DATE:20261218
DTSTAMP:20260425T171515
CREATED:20260126T120619Z
LAST-MODIFIED:20260126T120833Z
UID:10001582-1797465600-1797551999@www.hempstead-essex.org.uk
SUMMARY:Recycling Bin Day
DESCRIPTION:
URL:https://www.hempstead-essex.org.uk/event/recycling-bin-day-2/2026-12-17/
ATTACH;FMTTYPE=image/jpeg:https://www.hempstead-essex.org.uk/wp-content/uploads/2025/05/IMG_3251.jpg
END:VEVENT
BEGIN:VEVENT
DTSTART;TZID=Europe/London:20261222T183000
DTEND;TZID=Europe/London:20261222T193000
DTSTAMP:20260425T171515
CREATED:20230517T095548Z
LAST-MODIFIED:20230517T095832Z
UID:10000195-1797964200-1797967800@www.hempstead-essex.org.uk
SUMMARY:Ladies Keep Fit
DESCRIPTION:Hempstead Ladies Keep Fit meet in the Village Hall at 7.00pm every Tuesday under the guidance of Joy Goddard\, our qualified instructor. All ages and abilities are very welcome. We focus on general fitness and toning in a friendly and fun atmosphere. Please come along and join us.
URL:https://www.hempstead-essex.org.uk/event/ladies-keep-fit/2026-12-22/
LOCATION:Hempstead Village Hall\, High Street\, Hempstead\, CB10 2PD\, United Kingdom
CATEGORIES:Sporting and Fitness
ATTACH;FMTTYPE=image/jpeg:https://www.hempstead-essex.org.uk/wp-content/uploads/2023/05/keepfitladies2.jpg
GEO:52.0171751;0.3796575
X-APPLE-STRUCTURED-LOCATION;VALUE=URI;X-ADDRESS=Hempstead Village Hall High Street Hempstead CB10 2PD United Kingdom;X-APPLE-RADIUS=500;X-TITLE=High Street:geo:0.3796575,52.0171751
END:VEVENT
BEGIN:VEVENT
DTSTART;TZID=Europe/London:20261223T180000
DTEND;TZID=Europe/London:20261223T193000
DTSTAMP:20260425T171515
CREATED:20230517T100011Z
LAST-MODIFIED:20230517T101231Z
UID:10000458-1798048800-1798054200@www.hempstead-essex.org.uk
SUMMARY:1st Radwinter Cubs
DESCRIPTION:
URL:https://www.hempstead-essex.org.uk/event/1st-radwinter-cubs/2026-12-23/
LOCATION:Hempstead Village Hall\, High Street\, Hempstead\, CB10 2PD\, United Kingdom
CATEGORIES:Children's Events
ATTACH;FMTTYPE=image/jpeg:https://www.hempstead-essex.org.uk/wp-content/uploads/2023/05/scouts.jpg
GEO:52.0171751;0.3796575
X-APPLE-STRUCTURED-LOCATION;VALUE=URI;X-ADDRESS=Hempstead Village Hall High Street Hempstead CB10 2PD United Kingdom;X-APPLE-RADIUS=500;X-TITLE=High Street:geo:0.3796575,52.0171751
END:VEVENT
BEGIN:VEVENT
DTSTART;TZID=Europe/London:20261229T183000
DTEND;TZID=Europe/London:20261229T193000
DTSTAMP:20260425T171515
CREATED:20230517T095548Z
LAST-MODIFIED:20230517T095832Z
UID:10000196-1798569000-1798572600@www.hempstead-essex.org.uk
SUMMARY:Ladies Keep Fit
DESCRIPTION:Hempstead Ladies Keep Fit meet in the Village Hall at 7.00pm every Tuesday under the guidance of Joy Goddard\, our qualified instructor. All ages and abilities are very welcome. We focus on general fitness and toning in a friendly and fun atmosphere. Please come along and join us.
URL:https://www.hempstead-essex.org.uk/event/ladies-keep-fit/2026-12-29/
LOCATION:Hempstead Village Hall\, High Street\, Hempstead\, CB10 2PD\, United Kingdom
CATEGORIES:Sporting and Fitness
ATTACH;FMTTYPE=image/jpeg:https://www.hempstead-essex.org.uk/wp-content/uploads/2023/05/keepfitladies2.jpg
GEO:52.0171751;0.3796575
X-APPLE-STRUCTURED-LOCATION;VALUE=URI;X-ADDRESS=Hempstead Village Hall High Street Hempstead CB10 2PD United Kingdom;X-APPLE-RADIUS=500;X-TITLE=High Street:geo:0.3796575,52.0171751
END:VEVENT
BEGIN:VEVENT
DTSTART;TZID=Europe/London:20261230T180000
DTEND;TZID=Europe/London:20261230T193000
DTSTAMP:20260425T171515
CREATED:20230517T100011Z
LAST-MODIFIED:20230517T101231Z
UID:10000459-1798653600-1798659000@www.hempstead-essex.org.uk
SUMMARY:1st Radwinter Cubs
DESCRIPTION:
URL:https://www.hempstead-essex.org.uk/event/1st-radwinter-cubs/2026-12-30/
LOCATION:Hempstead Village Hall\, High Street\, Hempstead\, CB10 2PD\, United Kingdom
CATEGORIES:Children's Events
ATTACH;FMTTYPE=image/jpeg:https://www.hempstead-essex.org.uk/wp-content/uploads/2023/05/scouts.jpg
GEO:52.0171751;0.3796575
X-APPLE-STRUCTURED-LOCATION;VALUE=URI;X-ADDRESS=Hempstead Village Hall High Street Hempstead CB10 2PD United Kingdom;X-APPLE-RADIUS=500;X-TITLE=High Street:geo:0.3796575,52.0171751
END:VEVENT
BEGIN:VEVENT
DTSTART;TZID=Europe/London:20270105T183000
DTEND;TZID=Europe/London:20270105T193000
DTSTAMP:20260425T171515
CREATED:20230517T095548Z
LAST-MODIFIED:20230517T095832Z
UID:10000197-1799173800-1799177400@www.hempstead-essex.org.uk
SUMMARY:Ladies Keep Fit
DESCRIPTION:Hempstead Ladies Keep Fit meet in the Village Hall at 7.00pm every Tuesday under the guidance of Joy Goddard\, our qualified instructor. All ages and abilities are very welcome. We focus on general fitness and toning in a friendly and fun atmosphere. Please come along and join us.
URL:https://www.hempstead-essex.org.uk/event/ladies-keep-fit/2027-01-05/
LOCATION:Hempstead Village Hall\, High Street\, Hempstead\, CB10 2PD\, United Kingdom
CATEGORIES:Sporting and Fitness
ATTACH;FMTTYPE=image/jpeg:https://www.hempstead-essex.org.uk/wp-content/uploads/2023/05/keepfitladies2.jpg
GEO:52.0171751;0.3796575
X-APPLE-STRUCTURED-LOCATION;VALUE=URI;X-ADDRESS=Hempstead Village Hall High Street Hempstead CB10 2PD United Kingdom;X-APPLE-RADIUS=500;X-TITLE=High Street:geo:0.3796575,52.0171751
END:VEVENT
BEGIN:VEVENT
DTSTART;TZID=Europe/London:20270106T180000
DTEND;TZID=Europe/London:20270106T193000
DTSTAMP:20260425T171515
CREATED:20230517T100011Z
LAST-MODIFIED:20230517T101231Z
UID:10000460-1799258400-1799263800@www.hempstead-essex.org.uk
SUMMARY:1st Radwinter Cubs
DESCRIPTION:
URL:https://www.hempstead-essex.org.uk/event/1st-radwinter-cubs/2027-01-06/
LOCATION:Hempstead Village Hall\, High Street\, Hempstead\, CB10 2PD\, United Kingdom
CATEGORIES:Children's Events
ATTACH;FMTTYPE=image/jpeg:https://www.hempstead-essex.org.uk/wp-content/uploads/2023/05/scouts.jpg
GEO:52.0171751;0.3796575
X-APPLE-STRUCTURED-LOCATION;VALUE=URI;X-ADDRESS=Hempstead Village Hall High Street Hempstead CB10 2PD United Kingdom;X-APPLE-RADIUS=500;X-TITLE=High Street:geo:0.3796575,52.0171751
END:VEVENT
BEGIN:VEVENT
DTSTART;TZID=Europe/London:20270112T183000
DTEND;TZID=Europe/London:20270112T193000
DTSTAMP:20260425T171515
CREATED:20230517T095548Z
LAST-MODIFIED:20230517T095832Z
UID:10000198-1799778600-1799782200@www.hempstead-essex.org.uk
SUMMARY:Ladies Keep Fit
DESCRIPTION:Hempstead Ladies Keep Fit meet in the Village Hall at 7.00pm every Tuesday under the guidance of Joy Goddard\, our qualified instructor. All ages and abilities are very welcome. We focus on general fitness and toning in a friendly and fun atmosphere. Please come along and join us.
URL:https://www.hempstead-essex.org.uk/event/ladies-keep-fit/2027-01-12/
LOCATION:Hempstead Village Hall\, High Street\, Hempstead\, CB10 2PD\, United Kingdom
CATEGORIES:Sporting and Fitness
ATTACH;FMTTYPE=image/jpeg:https://www.hempstead-essex.org.uk/wp-content/uploads/2023/05/keepfitladies2.jpg
GEO:52.0171751;0.3796575
X-APPLE-STRUCTURED-LOCATION;VALUE=URI;X-ADDRESS=Hempstead Village Hall High Street Hempstead CB10 2PD United Kingdom;X-APPLE-RADIUS=500;X-TITLE=High Street:geo:0.3796575,52.0171751
END:VEVENT
BEGIN:VEVENT
DTSTART;TZID=Europe/London:20270113T180000
DTEND;TZID=Europe/London:20270113T193000
DTSTAMP:20260425T171515
CREATED:20230517T100011Z
LAST-MODIFIED:20230517T101231Z
UID:10000461-1799863200-1799868600@www.hempstead-essex.org.uk
SUMMARY:1st Radwinter Cubs
DESCRIPTION:
URL:https://www.hempstead-essex.org.uk/event/1st-radwinter-cubs/2027-01-13/
LOCATION:Hempstead Village Hall\, High Street\, Hempstead\, CB10 2PD\, United Kingdom
CATEGORIES:Children's Events
ATTACH;FMTTYPE=image/jpeg:https://www.hempstead-essex.org.uk/wp-content/uploads/2023/05/scouts.jpg
GEO:52.0171751;0.3796575
X-APPLE-STRUCTURED-LOCATION;VALUE=URI;X-ADDRESS=Hempstead Village Hall High Street Hempstead CB10 2PD United Kingdom;X-APPLE-RADIUS=500;X-TITLE=High Street:geo:0.3796575,52.0171751
END:VEVENT
BEGIN:VEVENT
DTSTART;TZID=Europe/London:20270119T183000
DTEND;TZID=Europe/London:20270119T193000
DTSTAMP:20260425T171515
CREATED:20230517T095548Z
LAST-MODIFIED:20230517T095832Z
UID:10000199-1800383400-1800387000@www.hempstead-essex.org.uk
SUMMARY:Ladies Keep Fit
DESCRIPTION:Hempstead Ladies Keep Fit meet in the Village Hall at 7.00pm every Tuesday under the guidance of Joy Goddard\, our qualified instructor. All ages and abilities are very welcome. We focus on general fitness and toning in a friendly and fun atmosphere. Please come along and join us.
URL:https://www.hempstead-essex.org.uk/event/ladies-keep-fit/2027-01-19/
LOCATION:Hempstead Village Hall\, High Street\, Hempstead\, CB10 2PD\, United Kingdom
CATEGORIES:Sporting and Fitness
ATTACH;FMTTYPE=image/jpeg:https://www.hempstead-essex.org.uk/wp-content/uploads/2023/05/keepfitladies2.jpg
GEO:52.0171751;0.3796575
X-APPLE-STRUCTURED-LOCATION;VALUE=URI;X-ADDRESS=Hempstead Village Hall High Street Hempstead CB10 2PD United Kingdom;X-APPLE-RADIUS=500;X-TITLE=High Street:geo:0.3796575,52.0171751
END:VEVENT
BEGIN:VEVENT
DTSTART;TZID=Europe/London:20270120T180000
DTEND;TZID=Europe/London:20270120T193000
DTSTAMP:20260425T171515
CREATED:20230517T100011Z
LAST-MODIFIED:20230517T101231Z
UID:10000462-1800468000-1800473400@www.hempstead-essex.org.uk
SUMMARY:1st Radwinter Cubs
DESCRIPTION:
URL:https://www.hempstead-essex.org.uk/event/1st-radwinter-cubs/2027-01-20/
LOCATION:Hempstead Village Hall\, High Street\, Hempstead\, CB10 2PD\, United Kingdom
CATEGORIES:Children's Events
ATTACH;FMTTYPE=image/jpeg:https://www.hempstead-essex.org.uk/wp-content/uploads/2023/05/scouts.jpg
GEO:52.0171751;0.3796575
X-APPLE-STRUCTURED-LOCATION;VALUE=URI;X-ADDRESS=Hempstead Village Hall High Street Hempstead CB10 2PD United Kingdom;X-APPLE-RADIUS=500;X-TITLE=High Street:geo:0.3796575,52.0171751
END:VEVENT
BEGIN:VEVENT
DTSTART;TZID=Europe/London:20270126T183000
DTEND;TZID=Europe/London:20270126T193000
DTSTAMP:20260425T171515
CREATED:20230517T095548Z
LAST-MODIFIED:20230517T095832Z
UID:10000200-1800988200-1800991800@www.hempstead-essex.org.uk
SUMMARY:Ladies Keep Fit
DESCRIPTION:Hempstead Ladies Keep Fit meet in the Village Hall at 7.00pm every Tuesday under the guidance of Joy Goddard\, our qualified instructor. All ages and abilities are very welcome. We focus on general fitness and toning in a friendly and fun atmosphere. Please come along and join us.
URL:https://www.hempstead-essex.org.uk/event/ladies-keep-fit/2027-01-26/
LOCATION:Hempstead Village Hall\, High Street\, Hempstead\, CB10 2PD\, United Kingdom
CATEGORIES:Sporting and Fitness
ATTACH;FMTTYPE=image/jpeg:https://www.hempstead-essex.org.uk/wp-content/uploads/2023/05/keepfitladies2.jpg
GEO:52.0171751;0.3796575
X-APPLE-STRUCTURED-LOCATION;VALUE=URI;X-ADDRESS=Hempstead Village Hall High Street Hempstead CB10 2PD United Kingdom;X-APPLE-RADIUS=500;X-TITLE=High Street:geo:0.3796575,52.0171751
END:VEVENT
BEGIN:VEVENT
DTSTART;TZID=Europe/London:20270127T180000
DTEND;TZID=Europe/London:20270127T193000
DTSTAMP:20260425T171515
CREATED:20230517T100011Z
LAST-MODIFIED:20230517T101231Z
UID:10000463-1801072800-1801078200@www.hempstead-essex.org.uk
SUMMARY:1st Radwinter Cubs
DESCRIPTION:
URL:https://www.hempstead-essex.org.uk/event/1st-radwinter-cubs/2027-01-27/
LOCATION:Hempstead Village Hall\, High Street\, Hempstead\, CB10 2PD\, United Kingdom
CATEGORIES:Children's Events
ATTACH;FMTTYPE=image/jpeg:https://www.hempstead-essex.org.uk/wp-content/uploads/2023/05/scouts.jpg
GEO:52.0171751;0.3796575
X-APPLE-STRUCTURED-LOCATION;VALUE=URI;X-ADDRESS=Hempstead Village Hall High Street Hempstead CB10 2PD United Kingdom;X-APPLE-RADIUS=500;X-TITLE=High Street:geo:0.3796575,52.0171751
END:VEVENT
BEGIN:VEVENT
DTSTART;TZID=Europe/London:20270202T183000
DTEND;TZID=Europe/London:20270202T193000
DTSTAMP:20260425T171515
CREATED:20230517T095548Z
LAST-MODIFIED:20230517T095832Z
UID:10000201-1801593000-1801596600@www.hempstead-essex.org.uk
SUMMARY:Ladies Keep Fit
DESCRIPTION:Hempstead Ladies Keep Fit meet in the Village Hall at 7.00pm every Tuesday under the guidance of Joy Goddard\, our qualified instructor. All ages and abilities are very welcome. We focus on general fitness and toning in a friendly and fun atmosphere. Please come along and join us.
URL:https://www.hempstead-essex.org.uk/event/ladies-keep-fit/2027-02-02/
LOCATION:Hempstead Village Hall\, High Street\, Hempstead\, CB10 2PD\, United Kingdom
CATEGORIES:Sporting and Fitness
ATTACH;FMTTYPE=image/jpeg:https://www.hempstead-essex.org.uk/wp-content/uploads/2023/05/keepfitladies2.jpg
GEO:52.0171751;0.3796575
X-APPLE-STRUCTURED-LOCATION;VALUE=URI;X-ADDRESS=Hempstead Village Hall High Street Hempstead CB10 2PD United Kingdom;X-APPLE-RADIUS=500;X-TITLE=High Street:geo:0.3796575,52.0171751
END:VEVENT
BEGIN:VEVENT
DTSTART;TZID=Europe/London:20270203T180000
DTEND;TZID=Europe/London:20270203T193000
DTSTAMP:20260425T171515
CREATED:20230517T100011Z
LAST-MODIFIED:20230517T101231Z
UID:10000464-1801677600-1801683000@www.hempstead-essex.org.uk
SUMMARY:1st Radwinter Cubs
DESCRIPTION:
URL:https://www.hempstead-essex.org.uk/event/1st-radwinter-cubs/2027-02-03/
LOCATION:Hempstead Village Hall\, High Street\, Hempstead\, CB10 2PD\, United Kingdom
CATEGORIES:Children's Events
ATTACH;FMTTYPE=image/jpeg:https://www.hempstead-essex.org.uk/wp-content/uploads/2023/05/scouts.jpg
GEO:52.0171751;0.3796575
X-APPLE-STRUCTURED-LOCATION;VALUE=URI;X-ADDRESS=Hempstead Village Hall High Street Hempstead CB10 2PD United Kingdom;X-APPLE-RADIUS=500;X-TITLE=High Street:geo:0.3796575,52.0171751
END:VEVENT
BEGIN:VEVENT
DTSTART;TZID=Europe/London:20270209T183000
DTEND;TZID=Europe/London:20270209T193000
DTSTAMP:20260425T171515
CREATED:20230517T095548Z
LAST-MODIFIED:20230517T095832Z
UID:10000202-1802197800-1802201400@www.hempstead-essex.org.uk
SUMMARY:Ladies Keep Fit
DESCRIPTION:Hempstead Ladies Keep Fit meet in the Village Hall at 7.00pm every Tuesday under the guidance of Joy Goddard\, our qualified instructor. All ages and abilities are very welcome. We focus on general fitness and toning in a friendly and fun atmosphere. Please come along and join us.
URL:https://www.hempstead-essex.org.uk/event/ladies-keep-fit/2027-02-09/
LOCATION:Hempstead Village Hall\, High Street\, Hempstead\, CB10 2PD\, United Kingdom
CATEGORIES:Sporting and Fitness
ATTACH;FMTTYPE=image/jpeg:https://www.hempstead-essex.org.uk/wp-content/uploads/2023/05/keepfitladies2.jpg
GEO:52.0171751;0.3796575
X-APPLE-STRUCTURED-LOCATION;VALUE=URI;X-ADDRESS=Hempstead Village Hall High Street Hempstead CB10 2PD United Kingdom;X-APPLE-RADIUS=500;X-TITLE=High Street:geo:0.3796575,52.0171751
END:VEVENT
BEGIN:VEVENT
DTSTART;TZID=Europe/London:20270210T180000
DTEND;TZID=Europe/London:20270210T193000
DTSTAMP:20260425T171515
CREATED:20230517T100011Z
LAST-MODIFIED:20230517T101231Z
UID:10000465-1802282400-1802287800@www.hempstead-essex.org.uk
SUMMARY:1st Radwinter Cubs
DESCRIPTION:
URL:https://www.hempstead-essex.org.uk/event/1st-radwinter-cubs/2027-02-10/
LOCATION:Hempstead Village Hall\, High Street\, Hempstead\, CB10 2PD\, United Kingdom
CATEGORIES:Children's Events
ATTACH;FMTTYPE=image/jpeg:https://www.hempstead-essex.org.uk/wp-content/uploads/2023/05/scouts.jpg
GEO:52.0171751;0.3796575
X-APPLE-STRUCTURED-LOCATION;VALUE=URI;X-ADDRESS=Hempstead Village Hall High Street Hempstead CB10 2PD United Kingdom;X-APPLE-RADIUS=500;X-TITLE=High Street:geo:0.3796575,52.0171751
END:VEVENT
BEGIN:VEVENT
DTSTART;TZID=Europe/London:20270216T183000
DTEND;TZID=Europe/London:20270216T193000
DTSTAMP:20260425T171515
CREATED:20230517T095548Z
LAST-MODIFIED:20230517T095832Z
UID:10000203-1802802600-1802806200@www.hempstead-essex.org.uk
SUMMARY:Ladies Keep Fit
DESCRIPTION:Hempstead Ladies Keep Fit meet in the Village Hall at 7.00pm every Tuesday under the guidance of Joy Goddard\, our qualified instructor. All ages and abilities are very welcome. We focus on general fitness and toning in a friendly and fun atmosphere. Please come along and join us.
URL:https://www.hempstead-essex.org.uk/event/ladies-keep-fit/2027-02-16/
LOCATION:Hempstead Village Hall\, High Street\, Hempstead\, CB10 2PD\, United Kingdom
CATEGORIES:Sporting and Fitness
ATTACH;FMTTYPE=image/jpeg:https://www.hempstead-essex.org.uk/wp-content/uploads/2023/05/keepfitladies2.jpg
GEO:52.0171751;0.3796575
X-APPLE-STRUCTURED-LOCATION;VALUE=URI;X-ADDRESS=Hempstead Village Hall High Street Hempstead CB10 2PD United Kingdom;X-APPLE-RADIUS=500;X-TITLE=High Street:geo:0.3796575,52.0171751
END:VEVENT
BEGIN:VEVENT
DTSTART;TZID=Europe/London:20270217T180000
DTEND;TZID=Europe/London:20270217T193000
DTSTAMP:20260425T171515
CREATED:20230517T100011Z
LAST-MODIFIED:20230517T101231Z
UID:10000466-1802887200-1802892600@www.hempstead-essex.org.uk
SUMMARY:1st Radwinter Cubs
DESCRIPTION:
URL:https://www.hempstead-essex.org.uk/event/1st-radwinter-cubs/2027-02-17/
LOCATION:Hempstead Village Hall\, High Street\, Hempstead\, CB10 2PD\, United Kingdom
CATEGORIES:Children's Events
ATTACH;FMTTYPE=image/jpeg:https://www.hempstead-essex.org.uk/wp-content/uploads/2023/05/scouts.jpg
GEO:52.0171751;0.3796575
X-APPLE-STRUCTURED-LOCATION;VALUE=URI;X-ADDRESS=Hempstead Village Hall High Street Hempstead CB10 2PD United Kingdom;X-APPLE-RADIUS=500;X-TITLE=High Street:geo:0.3796575,52.0171751
END:VEVENT
BEGIN:VEVENT
DTSTART;TZID=Europe/London:20270223T183000
DTEND;TZID=Europe/London:20270223T193000
DTSTAMP:20260425T171515
CREATED:20230517T095548Z
LAST-MODIFIED:20230517T095832Z
UID:10000204-1803407400-1803411000@www.hempstead-essex.org.uk
SUMMARY:Ladies Keep Fit
DESCRIPTION:Hempstead Ladies Keep Fit meet in the Village Hall at 7.00pm every Tuesday under the guidance of Joy Goddard\, our qualified instructor. All ages and abilities are very welcome. We focus on general fitness and toning in a friendly and fun atmosphere. Please come along and join us.
URL:https://www.hempstead-essex.org.uk/event/ladies-keep-fit/2027-02-23/
LOCATION:Hempstead Village Hall\, High Street\, Hempstead\, CB10 2PD\, United Kingdom
CATEGORIES:Sporting and Fitness
ATTACH;FMTTYPE=image/jpeg:https://www.hempstead-essex.org.uk/wp-content/uploads/2023/05/keepfitladies2.jpg
GEO:52.0171751;0.3796575
X-APPLE-STRUCTURED-LOCATION;VALUE=URI;X-ADDRESS=Hempstead Village Hall High Street Hempstead CB10 2PD United Kingdom;X-APPLE-RADIUS=500;X-TITLE=High Street:geo:0.3796575,52.0171751
END:VEVENT
BEGIN:VEVENT
DTSTART;TZID=Europe/London:20270224T180000
DTEND;TZID=Europe/London:20270224T193000
DTSTAMP:20260425T171515
CREATED:20230517T100011Z
LAST-MODIFIED:20230517T101231Z
UID:10000467-1803492000-1803497400@www.hempstead-essex.org.uk
SUMMARY:1st Radwinter Cubs
DESCRIPTION:
URL:https://www.hempstead-essex.org.uk/event/1st-radwinter-cubs/2027-02-24/
LOCATION:Hempstead Village Hall\, High Street\, Hempstead\, CB10 2PD\, United Kingdom
CATEGORIES:Children's Events
ATTACH;FMTTYPE=image/jpeg:https://www.hempstead-essex.org.uk/wp-content/uploads/2023/05/scouts.jpg
GEO:52.0171751;0.3796575
X-APPLE-STRUCTURED-LOCATION;VALUE=URI;X-ADDRESS=Hempstead Village Hall High Street Hempstead CB10 2PD United Kingdom;X-APPLE-RADIUS=500;X-TITLE=High Street:geo:0.3796575,52.0171751
END:VEVENT
BEGIN:VEVENT
DTSTART;TZID=Europe/London:20270302T183000
DTEND;TZID=Europe/London:20270302T193000
DTSTAMP:20260425T171515
CREATED:20230517T095548Z
LAST-MODIFIED:20230517T095832Z
UID:10000205-1804012200-1804015800@www.hempstead-essex.org.uk
SUMMARY:Ladies Keep Fit
DESCRIPTION:Hempstead Ladies Keep Fit meet in the Village Hall at 7.00pm every Tuesday under the guidance of Joy Goddard\, our qualified instructor. All ages and abilities are very welcome. We focus on general fitness and toning in a friendly and fun atmosphere. Please come along and join us.
URL:https://www.hempstead-essex.org.uk/event/ladies-keep-fit/2027-03-02/
LOCATION:Hempstead Village Hall\, High Street\, Hempstead\, CB10 2PD\, United Kingdom
CATEGORIES:Sporting and Fitness
ATTACH;FMTTYPE=image/jpeg:https://www.hempstead-essex.org.uk/wp-content/uploads/2023/05/keepfitladies2.jpg
GEO:52.0171751;0.3796575
X-APPLE-STRUCTURED-LOCATION;VALUE=URI;X-ADDRESS=Hempstead Village Hall High Street Hempstead CB10 2PD United Kingdom;X-APPLE-RADIUS=500;X-TITLE=High Street:geo:0.3796575,52.0171751
END:VEVENT
BEGIN:VEVENT
DTSTART;TZID=Europe/London:20270303T180000
DTEND;TZID=Europe/London:20270303T193000
DTSTAMP:20260425T171515
CREATED:20230517T100011Z
LAST-MODIFIED:20230517T101231Z
UID:10000468-1804096800-1804102200@www.hempstead-essex.org.uk
SUMMARY:1st Radwinter Cubs
DESCRIPTION:
URL:https://www.hempstead-essex.org.uk/event/1st-radwinter-cubs/2027-03-03/
LOCATION:Hempstead Village Hall\, High Street\, Hempstead\, CB10 2PD\, United Kingdom
CATEGORIES:Children's Events
ATTACH;FMTTYPE=image/jpeg:https://www.hempstead-essex.org.uk/wp-content/uploads/2023/05/scouts.jpg
GEO:52.0171751;0.3796575
X-APPLE-STRUCTURED-LOCATION;VALUE=URI;X-ADDRESS=Hempstead Village Hall High Street Hempstead CB10 2PD United Kingdom;X-APPLE-RADIUS=500;X-TITLE=High Street:geo:0.3796575,52.0171751
END:VEVENT
BEGIN:VEVENT
DTSTART;TZID=Europe/London:20270309T183000
DTEND;TZID=Europe/London:20270309T193000
DTSTAMP:20260425T171515
CREATED:20230517T095548Z
LAST-MODIFIED:20230517T095832Z
UID:10000206-1804617000-1804620600@www.hempstead-essex.org.uk
SUMMARY:Ladies Keep Fit
DESCRIPTION:Hempstead Ladies Keep Fit meet in the Village Hall at 7.00pm every Tuesday under the guidance of Joy Goddard\, our qualified instructor. All ages and abilities are very welcome. We focus on general fitness and toning in a friendly and fun atmosphere. Please come along and join us.
URL:https://www.hempstead-essex.org.uk/event/ladies-keep-fit/2027-03-09/
LOCATION:Hempstead Village Hall\, High Street\, Hempstead\, CB10 2PD\, United Kingdom
CATEGORIES:Sporting and Fitness
ATTACH;FMTTYPE=image/jpeg:https://www.hempstead-essex.org.uk/wp-content/uploads/2023/05/keepfitladies2.jpg
GEO:52.0171751;0.3796575
X-APPLE-STRUCTURED-LOCATION;VALUE=URI;X-ADDRESS=Hempstead Village Hall High Street Hempstead CB10 2PD United Kingdom;X-APPLE-RADIUS=500;X-TITLE=High Street:geo:0.3796575,52.0171751
END:VEVENT
BEGIN:VEVENT
DTSTART;TZID=Europe/London:20270310T180000
DTEND;TZID=Europe/London:20270310T193000
DTSTAMP:20260425T171515
CREATED:20230517T100011Z
LAST-MODIFIED:20230517T101231Z
UID:10000469-1804701600-1804707000@www.hempstead-essex.org.uk
SUMMARY:1st Radwinter Cubs
DESCRIPTION:
URL:https://www.hempstead-essex.org.uk/event/1st-radwinter-cubs/2027-03-10/
LOCATION:Hempstead Village Hall\, High Street\, Hempstead\, CB10 2PD\, United Kingdom
CATEGORIES:Children's Events
ATTACH;FMTTYPE=image/jpeg:https://www.hempstead-essex.org.uk/wp-content/uploads/2023/05/scouts.jpg
GEO:52.0171751;0.3796575
X-APPLE-STRUCTURED-LOCATION;VALUE=URI;X-ADDRESS=Hempstead Village Hall High Street Hempstead CB10 2PD United Kingdom;X-APPLE-RADIUS=500;X-TITLE=High Street:geo:0.3796575,52.0171751
END:VEVENT
BEGIN:VEVENT
DTSTART;TZID=Europe/London:20270316T183000
DTEND;TZID=Europe/London:20270316T193000
DTSTAMP:20260425T171515
CREATED:20230517T095548Z
LAST-MODIFIED:20230517T095832Z
UID:10000207-1805221800-1805225400@www.hempstead-essex.org.uk
SUMMARY:Ladies Keep Fit
DESCRIPTION:Hempstead Ladies Keep Fit meet in the Village Hall at 7.00pm every Tuesday under the guidance of Joy Goddard\, our qualified instructor. All ages and abilities are very welcome. We focus on general fitness and toning in a friendly and fun atmosphere. Please come along and join us.
URL:https://www.hempstead-essex.org.uk/event/ladies-keep-fit/2027-03-16/
LOCATION:Hempstead Village Hall\, High Street\, Hempstead\, CB10 2PD\, United Kingdom
CATEGORIES:Sporting and Fitness
ATTACH;FMTTYPE=image/jpeg:https://www.hempstead-essex.org.uk/wp-content/uploads/2023/05/keepfitladies2.jpg
GEO:52.0171751;0.3796575
X-APPLE-STRUCTURED-LOCATION;VALUE=URI;X-ADDRESS=Hempstead Village Hall High Street Hempstead CB10 2PD United Kingdom;X-APPLE-RADIUS=500;X-TITLE=High Street:geo:0.3796575,52.0171751
END:VEVENT
BEGIN:VEVENT
DTSTART;TZID=Europe/London:20270317T180000
DTEND;TZID=Europe/London:20270317T193000
DTSTAMP:20260425T171515
CREATED:20230517T100011Z
LAST-MODIFIED:20230517T101231Z
UID:10000470-1805306400-1805311800@www.hempstead-essex.org.uk
SUMMARY:1st Radwinter Cubs
DESCRIPTION:
URL:https://www.hempstead-essex.org.uk/event/1st-radwinter-cubs/2027-03-17/
LOCATION:Hempstead Village Hall\, High Street\, Hempstead\, CB10 2PD\, United Kingdom
CATEGORIES:Children's Events
ATTACH;FMTTYPE=image/jpeg:https://www.hempstead-essex.org.uk/wp-content/uploads/2023/05/scouts.jpg
GEO:52.0171751;0.3796575
X-APPLE-STRUCTURED-LOCATION;VALUE=URI;X-ADDRESS=Hempstead Village Hall High Street Hempstead CB10 2PD United Kingdom;X-APPLE-RADIUS=500;X-TITLE=High Street:geo:0.3796575,52.0171751
END:VEVENT
BEGIN:VEVENT
DTSTART;TZID=Europe/London:20270323T183000
DTEND;TZID=Europe/London:20270323T193000
DTSTAMP:20260425T171515
CREATED:20230517T095548Z
LAST-MODIFIED:20230517T095832Z
UID:10000208-1805826600-1805830200@www.hempstead-essex.org.uk
SUMMARY:Ladies Keep Fit
DESCRIPTION:Hempstead Ladies Keep Fit meet in the Village Hall at 7.00pm every Tuesday under the guidance of Joy Goddard\, our qualified instructor. All ages and abilities are very welcome. We focus on general fitness and toning in a friendly and fun atmosphere. Please come along and join us.
URL:https://www.hempstead-essex.org.uk/event/ladies-keep-fit/2027-03-23/
LOCATION:Hempstead Village Hall\, High Street\, Hempstead\, CB10 2PD\, United Kingdom
CATEGORIES:Sporting and Fitness
ATTACH;FMTTYPE=image/jpeg:https://www.hempstead-essex.org.uk/wp-content/uploads/2023/05/keepfitladies2.jpg
GEO:52.0171751;0.3796575
X-APPLE-STRUCTURED-LOCATION;VALUE=URI;X-ADDRESS=Hempstead Village Hall High Street Hempstead CB10 2PD United Kingdom;X-APPLE-RADIUS=500;X-TITLE=High Street:geo:0.3796575,52.0171751
END:VEVENT
BEGIN:VEVENT
DTSTART;TZID=Europe/London:20270324T180000
DTEND;TZID=Europe/London:20270324T193000
DTSTAMP:20260425T171515
CREATED:20230517T100011Z
LAST-MODIFIED:20230517T101231Z
UID:10000471-1805911200-1805916600@www.hempstead-essex.org.uk
SUMMARY:1st Radwinter Cubs
DESCRIPTION:
URL:https://www.hempstead-essex.org.uk/event/1st-radwinter-cubs/2027-03-24/
LOCATION:Hempstead Village Hall\, High Street\, Hempstead\, CB10 2PD\, United Kingdom
CATEGORIES:Children's Events
ATTACH;FMTTYPE=image/jpeg:https://www.hempstead-essex.org.uk/wp-content/uploads/2023/05/scouts.jpg
GEO:52.0171751;0.3796575
X-APPLE-STRUCTURED-LOCATION;VALUE=URI;X-ADDRESS=Hempstead Village Hall High Street Hempstead CB10 2PD United Kingdom;X-APPLE-RADIUS=500;X-TITLE=High Street:geo:0.3796575,52.0171751
END:VEVENT
BEGIN:VEVENT
DTSTART;TZID=Europe/London:20270330T183000
DTEND;TZID=Europe/London:20270330T193000
DTSTAMP:20260425T171515
CREATED:20230517T095548Z
LAST-MODIFIED:20230517T095832Z
UID:10000209-1806431400-1806435000@www.hempstead-essex.org.uk
SUMMARY:Ladies Keep Fit
DESCRIPTION:Hempstead Ladies Keep Fit meet in the Village Hall at 7.00pm every Tuesday under the guidance of Joy Goddard\, our qualified instructor. All ages and abilities are very welcome. We focus on general fitness and toning in a friendly and fun atmosphere. Please come along and join us.
URL:https://www.hempstead-essex.org.uk/event/ladies-keep-fit/2027-03-30/
LOCATION:Hempstead Village Hall\, High Street\, Hempstead\, CB10 2PD\, United Kingdom
CATEGORIES:Sporting and Fitness
ATTACH;FMTTYPE=image/jpeg:https://www.hempstead-essex.org.uk/wp-content/uploads/2023/05/keepfitladies2.jpg
GEO:52.0171751;0.3796575
X-APPLE-STRUCTURED-LOCATION;VALUE=URI;X-ADDRESS=Hempstead Village Hall High Street Hempstead CB10 2PD United Kingdom;X-APPLE-RADIUS=500;X-TITLE=High Street:geo:0.3796575,52.0171751
END:VEVENT
END:VCALENDAR