BEGIN:VCALENDAR
VERSION:2.0
PRODID:-//Hempstead in Essex - ECPv6.1.3//NONSGML v1.0//EN
CALSCALE:GREGORIAN
METHOD:PUBLISH
X-WR-CALNAME:Hempstead in Essex
X-ORIGINAL-URL:https://www.hempstead-essex.org.uk
X-WR-CALDESC:Events for Hempstead in Essex
REFRESH-INTERVAL;VALUE=DURATION:PT1H
X-Robots-Tag:noindex
X-PUBLISHED-TTL:PT1H
BEGIN:VTIMEZONE
TZID:Europe/London
BEGIN:DAYLIGHT
TZOFFSETFROM:+0000
TZOFFSETTO:+0100
TZNAME:BST
DTSTART:20250330T010000
END:DAYLIGHT
BEGIN:STANDARD
TZOFFSETFROM:+0100
TZOFFSETTO:+0000
TZNAME:GMT
DTSTART:20251026T010000
END:STANDARD
END:VTIMEZONE
BEGIN:VEVENT
DTSTART;TZID=Europe/London:20250408T183000
DTEND;TZID=Europe/London:20250408T193000
DTSTAMP:20260426T045315
CREATED:20230517T095548Z
LAST-MODIFIED:20230517T095832Z
UID:10000106-1744137000-1744140600@www.hempstead-essex.org.uk
SUMMARY:Ladies Keep Fit
DESCRIPTION:Hempstead Ladies Keep Fit meet in the Village Hall at 7.00pm every Tuesday under the guidance of Joy Goddard\, our qualified instructor. All ages and abilities are very welcome. We focus on general fitness and toning in a friendly and fun atmosphere. Please come along and join us.
URL:https://www.hempstead-essex.org.uk/event/ladies-keep-fit/2025-04-08/
LOCATION:Hempstead Village Hall\, High Street\, Hempstead\, CB10 2PD\, United Kingdom
CATEGORIES:Sporting and Fitness
ATTACH;FMTTYPE=image/jpeg:https://www.hempstead-essex.org.uk/wp-content/uploads/2023/05/keepfitladies2.jpg
GEO:52.0171751;0.3796575
X-APPLE-STRUCTURED-LOCATION;VALUE=URI;X-ADDRESS=Hempstead Village Hall High Street Hempstead CB10 2PD United Kingdom;X-APPLE-RADIUS=500;X-TITLE=High Street:geo:0.3796575,52.0171751
END:VEVENT
BEGIN:VEVENT
DTSTART;TZID=Europe/London:20250402T180000
DTEND;TZID=Europe/London:20250402T193000
DTSTAMP:20260426T045315
CREATED:20230517T100011Z
LAST-MODIFIED:20230517T101231Z
UID:10000368-1743616800-1743622200@www.hempstead-essex.org.uk
SUMMARY:1st Radwinter Cubs
DESCRIPTION:
URL:https://www.hempstead-essex.org.uk/event/1st-radwinter-cubs/2025-04-02/
LOCATION:Hempstead Village Hall\, High Street\, Hempstead\, CB10 2PD\, United Kingdom
CATEGORIES:Children's Events
ATTACH;FMTTYPE=image/jpeg:https://www.hempstead-essex.org.uk/wp-content/uploads/2023/05/scouts.jpg
GEO:52.0171751;0.3796575
X-APPLE-STRUCTURED-LOCATION;VALUE=URI;X-ADDRESS=Hempstead Village Hall High Street Hempstead CB10 2PD United Kingdom;X-APPLE-RADIUS=500;X-TITLE=High Street:geo:0.3796575,52.0171751
END:VEVENT
BEGIN:VEVENT
DTSTART;TZID=Europe/London:20250401T183000
DTEND;TZID=Europe/London:20250401T193000
DTSTAMP:20260426T045315
CREATED:20230517T095548Z
LAST-MODIFIED:20230517T095832Z
UID:10000105-1743532200-1743535800@www.hempstead-essex.org.uk
SUMMARY:Ladies Keep Fit
DESCRIPTION:Hempstead Ladies Keep Fit meet in the Village Hall at 7.00pm every Tuesday under the guidance of Joy Goddard\, our qualified instructor. All ages and abilities are very welcome. We focus on general fitness and toning in a friendly and fun atmosphere. Please come along and join us.
URL:https://www.hempstead-essex.org.uk/event/ladies-keep-fit/2025-04-01/
LOCATION:Hempstead Village Hall\, High Street\, Hempstead\, CB10 2PD\, United Kingdom
CATEGORIES:Sporting and Fitness
ATTACH;FMTTYPE=image/jpeg:https://www.hempstead-essex.org.uk/wp-content/uploads/2023/05/keepfitladies2.jpg
GEO:52.0171751;0.3796575
X-APPLE-STRUCTURED-LOCATION;VALUE=URI;X-ADDRESS=Hempstead Village Hall High Street Hempstead CB10 2PD United Kingdom;X-APPLE-RADIUS=500;X-TITLE=High Street:geo:0.3796575,52.0171751
END:VEVENT
BEGIN:VEVENT
DTSTART;TZID=Europe/London:20250330T123000
DTEND;TZID=Europe/London:20250330T190000
DTSTAMP:20260426T045315
CREATED:20250214T152357Z
LAST-MODIFIED:20250214T155020Z
UID:10001399-1743337800-1743361200@www.hempstead-essex.org.uk
SUMMARY:Bluebell2 Sunday Roast Lunch
DESCRIPTION:BB2 does sunday roast
URL:https://www.hempstead-essex.org.uk/event/3330/
LOCATION:Hempstead Village Hall\, High Street\, Hempstead\, CB10 2PD\, United Kingdom
CATEGORIES:Fundraiser
ATTACH;FMTTYPE=image/jpeg:https://www.hempstead-essex.org.uk/wp-content/uploads/2025/02/roastpork.jpg
GEO:52.0171751;0.3796575
X-APPLE-STRUCTURED-LOCATION;VALUE=URI;X-ADDRESS=Hempstead Village Hall High Street Hempstead CB10 2PD United Kingdom;X-APPLE-RADIUS=500;X-TITLE=High Street:geo:0.3796575,52.0171751
END:VEVENT
BEGIN:VEVENT
DTSTART;TZID=Europe/London:20250329T100000
DTEND;TZID=Europe/London:20250329T120000
DTSTAMP:20260426T045315
CREATED:20250214T153628Z
LAST-MODIFIED:20250214T153628Z
UID:10001400-1743242400-1743249600@www.hempstead-essex.org.uk
SUMMARY:Coffee morning/plants and Easter fundraiser
DESCRIPTION:10am to 12 noon in Hempstead Village Hall for a lovely sociable coffee morning with plants and Easter items on sale including suitable gifts for Mothering Sunday. An ideal morning to get together with friends and buy some lovely plants and flowers as Spring bursts forth. Mothering Sunday is the following day so if you need something for a parent or guardian or even a grave\, then pop along and join us. Any profits will go to the hall.
URL:https://www.hempstead-essex.org.uk/event/coffee-morning-plants-and-easter-fundraiser/
LOCATION:Hempstead Village Hall\, High Street\, Hempstead\, CB10 2PD\, United Kingdom
CATEGORIES:Fundraiser
ATTACH;FMTTYPE=image/png:https://www.hempstead-essex.org.uk/wp-content/uploads/2025/02/MDay2015.png
GEO:52.0171751;0.3796575
X-APPLE-STRUCTURED-LOCATION;VALUE=URI;X-ADDRESS=Hempstead Village Hall High Street Hempstead CB10 2PD United Kingdom;X-APPLE-RADIUS=500;X-TITLE=High Street:geo:0.3796575,52.0171751
END:VEVENT
BEGIN:VEVENT
DTSTART;TZID=Europe/London:20250326T180000
DTEND;TZID=Europe/London:20250326T193000
DTSTAMP:20260426T045315
CREATED:20230517T100011Z
LAST-MODIFIED:20230517T101231Z
UID:10000367-1743012000-1743017400@www.hempstead-essex.org.uk
SUMMARY:1st Radwinter Cubs
DESCRIPTION:
URL:https://www.hempstead-essex.org.uk/event/1st-radwinter-cubs/2025-03-26/
LOCATION:Hempstead Village Hall\, High Street\, Hempstead\, CB10 2PD\, United Kingdom
CATEGORIES:Children's Events
ATTACH;FMTTYPE=image/jpeg:https://www.hempstead-essex.org.uk/wp-content/uploads/2023/05/scouts.jpg
GEO:52.0171751;0.3796575
X-APPLE-STRUCTURED-LOCATION;VALUE=URI;X-ADDRESS=Hempstead Village Hall High Street Hempstead CB10 2PD United Kingdom;X-APPLE-RADIUS=500;X-TITLE=High Street:geo:0.3796575,52.0171751
END:VEVENT
BEGIN:VEVENT
DTSTART;TZID=Europe/London:20250325T183000
DTEND;TZID=Europe/London:20250325T193000
DTSTAMP:20260426T045315
CREATED:20230517T095548Z
LAST-MODIFIED:20230517T095832Z
UID:10000104-1742927400-1742931000@www.hempstead-essex.org.uk
SUMMARY:Ladies Keep Fit
DESCRIPTION:Hempstead Ladies Keep Fit meet in the Village Hall at 7.00pm every Tuesday under the guidance of Joy Goddard\, our qualified instructor. All ages and abilities are very welcome. We focus on general fitness and toning in a friendly and fun atmosphere. Please come along and join us.
URL:https://www.hempstead-essex.org.uk/event/ladies-keep-fit/2025-03-25/
LOCATION:Hempstead Village Hall\, High Street\, Hempstead\, CB10 2PD\, United Kingdom
CATEGORIES:Sporting and Fitness
ATTACH;FMTTYPE=image/jpeg:https://www.hempstead-essex.org.uk/wp-content/uploads/2023/05/keepfitladies2.jpg
GEO:52.0171751;0.3796575
X-APPLE-STRUCTURED-LOCATION;VALUE=URI;X-ADDRESS=Hempstead Village Hall High Street Hempstead CB10 2PD United Kingdom;X-APPLE-RADIUS=500;X-TITLE=High Street:geo:0.3796575,52.0171751
END:VEVENT
BEGIN:VEVENT
DTSTART;TZID=Europe/London:20250319T180000
DTEND;TZID=Europe/London:20250319T193000
DTSTAMP:20260426T045315
CREATED:20230517T100011Z
LAST-MODIFIED:20230517T101231Z
UID:10000366-1742407200-1742412600@www.hempstead-essex.org.uk
SUMMARY:1st Radwinter Cubs
DESCRIPTION:
URL:https://www.hempstead-essex.org.uk/event/1st-radwinter-cubs/2025-03-19/
LOCATION:Hempstead Village Hall\, High Street\, Hempstead\, CB10 2PD\, United Kingdom
CATEGORIES:Children's Events
ATTACH;FMTTYPE=image/jpeg:https://www.hempstead-essex.org.uk/wp-content/uploads/2023/05/scouts.jpg
GEO:52.0171751;0.3796575
X-APPLE-STRUCTURED-LOCATION;VALUE=URI;X-ADDRESS=Hempstead Village Hall High Street Hempstead CB10 2PD United Kingdom;X-APPLE-RADIUS=500;X-TITLE=High Street:geo:0.3796575,52.0171751
END:VEVENT
BEGIN:VEVENT
DTSTART;TZID=Europe/London:20250318T183000
DTEND;TZID=Europe/London:20250318T193000
DTSTAMP:20260426T045315
CREATED:20230517T095548Z
LAST-MODIFIED:20230517T095832Z
UID:10000103-1742322600-1742326200@www.hempstead-essex.org.uk
SUMMARY:Ladies Keep Fit
DESCRIPTION:Hempstead Ladies Keep Fit meet in the Village Hall at 7.00pm every Tuesday under the guidance of Joy Goddard\, our qualified instructor. All ages and abilities are very welcome. We focus on general fitness and toning in a friendly and fun atmosphere. Please come along and join us.
URL:https://www.hempstead-essex.org.uk/event/ladies-keep-fit/2025-03-18/
LOCATION:Hempstead Village Hall\, High Street\, Hempstead\, CB10 2PD\, United Kingdom
CATEGORIES:Sporting and Fitness
ATTACH;FMTTYPE=image/jpeg:https://www.hempstead-essex.org.uk/wp-content/uploads/2023/05/keepfitladies2.jpg
GEO:52.0171751;0.3796575
X-APPLE-STRUCTURED-LOCATION;VALUE=URI;X-ADDRESS=Hempstead Village Hall High Street Hempstead CB10 2PD United Kingdom;X-APPLE-RADIUS=500;X-TITLE=High Street:geo:0.3796575,52.0171751
END:VEVENT
BEGIN:VEVENT
DTSTART;TZID=Europe/London:20250312T180000
DTEND;TZID=Europe/London:20250312T193000
DTSTAMP:20260426T045315
CREATED:20230517T100011Z
LAST-MODIFIED:20230517T101231Z
UID:10000365-1741802400-1741807800@www.hempstead-essex.org.uk
SUMMARY:1st Radwinter Cubs
DESCRIPTION:
URL:https://www.hempstead-essex.org.uk/event/1st-radwinter-cubs/2025-03-12/
LOCATION:Hempstead Village Hall\, High Street\, Hempstead\, CB10 2PD\, United Kingdom
CATEGORIES:Children's Events
ATTACH;FMTTYPE=image/jpeg:https://www.hempstead-essex.org.uk/wp-content/uploads/2023/05/scouts.jpg
GEO:52.0171751;0.3796575
X-APPLE-STRUCTURED-LOCATION;VALUE=URI;X-ADDRESS=Hempstead Village Hall High Street Hempstead CB10 2PD United Kingdom;X-APPLE-RADIUS=500;X-TITLE=High Street:geo:0.3796575,52.0171751
END:VEVENT
BEGIN:VEVENT
DTSTART;TZID=Europe/London:20250311T183000
DTEND;TZID=Europe/London:20250311T193000
DTSTAMP:20260426T045315
CREATED:20230517T095548Z
LAST-MODIFIED:20230517T095832Z
UID:10000102-1741717800-1741721400@www.hempstead-essex.org.uk
SUMMARY:Ladies Keep Fit
DESCRIPTION:Hempstead Ladies Keep Fit meet in the Village Hall at 7.00pm every Tuesday under the guidance of Joy Goddard\, our qualified instructor. All ages and abilities are very welcome. We focus on general fitness and toning in a friendly and fun atmosphere. Please come along and join us.
URL:https://www.hempstead-essex.org.uk/event/ladies-keep-fit/2025-03-11/
LOCATION:Hempstead Village Hall\, High Street\, Hempstead\, CB10 2PD\, United Kingdom
CATEGORIES:Sporting and Fitness
ATTACH;FMTTYPE=image/jpeg:https://www.hempstead-essex.org.uk/wp-content/uploads/2023/05/keepfitladies2.jpg
GEO:52.0171751;0.3796575
X-APPLE-STRUCTURED-LOCATION;VALUE=URI;X-ADDRESS=Hempstead Village Hall High Street Hempstead CB10 2PD United Kingdom;X-APPLE-RADIUS=500;X-TITLE=High Street:geo:0.3796575,52.0171751
END:VEVENT
BEGIN:VEVENT
DTSTART;TZID=Europe/London:20250305T180000
DTEND;TZID=Europe/London:20250305T193000
DTSTAMP:20260426T045315
CREATED:20230517T100011Z
LAST-MODIFIED:20230517T101231Z
UID:10000364-1741197600-1741203000@www.hempstead-essex.org.uk
SUMMARY:1st Radwinter Cubs
DESCRIPTION:
URL:https://www.hempstead-essex.org.uk/event/1st-radwinter-cubs/2025-03-05/
LOCATION:Hempstead Village Hall\, High Street\, Hempstead\, CB10 2PD\, United Kingdom
CATEGORIES:Children's Events
ATTACH;FMTTYPE=image/jpeg:https://www.hempstead-essex.org.uk/wp-content/uploads/2023/05/scouts.jpg
GEO:52.0171751;0.3796575
X-APPLE-STRUCTURED-LOCATION;VALUE=URI;X-ADDRESS=Hempstead Village Hall High Street Hempstead CB10 2PD United Kingdom;X-APPLE-RADIUS=500;X-TITLE=High Street:geo:0.3796575,52.0171751
END:VEVENT
BEGIN:VEVENT
DTSTART;TZID=Europe/London:20250304T183000
DTEND;TZID=Europe/London:20250304T193000
DTSTAMP:20260426T045315
CREATED:20230517T095548Z
LAST-MODIFIED:20230517T095832Z
UID:10000101-1741113000-1741116600@www.hempstead-essex.org.uk
SUMMARY:Ladies Keep Fit
DESCRIPTION:Hempstead Ladies Keep Fit meet in the Village Hall at 7.00pm every Tuesday under the guidance of Joy Goddard\, our qualified instructor. All ages and abilities are very welcome. We focus on general fitness and toning in a friendly and fun atmosphere. Please come along and join us.
URL:https://www.hempstead-essex.org.uk/event/ladies-keep-fit/2025-03-04/
LOCATION:Hempstead Village Hall\, High Street\, Hempstead\, CB10 2PD\, United Kingdom
CATEGORIES:Sporting and Fitness
ATTACH;FMTTYPE=image/jpeg:https://www.hempstead-essex.org.uk/wp-content/uploads/2023/05/keepfitladies2.jpg
GEO:52.0171751;0.3796575
X-APPLE-STRUCTURED-LOCATION;VALUE=URI;X-ADDRESS=Hempstead Village Hall High Street Hempstead CB10 2PD United Kingdom;X-APPLE-RADIUS=500;X-TITLE=High Street:geo:0.3796575,52.0171751
END:VEVENT
BEGIN:VEVENT
DTSTART;TZID=Europe/London:20250226T180000
DTEND;TZID=Europe/London:20250226T193000
DTSTAMP:20260426T045315
CREATED:20230517T100011Z
LAST-MODIFIED:20230517T101231Z
UID:10000363-1740592800-1740598200@www.hempstead-essex.org.uk
SUMMARY:1st Radwinter Cubs
DESCRIPTION:
URL:https://www.hempstead-essex.org.uk/event/1st-radwinter-cubs/2025-02-26/
LOCATION:Hempstead Village Hall\, High Street\, Hempstead\, CB10 2PD\, United Kingdom
CATEGORIES:Children's Events
ATTACH;FMTTYPE=image/jpeg:https://www.hempstead-essex.org.uk/wp-content/uploads/2023/05/scouts.jpg
GEO:52.0171751;0.3796575
X-APPLE-STRUCTURED-LOCATION;VALUE=URI;X-ADDRESS=Hempstead Village Hall High Street Hempstead CB10 2PD United Kingdom;X-APPLE-RADIUS=500;X-TITLE=High Street:geo:0.3796575,52.0171751
END:VEVENT
BEGIN:VEVENT
DTSTART;TZID=Europe/London:20250225T183000
DTEND;TZID=Europe/London:20250225T193000
DTSTAMP:20260426T045315
CREATED:20230517T095548Z
LAST-MODIFIED:20230517T095832Z
UID:10000100-1740508200-1740511800@www.hempstead-essex.org.uk
SUMMARY:Ladies Keep Fit
DESCRIPTION:Hempstead Ladies Keep Fit meet in the Village Hall at 7.00pm every Tuesday under the guidance of Joy Goddard\, our qualified instructor. All ages and abilities are very welcome. We focus on general fitness and toning in a friendly and fun atmosphere. Please come along and join us.
URL:https://www.hempstead-essex.org.uk/event/ladies-keep-fit/2025-02-25/
LOCATION:Hempstead Village Hall\, High Street\, Hempstead\, CB10 2PD\, United Kingdom
CATEGORIES:Sporting and Fitness
ATTACH;FMTTYPE=image/jpeg:https://www.hempstead-essex.org.uk/wp-content/uploads/2023/05/keepfitladies2.jpg
GEO:52.0171751;0.3796575
X-APPLE-STRUCTURED-LOCATION;VALUE=URI;X-ADDRESS=Hempstead Village Hall High Street Hempstead CB10 2PD United Kingdom;X-APPLE-RADIUS=500;X-TITLE=High Street:geo:0.3796575,52.0171751
END:VEVENT
BEGIN:VEVENT
DTSTART;TZID=Europe/London:20250219T180000
DTEND;TZID=Europe/London:20250219T193000
DTSTAMP:20260426T045315
CREATED:20230517T100011Z
LAST-MODIFIED:20230517T101231Z
UID:10000362-1739988000-1739993400@www.hempstead-essex.org.uk
SUMMARY:1st Radwinter Cubs
DESCRIPTION:
URL:https://www.hempstead-essex.org.uk/event/1st-radwinter-cubs/2025-02-19/
LOCATION:Hempstead Village Hall\, High Street\, Hempstead\, CB10 2PD\, United Kingdom
CATEGORIES:Children's Events
ATTACH;FMTTYPE=image/jpeg:https://www.hempstead-essex.org.uk/wp-content/uploads/2023/05/scouts.jpg
GEO:52.0171751;0.3796575
X-APPLE-STRUCTURED-LOCATION;VALUE=URI;X-ADDRESS=Hempstead Village Hall High Street Hempstead CB10 2PD United Kingdom;X-APPLE-RADIUS=500;X-TITLE=High Street:geo:0.3796575,52.0171751
END:VEVENT
BEGIN:VEVENT
DTSTART;TZID=Europe/London:20250218T183000
DTEND;TZID=Europe/London:20250218T193000
DTSTAMP:20260426T045315
CREATED:20230517T095548Z
LAST-MODIFIED:20230517T095832Z
UID:10000099-1739903400-1739907000@www.hempstead-essex.org.uk
SUMMARY:Ladies Keep Fit
DESCRIPTION:Hempstead Ladies Keep Fit meet in the Village Hall at 7.00pm every Tuesday under the guidance of Joy Goddard\, our qualified instructor. All ages and abilities are very welcome. We focus on general fitness and toning in a friendly and fun atmosphere. Please come along and join us.
URL:https://www.hempstead-essex.org.uk/event/ladies-keep-fit/2025-02-18/
LOCATION:Hempstead Village Hall\, High Street\, Hempstead\, CB10 2PD\, United Kingdom
CATEGORIES:Sporting and Fitness
ATTACH;FMTTYPE=image/jpeg:https://www.hempstead-essex.org.uk/wp-content/uploads/2023/05/keepfitladies2.jpg
GEO:52.0171751;0.3796575
X-APPLE-STRUCTURED-LOCATION;VALUE=URI;X-ADDRESS=Hempstead Village Hall High Street Hempstead CB10 2PD United Kingdom;X-APPLE-RADIUS=500;X-TITLE=High Street:geo:0.3796575,52.0171751
END:VEVENT
BEGIN:VEVENT
DTSTART;TZID=Europe/London:20250212T180000
DTEND;TZID=Europe/London:20250212T193000
DTSTAMP:20260426T045315
CREATED:20230517T100011Z
LAST-MODIFIED:20230517T101231Z
UID:10000361-1739383200-1739388600@www.hempstead-essex.org.uk
SUMMARY:1st Radwinter Cubs
DESCRIPTION:
URL:https://www.hempstead-essex.org.uk/event/1st-radwinter-cubs/2025-02-12/
LOCATION:Hempstead Village Hall\, High Street\, Hempstead\, CB10 2PD\, United Kingdom
CATEGORIES:Children's Events
ATTACH;FMTTYPE=image/jpeg:https://www.hempstead-essex.org.uk/wp-content/uploads/2023/05/scouts.jpg
GEO:52.0171751;0.3796575
X-APPLE-STRUCTURED-LOCATION;VALUE=URI;X-ADDRESS=Hempstead Village Hall High Street Hempstead CB10 2PD United Kingdom;X-APPLE-RADIUS=500;X-TITLE=High Street:geo:0.3796575,52.0171751
END:VEVENT
BEGIN:VEVENT
DTSTART;TZID=Europe/London:20250211T183000
DTEND;TZID=Europe/London:20250211T193000
DTSTAMP:20260426T045315
CREATED:20230517T095548Z
LAST-MODIFIED:20230517T095832Z
UID:10000098-1739298600-1739302200@www.hempstead-essex.org.uk
SUMMARY:Ladies Keep Fit
DESCRIPTION:Hempstead Ladies Keep Fit meet in the Village Hall at 7.00pm every Tuesday under the guidance of Joy Goddard\, our qualified instructor. All ages and abilities are very welcome. We focus on general fitness and toning in a friendly and fun atmosphere. Please come along and join us.
URL:https://www.hempstead-essex.org.uk/event/ladies-keep-fit/2025-02-11/
LOCATION:Hempstead Village Hall\, High Street\, Hempstead\, CB10 2PD\, United Kingdom
CATEGORIES:Sporting and Fitness
ATTACH;FMTTYPE=image/jpeg:https://www.hempstead-essex.org.uk/wp-content/uploads/2023/05/keepfitladies2.jpg
GEO:52.0171751;0.3796575
X-APPLE-STRUCTURED-LOCATION;VALUE=URI;X-ADDRESS=Hempstead Village Hall High Street Hempstead CB10 2PD United Kingdom;X-APPLE-RADIUS=500;X-TITLE=High Street:geo:0.3796575,52.0171751
END:VEVENT
BEGIN:VEVENT
DTSTART;TZID=Europe/London:20250205T180000
DTEND;TZID=Europe/London:20250205T193000
DTSTAMP:20260426T045315
CREATED:20230517T100011Z
LAST-MODIFIED:20230517T101231Z
UID:10000360-1738778400-1738783800@www.hempstead-essex.org.uk
SUMMARY:1st Radwinter Cubs
DESCRIPTION:
URL:https://www.hempstead-essex.org.uk/event/1st-radwinter-cubs/2025-02-05/
LOCATION:Hempstead Village Hall\, High Street\, Hempstead\, CB10 2PD\, United Kingdom
CATEGORIES:Children's Events
ATTACH;FMTTYPE=image/jpeg:https://www.hempstead-essex.org.uk/wp-content/uploads/2023/05/scouts.jpg
GEO:52.0171751;0.3796575
X-APPLE-STRUCTURED-LOCATION;VALUE=URI;X-ADDRESS=Hempstead Village Hall High Street Hempstead CB10 2PD United Kingdom;X-APPLE-RADIUS=500;X-TITLE=High Street:geo:0.3796575,52.0171751
END:VEVENT
BEGIN:VEVENT
DTSTART;TZID=Europe/London:20250204T183000
DTEND;TZID=Europe/London:20250204T193000
DTSTAMP:20260426T045315
CREATED:20230517T095548Z
LAST-MODIFIED:20230517T095832Z
UID:10000097-1738693800-1738697400@www.hempstead-essex.org.uk
SUMMARY:Ladies Keep Fit
DESCRIPTION:Hempstead Ladies Keep Fit meet in the Village Hall at 7.00pm every Tuesday under the guidance of Joy Goddard\, our qualified instructor. All ages and abilities are very welcome. We focus on general fitness and toning in a friendly and fun atmosphere. Please come along and join us.
URL:https://www.hempstead-essex.org.uk/event/ladies-keep-fit/2025-02-04/
LOCATION:Hempstead Village Hall\, High Street\, Hempstead\, CB10 2PD\, United Kingdom
CATEGORIES:Sporting and Fitness
ATTACH;FMTTYPE=image/jpeg:https://www.hempstead-essex.org.uk/wp-content/uploads/2023/05/keepfitladies2.jpg
GEO:52.0171751;0.3796575
X-APPLE-STRUCTURED-LOCATION;VALUE=URI;X-ADDRESS=Hempstead Village Hall High Street Hempstead CB10 2PD United Kingdom;X-APPLE-RADIUS=500;X-TITLE=High Street:geo:0.3796575,52.0171751
END:VEVENT
BEGIN:VEVENT
DTSTART;TZID=Europe/London:20250129T180000
DTEND;TZID=Europe/London:20250129T193000
DTSTAMP:20260426T045315
CREATED:20230517T100011Z
LAST-MODIFIED:20230517T101231Z
UID:10000359-1738173600-1738179000@www.hempstead-essex.org.uk
SUMMARY:1st Radwinter Cubs
DESCRIPTION:
URL:https://www.hempstead-essex.org.uk/event/1st-radwinter-cubs/2025-01-29/
LOCATION:Hempstead Village Hall\, High Street\, Hempstead\, CB10 2PD\, United Kingdom
CATEGORIES:Children's Events
ATTACH;FMTTYPE=image/jpeg:https://www.hempstead-essex.org.uk/wp-content/uploads/2023/05/scouts.jpg
GEO:52.0171751;0.3796575
X-APPLE-STRUCTURED-LOCATION;VALUE=URI;X-ADDRESS=Hempstead Village Hall High Street Hempstead CB10 2PD United Kingdom;X-APPLE-RADIUS=500;X-TITLE=High Street:geo:0.3796575,52.0171751
END:VEVENT
BEGIN:VEVENT
DTSTART;TZID=Europe/London:20250128T183000
DTEND;TZID=Europe/London:20250128T193000
DTSTAMP:20260426T045315
CREATED:20230517T095548Z
LAST-MODIFIED:20230517T095832Z
UID:10000096-1738089000-1738092600@www.hempstead-essex.org.uk
SUMMARY:Ladies Keep Fit
DESCRIPTION:Hempstead Ladies Keep Fit meet in the Village Hall at 7.00pm every Tuesday under the guidance of Joy Goddard\, our qualified instructor. All ages and abilities are very welcome. We focus on general fitness and toning in a friendly and fun atmosphere. Please come along and join us.
URL:https://www.hempstead-essex.org.uk/event/ladies-keep-fit/2025-01-28/
LOCATION:Hempstead Village Hall\, High Street\, Hempstead\, CB10 2PD\, United Kingdom
CATEGORIES:Sporting and Fitness
ATTACH;FMTTYPE=image/jpeg:https://www.hempstead-essex.org.uk/wp-content/uploads/2023/05/keepfitladies2.jpg
GEO:52.0171751;0.3796575
X-APPLE-STRUCTURED-LOCATION;VALUE=URI;X-ADDRESS=Hempstead Village Hall High Street Hempstead CB10 2PD United Kingdom;X-APPLE-RADIUS=500;X-TITLE=High Street:geo:0.3796575,52.0171751
END:VEVENT
BEGIN:VEVENT
DTSTART;TZID=Europe/London:20250122T180000
DTEND;TZID=Europe/London:20250122T193000
DTSTAMP:20260426T045315
CREATED:20230517T100011Z
LAST-MODIFIED:20230517T101231Z
UID:10000358-1737568800-1737574200@www.hempstead-essex.org.uk
SUMMARY:1st Radwinter Cubs
DESCRIPTION:
URL:https://www.hempstead-essex.org.uk/event/1st-radwinter-cubs/2025-01-22/
LOCATION:Hempstead Village Hall\, High Street\, Hempstead\, CB10 2PD\, United Kingdom
CATEGORIES:Children's Events
ATTACH;FMTTYPE=image/jpeg:https://www.hempstead-essex.org.uk/wp-content/uploads/2023/05/scouts.jpg
GEO:52.0171751;0.3796575
X-APPLE-STRUCTURED-LOCATION;VALUE=URI;X-ADDRESS=Hempstead Village Hall High Street Hempstead CB10 2PD United Kingdom;X-APPLE-RADIUS=500;X-TITLE=High Street:geo:0.3796575,52.0171751
END:VEVENT
BEGIN:VEVENT
DTSTART;TZID=Europe/London:20250121T183000
DTEND;TZID=Europe/London:20250121T193000
DTSTAMP:20260426T045315
CREATED:20230517T095548Z
LAST-MODIFIED:20230517T095832Z
UID:10000095-1737484200-1737487800@www.hempstead-essex.org.uk
SUMMARY:Ladies Keep Fit
DESCRIPTION:Hempstead Ladies Keep Fit meet in the Village Hall at 7.00pm every Tuesday under the guidance of Joy Goddard\, our qualified instructor. All ages and abilities are very welcome. We focus on general fitness and toning in a friendly and fun atmosphere. Please come along and join us.
URL:https://www.hempstead-essex.org.uk/event/ladies-keep-fit/2025-01-21/
LOCATION:Hempstead Village Hall\, High Street\, Hempstead\, CB10 2PD\, United Kingdom
CATEGORIES:Sporting and Fitness
ATTACH;FMTTYPE=image/jpeg:https://www.hempstead-essex.org.uk/wp-content/uploads/2023/05/keepfitladies2.jpg
GEO:52.0171751;0.3796575
X-APPLE-STRUCTURED-LOCATION;VALUE=URI;X-ADDRESS=Hempstead Village Hall High Street Hempstead CB10 2PD United Kingdom;X-APPLE-RADIUS=500;X-TITLE=High Street:geo:0.3796575,52.0171751
END:VEVENT
BEGIN:VEVENT
DTSTART;TZID=Europe/London:20250115T180000
DTEND;TZID=Europe/London:20250115T193000
DTSTAMP:20260426T045315
CREATED:20230517T100011Z
LAST-MODIFIED:20230517T101231Z
UID:10000357-1736964000-1736969400@www.hempstead-essex.org.uk
SUMMARY:1st Radwinter Cubs
DESCRIPTION:
URL:https://www.hempstead-essex.org.uk/event/1st-radwinter-cubs/2025-01-15/
LOCATION:Hempstead Village Hall\, High Street\, Hempstead\, CB10 2PD\, United Kingdom
CATEGORIES:Children's Events
ATTACH;FMTTYPE=image/jpeg:https://www.hempstead-essex.org.uk/wp-content/uploads/2023/05/scouts.jpg
GEO:52.0171751;0.3796575
X-APPLE-STRUCTURED-LOCATION;VALUE=URI;X-ADDRESS=Hempstead Village Hall High Street Hempstead CB10 2PD United Kingdom;X-APPLE-RADIUS=500;X-TITLE=High Street:geo:0.3796575,52.0171751
END:VEVENT
BEGIN:VEVENT
DTSTART;TZID=Europe/London:20250114T183000
DTEND;TZID=Europe/London:20250114T193000
DTSTAMP:20260426T045315
CREATED:20230517T095548Z
LAST-MODIFIED:20230517T095832Z
UID:10000094-1736879400-1736883000@www.hempstead-essex.org.uk
SUMMARY:Ladies Keep Fit
DESCRIPTION:Hempstead Ladies Keep Fit meet in the Village Hall at 7.00pm every Tuesday under the guidance of Joy Goddard\, our qualified instructor. All ages and abilities are very welcome. We focus on general fitness and toning in a friendly and fun atmosphere. Please come along and join us.
URL:https://www.hempstead-essex.org.uk/event/ladies-keep-fit/2025-01-14/
LOCATION:Hempstead Village Hall\, High Street\, Hempstead\, CB10 2PD\, United Kingdom
CATEGORIES:Sporting and Fitness
ATTACH;FMTTYPE=image/jpeg:https://www.hempstead-essex.org.uk/wp-content/uploads/2023/05/keepfitladies2.jpg
GEO:52.0171751;0.3796575
X-APPLE-STRUCTURED-LOCATION;VALUE=URI;X-ADDRESS=Hempstead Village Hall High Street Hempstead CB10 2PD United Kingdom;X-APPLE-RADIUS=500;X-TITLE=High Street:geo:0.3796575,52.0171751
END:VEVENT
BEGIN:VEVENT
DTSTART;TZID=Europe/London:20250108T180000
DTEND;TZID=Europe/London:20250108T193000
DTSTAMP:20260426T045315
CREATED:20230517T100011Z
LAST-MODIFIED:20230517T101231Z
UID:10000356-1736359200-1736364600@www.hempstead-essex.org.uk
SUMMARY:1st Radwinter Cubs
DESCRIPTION:
URL:https://www.hempstead-essex.org.uk/event/1st-radwinter-cubs/2025-01-08/
LOCATION:Hempstead Village Hall\, High Street\, Hempstead\, CB10 2PD\, United Kingdom
CATEGORIES:Children's Events
ATTACH;FMTTYPE=image/jpeg:https://www.hempstead-essex.org.uk/wp-content/uploads/2023/05/scouts.jpg
GEO:52.0171751;0.3796575
X-APPLE-STRUCTURED-LOCATION;VALUE=URI;X-ADDRESS=Hempstead Village Hall High Street Hempstead CB10 2PD United Kingdom;X-APPLE-RADIUS=500;X-TITLE=High Street:geo:0.3796575,52.0171751
END:VEVENT
BEGIN:VEVENT
DTSTART;TZID=Europe/London:20250107T183000
DTEND;TZID=Europe/London:20250107T193000
DTSTAMP:20260426T045315
CREATED:20230517T095548Z
LAST-MODIFIED:20230517T095832Z
UID:10000093-1736274600-1736278200@www.hempstead-essex.org.uk
SUMMARY:Ladies Keep Fit
DESCRIPTION:Hempstead Ladies Keep Fit meet in the Village Hall at 7.00pm every Tuesday under the guidance of Joy Goddard\, our qualified instructor. All ages and abilities are very welcome. We focus on general fitness and toning in a friendly and fun atmosphere. Please come along and join us.
URL:https://www.hempstead-essex.org.uk/event/ladies-keep-fit/2025-01-07/
LOCATION:Hempstead Village Hall\, High Street\, Hempstead\, CB10 2PD\, United Kingdom
CATEGORIES:Sporting and Fitness
ATTACH;FMTTYPE=image/jpeg:https://www.hempstead-essex.org.uk/wp-content/uploads/2023/05/keepfitladies2.jpg
GEO:52.0171751;0.3796575
X-APPLE-STRUCTURED-LOCATION;VALUE=URI;X-ADDRESS=Hempstead Village Hall High Street Hempstead CB10 2PD United Kingdom;X-APPLE-RADIUS=500;X-TITLE=High Street:geo:0.3796575,52.0171751
END:VEVENT
BEGIN:VEVENT
DTSTART;TZID=Europe/London:20250101T180000
DTEND;TZID=Europe/London:20250101T193000
DTSTAMP:20260426T045315
CREATED:20230517T100011Z
LAST-MODIFIED:20230517T101231Z
UID:10000355-1735754400-1735759800@www.hempstead-essex.org.uk
SUMMARY:1st Radwinter Cubs
DESCRIPTION:
URL:https://www.hempstead-essex.org.uk/event/1st-radwinter-cubs/2025-01-01/
LOCATION:Hempstead Village Hall\, High Street\, Hempstead\, CB10 2PD\, United Kingdom
CATEGORIES:Children's Events
ATTACH;FMTTYPE=image/jpeg:https://www.hempstead-essex.org.uk/wp-content/uploads/2023/05/scouts.jpg
GEO:52.0171751;0.3796575
X-APPLE-STRUCTURED-LOCATION;VALUE=URI;X-ADDRESS=Hempstead Village Hall High Street Hempstead CB10 2PD United Kingdom;X-APPLE-RADIUS=500;X-TITLE=High Street:geo:0.3796575,52.0171751
END:VEVENT
END:VCALENDAR