BEGIN:VCALENDAR
VERSION:2.0
PRODID:-//Hempstead in Essex - ECPv6.1.3//NONSGML v1.0//EN
CALSCALE:GREGORIAN
METHOD:PUBLISH
X-WR-CALNAME:Hempstead in Essex
X-ORIGINAL-URL:https://www.hempstead-essex.org.uk
X-WR-CALDESC:Events for Hempstead in Essex
REFRESH-INTERVAL;VALUE=DURATION:PT1H
X-Robots-Tag:noindex
X-PUBLISHED-TTL:PT1H
BEGIN:VTIMEZONE
TZID:Europe/London
BEGIN:DAYLIGHT
TZOFFSETFROM:+0000
TZOFFSETTO:+0100
TZNAME:BST
DTSTART:20270328T010000
END:DAYLIGHT
BEGIN:STANDARD
TZOFFSETFROM:+0100
TZOFFSETTO:+0000
TZNAME:GMT
DTSTART:20271031T010000
END:STANDARD
END:VTIMEZONE
BEGIN:VEVENT
DTSTART;TZID=Europe/London:20270714T180000
DTEND;TZID=Europe/London:20270714T193000
DTSTAMP:20260426T014447
CREATED:20230517T100011Z
LAST-MODIFIED:20230517T101231Z
UID:10000487-1815588000-1815593400@www.hempstead-essex.org.uk
SUMMARY:1st Radwinter Cubs
DESCRIPTION:
URL:https://www.hempstead-essex.org.uk/event/1st-radwinter-cubs/2027-07-14/
LOCATION:Hempstead Village Hall\, High Street\, Hempstead\, CB10 2PD\, United Kingdom
CATEGORIES:Children's Events
ATTACH;FMTTYPE=image/jpeg:https://www.hempstead-essex.org.uk/wp-content/uploads/2023/05/scouts.jpg
GEO:52.0171751;0.3796575
X-APPLE-STRUCTURED-LOCATION;VALUE=URI;X-ADDRESS=Hempstead Village Hall High Street Hempstead CB10 2PD United Kingdom;X-APPLE-RADIUS=500;X-TITLE=High Street:geo:0.3796575,52.0171751
END:VEVENT
BEGIN:VEVENT
DTSTART;TZID=Europe/London:20270720T183000
DTEND;TZID=Europe/London:20270720T193000
DTSTAMP:20260426T014447
CREATED:20230517T095548Z
LAST-MODIFIED:20230517T095832Z
UID:10000225-1816108200-1816111800@www.hempstead-essex.org.uk
SUMMARY:Ladies Keep Fit
DESCRIPTION:Hempstead Ladies Keep Fit meet in the Village Hall at 7.00pm every Tuesday under the guidance of Joy Goddard\, our qualified instructor. All ages and abilities are very welcome. We focus on general fitness and toning in a friendly and fun atmosphere. Please come along and join us.
URL:https://www.hempstead-essex.org.uk/event/ladies-keep-fit/2027-07-20/
LOCATION:Hempstead Village Hall\, High Street\, Hempstead\, CB10 2PD\, United Kingdom
CATEGORIES:Sporting and Fitness
ATTACH;FMTTYPE=image/jpeg:https://www.hempstead-essex.org.uk/wp-content/uploads/2023/05/keepfitladies2.jpg
GEO:52.0171751;0.3796575
X-APPLE-STRUCTURED-LOCATION;VALUE=URI;X-ADDRESS=Hempstead Village Hall High Street Hempstead CB10 2PD United Kingdom;X-APPLE-RADIUS=500;X-TITLE=High Street:geo:0.3796575,52.0171751
END:VEVENT
BEGIN:VEVENT
DTSTART;TZID=Europe/London:20270721T180000
DTEND;TZID=Europe/London:20270721T193000
DTSTAMP:20260426T014447
CREATED:20230517T100011Z
LAST-MODIFIED:20230517T101231Z
UID:10000488-1816192800-1816198200@www.hempstead-essex.org.uk
SUMMARY:1st Radwinter Cubs
DESCRIPTION:
URL:https://www.hempstead-essex.org.uk/event/1st-radwinter-cubs/2027-07-21/
LOCATION:Hempstead Village Hall\, High Street\, Hempstead\, CB10 2PD\, United Kingdom
CATEGORIES:Children's Events
ATTACH;FMTTYPE=image/jpeg:https://www.hempstead-essex.org.uk/wp-content/uploads/2023/05/scouts.jpg
GEO:52.0171751;0.3796575
X-APPLE-STRUCTURED-LOCATION;VALUE=URI;X-ADDRESS=Hempstead Village Hall High Street Hempstead CB10 2PD United Kingdom;X-APPLE-RADIUS=500;X-TITLE=High Street:geo:0.3796575,52.0171751
END:VEVENT
BEGIN:VEVENT
DTSTART;TZID=Europe/London:20270727T183000
DTEND;TZID=Europe/London:20270727T193000
DTSTAMP:20260426T014447
CREATED:20230517T095548Z
LAST-MODIFIED:20230517T095832Z
UID:10000226-1816713000-1816716600@www.hempstead-essex.org.uk
SUMMARY:Ladies Keep Fit
DESCRIPTION:Hempstead Ladies Keep Fit meet in the Village Hall at 7.00pm every Tuesday under the guidance of Joy Goddard\, our qualified instructor. All ages and abilities are very welcome. We focus on general fitness and toning in a friendly and fun atmosphere. Please come along and join us.
URL:https://www.hempstead-essex.org.uk/event/ladies-keep-fit/2027-07-27/
LOCATION:Hempstead Village Hall\, High Street\, Hempstead\, CB10 2PD\, United Kingdom
CATEGORIES:Sporting and Fitness
ATTACH;FMTTYPE=image/jpeg:https://www.hempstead-essex.org.uk/wp-content/uploads/2023/05/keepfitladies2.jpg
GEO:52.0171751;0.3796575
X-APPLE-STRUCTURED-LOCATION;VALUE=URI;X-ADDRESS=Hempstead Village Hall High Street Hempstead CB10 2PD United Kingdom;X-APPLE-RADIUS=500;X-TITLE=High Street:geo:0.3796575,52.0171751
END:VEVENT
BEGIN:VEVENT
DTSTART;TZID=Europe/London:20270728T180000
DTEND;TZID=Europe/London:20270728T193000
DTSTAMP:20260426T014447
CREATED:20230517T100011Z
LAST-MODIFIED:20230517T101231Z
UID:10000489-1816797600-1816803000@www.hempstead-essex.org.uk
SUMMARY:1st Radwinter Cubs
DESCRIPTION:
URL:https://www.hempstead-essex.org.uk/event/1st-radwinter-cubs/2027-07-28/
LOCATION:Hempstead Village Hall\, High Street\, Hempstead\, CB10 2PD\, United Kingdom
CATEGORIES:Children's Events
ATTACH;FMTTYPE=image/jpeg:https://www.hempstead-essex.org.uk/wp-content/uploads/2023/05/scouts.jpg
GEO:52.0171751;0.3796575
X-APPLE-STRUCTURED-LOCATION;VALUE=URI;X-ADDRESS=Hempstead Village Hall High Street Hempstead CB10 2PD United Kingdom;X-APPLE-RADIUS=500;X-TITLE=High Street:geo:0.3796575,52.0171751
END:VEVENT
BEGIN:VEVENT
DTSTART;TZID=Europe/London:20270803T183000
DTEND;TZID=Europe/London:20270803T193000
DTSTAMP:20260426T014447
CREATED:20230517T095548Z
LAST-MODIFIED:20230517T095832Z
UID:10000227-1817317800-1817321400@www.hempstead-essex.org.uk
SUMMARY:Ladies Keep Fit
DESCRIPTION:Hempstead Ladies Keep Fit meet in the Village Hall at 7.00pm every Tuesday under the guidance of Joy Goddard\, our qualified instructor. All ages and abilities are very welcome. We focus on general fitness and toning in a friendly and fun atmosphere. Please come along and join us.
URL:https://www.hempstead-essex.org.uk/event/ladies-keep-fit/2027-08-03/
LOCATION:Hempstead Village Hall\, High Street\, Hempstead\, CB10 2PD\, United Kingdom
CATEGORIES:Sporting and Fitness
ATTACH;FMTTYPE=image/jpeg:https://www.hempstead-essex.org.uk/wp-content/uploads/2023/05/keepfitladies2.jpg
GEO:52.0171751;0.3796575
X-APPLE-STRUCTURED-LOCATION;VALUE=URI;X-ADDRESS=Hempstead Village Hall High Street Hempstead CB10 2PD United Kingdom;X-APPLE-RADIUS=500;X-TITLE=High Street:geo:0.3796575,52.0171751
END:VEVENT
BEGIN:VEVENT
DTSTART;TZID=Europe/London:20270804T180000
DTEND;TZID=Europe/London:20270804T193000
DTSTAMP:20260426T014447
CREATED:20230517T100011Z
LAST-MODIFIED:20230517T101231Z
UID:10000490-1817402400-1817407800@www.hempstead-essex.org.uk
SUMMARY:1st Radwinter Cubs
DESCRIPTION:
URL:https://www.hempstead-essex.org.uk/event/1st-radwinter-cubs/2027-08-04/
LOCATION:Hempstead Village Hall\, High Street\, Hempstead\, CB10 2PD\, United Kingdom
CATEGORIES:Children's Events
ATTACH;FMTTYPE=image/jpeg:https://www.hempstead-essex.org.uk/wp-content/uploads/2023/05/scouts.jpg
GEO:52.0171751;0.3796575
X-APPLE-STRUCTURED-LOCATION;VALUE=URI;X-ADDRESS=Hempstead Village Hall High Street Hempstead CB10 2PD United Kingdom;X-APPLE-RADIUS=500;X-TITLE=High Street:geo:0.3796575,52.0171751
END:VEVENT
BEGIN:VEVENT
DTSTART;TZID=Europe/London:20270810T183000
DTEND;TZID=Europe/London:20270810T193000
DTSTAMP:20260426T014447
CREATED:20230517T095548Z
LAST-MODIFIED:20230517T095832Z
UID:10000228-1817922600-1817926200@www.hempstead-essex.org.uk
SUMMARY:Ladies Keep Fit
DESCRIPTION:Hempstead Ladies Keep Fit meet in the Village Hall at 7.00pm every Tuesday under the guidance of Joy Goddard\, our qualified instructor. All ages and abilities are very welcome. We focus on general fitness and toning in a friendly and fun atmosphere. Please come along and join us.
URL:https://www.hempstead-essex.org.uk/event/ladies-keep-fit/2027-08-10/
LOCATION:Hempstead Village Hall\, High Street\, Hempstead\, CB10 2PD\, United Kingdom
CATEGORIES:Sporting and Fitness
ATTACH;FMTTYPE=image/jpeg:https://www.hempstead-essex.org.uk/wp-content/uploads/2023/05/keepfitladies2.jpg
GEO:52.0171751;0.3796575
X-APPLE-STRUCTURED-LOCATION;VALUE=URI;X-ADDRESS=Hempstead Village Hall High Street Hempstead CB10 2PD United Kingdom;X-APPLE-RADIUS=500;X-TITLE=High Street:geo:0.3796575,52.0171751
END:VEVENT
BEGIN:VEVENT
DTSTART;TZID=Europe/London:20270811T180000
DTEND;TZID=Europe/London:20270811T193000
DTSTAMP:20260426T014447
CREATED:20230517T100011Z
LAST-MODIFIED:20230517T101231Z
UID:10000491-1818007200-1818012600@www.hempstead-essex.org.uk
SUMMARY:1st Radwinter Cubs
DESCRIPTION:
URL:https://www.hempstead-essex.org.uk/event/1st-radwinter-cubs/2027-08-11/
LOCATION:Hempstead Village Hall\, High Street\, Hempstead\, CB10 2PD\, United Kingdom
CATEGORIES:Children's Events
ATTACH;FMTTYPE=image/jpeg:https://www.hempstead-essex.org.uk/wp-content/uploads/2023/05/scouts.jpg
GEO:52.0171751;0.3796575
X-APPLE-STRUCTURED-LOCATION;VALUE=URI;X-ADDRESS=Hempstead Village Hall High Street Hempstead CB10 2PD United Kingdom;X-APPLE-RADIUS=500;X-TITLE=High Street:geo:0.3796575,52.0171751
END:VEVENT
BEGIN:VEVENT
DTSTART;TZID=Europe/London:20270817T183000
DTEND;TZID=Europe/London:20270817T193000
DTSTAMP:20260426T014447
CREATED:20230517T095548Z
LAST-MODIFIED:20230517T095832Z
UID:10000229-1818527400-1818531000@www.hempstead-essex.org.uk
SUMMARY:Ladies Keep Fit
DESCRIPTION:Hempstead Ladies Keep Fit meet in the Village Hall at 7.00pm every Tuesday under the guidance of Joy Goddard\, our qualified instructor. All ages and abilities are very welcome. We focus on general fitness and toning in a friendly and fun atmosphere. Please come along and join us.
URL:https://www.hempstead-essex.org.uk/event/ladies-keep-fit/2027-08-17/
LOCATION:Hempstead Village Hall\, High Street\, Hempstead\, CB10 2PD\, United Kingdom
CATEGORIES:Sporting and Fitness
ATTACH;FMTTYPE=image/jpeg:https://www.hempstead-essex.org.uk/wp-content/uploads/2023/05/keepfitladies2.jpg
GEO:52.0171751;0.3796575
X-APPLE-STRUCTURED-LOCATION;VALUE=URI;X-ADDRESS=Hempstead Village Hall High Street Hempstead CB10 2PD United Kingdom;X-APPLE-RADIUS=500;X-TITLE=High Street:geo:0.3796575,52.0171751
END:VEVENT
BEGIN:VEVENT
DTSTART;TZID=Europe/London:20270818T180000
DTEND;TZID=Europe/London:20270818T193000
DTSTAMP:20260426T014447
CREATED:20230517T100011Z
LAST-MODIFIED:20230517T101231Z
UID:10000492-1818612000-1818617400@www.hempstead-essex.org.uk
SUMMARY:1st Radwinter Cubs
DESCRIPTION:
URL:https://www.hempstead-essex.org.uk/event/1st-radwinter-cubs/2027-08-18/
LOCATION:Hempstead Village Hall\, High Street\, Hempstead\, CB10 2PD\, United Kingdom
CATEGORIES:Children's Events
ATTACH;FMTTYPE=image/jpeg:https://www.hempstead-essex.org.uk/wp-content/uploads/2023/05/scouts.jpg
GEO:52.0171751;0.3796575
X-APPLE-STRUCTURED-LOCATION;VALUE=URI;X-ADDRESS=Hempstead Village Hall High Street Hempstead CB10 2PD United Kingdom;X-APPLE-RADIUS=500;X-TITLE=High Street:geo:0.3796575,52.0171751
END:VEVENT
BEGIN:VEVENT
DTSTART;TZID=Europe/London:20270824T183000
DTEND;TZID=Europe/London:20270824T193000
DTSTAMP:20260426T014447
CREATED:20230517T095548Z
LAST-MODIFIED:20230517T095832Z
UID:10000230-1819132200-1819135800@www.hempstead-essex.org.uk
SUMMARY:Ladies Keep Fit
DESCRIPTION:Hempstead Ladies Keep Fit meet in the Village Hall at 7.00pm every Tuesday under the guidance of Joy Goddard\, our qualified instructor. All ages and abilities are very welcome. We focus on general fitness and toning in a friendly and fun atmosphere. Please come along and join us.
URL:https://www.hempstead-essex.org.uk/event/ladies-keep-fit/2027-08-24/
LOCATION:Hempstead Village Hall\, High Street\, Hempstead\, CB10 2PD\, United Kingdom
CATEGORIES:Sporting and Fitness
ATTACH;FMTTYPE=image/jpeg:https://www.hempstead-essex.org.uk/wp-content/uploads/2023/05/keepfitladies2.jpg
GEO:52.0171751;0.3796575
X-APPLE-STRUCTURED-LOCATION;VALUE=URI;X-ADDRESS=Hempstead Village Hall High Street Hempstead CB10 2PD United Kingdom;X-APPLE-RADIUS=500;X-TITLE=High Street:geo:0.3796575,52.0171751
END:VEVENT
BEGIN:VEVENT
DTSTART;TZID=Europe/London:20270825T180000
DTEND;TZID=Europe/London:20270825T193000
DTSTAMP:20260426T014447
CREATED:20230517T100011Z
LAST-MODIFIED:20230517T101231Z
UID:10000493-1819216800-1819222200@www.hempstead-essex.org.uk
SUMMARY:1st Radwinter Cubs
DESCRIPTION:
URL:https://www.hempstead-essex.org.uk/event/1st-radwinter-cubs/2027-08-25/
LOCATION:Hempstead Village Hall\, High Street\, Hempstead\, CB10 2PD\, United Kingdom
CATEGORIES:Children's Events
ATTACH;FMTTYPE=image/jpeg:https://www.hempstead-essex.org.uk/wp-content/uploads/2023/05/scouts.jpg
GEO:52.0171751;0.3796575
X-APPLE-STRUCTURED-LOCATION;VALUE=URI;X-ADDRESS=Hempstead Village Hall High Street Hempstead CB10 2PD United Kingdom;X-APPLE-RADIUS=500;X-TITLE=High Street:geo:0.3796575,52.0171751
END:VEVENT
BEGIN:VEVENT
DTSTART;TZID=Europe/London:20270831T183000
DTEND;TZID=Europe/London:20270831T193000
DTSTAMP:20260426T014447
CREATED:20230517T095548Z
LAST-MODIFIED:20230517T095832Z
UID:10000231-1819737000-1819740600@www.hempstead-essex.org.uk
SUMMARY:Ladies Keep Fit
DESCRIPTION:Hempstead Ladies Keep Fit meet in the Village Hall at 7.00pm every Tuesday under the guidance of Joy Goddard\, our qualified instructor. All ages and abilities are very welcome. We focus on general fitness and toning in a friendly and fun atmosphere. Please come along and join us.
URL:https://www.hempstead-essex.org.uk/event/ladies-keep-fit/2027-08-31/
LOCATION:Hempstead Village Hall\, High Street\, Hempstead\, CB10 2PD\, United Kingdom
CATEGORIES:Sporting and Fitness
ATTACH;FMTTYPE=image/jpeg:https://www.hempstead-essex.org.uk/wp-content/uploads/2023/05/keepfitladies2.jpg
GEO:52.0171751;0.3796575
X-APPLE-STRUCTURED-LOCATION;VALUE=URI;X-ADDRESS=Hempstead Village Hall High Street Hempstead CB10 2PD United Kingdom;X-APPLE-RADIUS=500;X-TITLE=High Street:geo:0.3796575,52.0171751
END:VEVENT
BEGIN:VEVENT
DTSTART;TZID=Europe/London:20270901T180000
DTEND;TZID=Europe/London:20270901T193000
DTSTAMP:20260426T014447
CREATED:20230517T100011Z
LAST-MODIFIED:20230517T101231Z
UID:10000494-1819821600-1819827000@www.hempstead-essex.org.uk
SUMMARY:1st Radwinter Cubs
DESCRIPTION:
URL:https://www.hempstead-essex.org.uk/event/1st-radwinter-cubs/2027-09-01/
LOCATION:Hempstead Village Hall\, High Street\, Hempstead\, CB10 2PD\, United Kingdom
CATEGORIES:Children's Events
ATTACH;FMTTYPE=image/jpeg:https://www.hempstead-essex.org.uk/wp-content/uploads/2023/05/scouts.jpg
GEO:52.0171751;0.3796575
X-APPLE-STRUCTURED-LOCATION;VALUE=URI;X-ADDRESS=Hempstead Village Hall High Street Hempstead CB10 2PD United Kingdom;X-APPLE-RADIUS=500;X-TITLE=High Street:geo:0.3796575,52.0171751
END:VEVENT
BEGIN:VEVENT
DTSTART;TZID=Europe/London:20270907T183000
DTEND;TZID=Europe/London:20270907T193000
DTSTAMP:20260426T014447
CREATED:20230517T095548Z
LAST-MODIFIED:20230517T095832Z
UID:10000232-1820341800-1820345400@www.hempstead-essex.org.uk
SUMMARY:Ladies Keep Fit
DESCRIPTION:Hempstead Ladies Keep Fit meet in the Village Hall at 7.00pm every Tuesday under the guidance of Joy Goddard\, our qualified instructor. All ages and abilities are very welcome. We focus on general fitness and toning in a friendly and fun atmosphere. Please come along and join us.
URL:https://www.hempstead-essex.org.uk/event/ladies-keep-fit/2027-09-07/
LOCATION:Hempstead Village Hall\, High Street\, Hempstead\, CB10 2PD\, United Kingdom
CATEGORIES:Sporting and Fitness
ATTACH;FMTTYPE=image/jpeg:https://www.hempstead-essex.org.uk/wp-content/uploads/2023/05/keepfitladies2.jpg
GEO:52.0171751;0.3796575
X-APPLE-STRUCTURED-LOCATION;VALUE=URI;X-ADDRESS=Hempstead Village Hall High Street Hempstead CB10 2PD United Kingdom;X-APPLE-RADIUS=500;X-TITLE=High Street:geo:0.3796575,52.0171751
END:VEVENT
BEGIN:VEVENT
DTSTART;TZID=Europe/London:20270908T180000
DTEND;TZID=Europe/London:20270908T193000
DTSTAMP:20260426T014447
CREATED:20230517T100011Z
LAST-MODIFIED:20230517T101231Z
UID:10000495-1820426400-1820431800@www.hempstead-essex.org.uk
SUMMARY:1st Radwinter Cubs
DESCRIPTION:
URL:https://www.hempstead-essex.org.uk/event/1st-radwinter-cubs/2027-09-08/
LOCATION:Hempstead Village Hall\, High Street\, Hempstead\, CB10 2PD\, United Kingdom
CATEGORIES:Children's Events
ATTACH;FMTTYPE=image/jpeg:https://www.hempstead-essex.org.uk/wp-content/uploads/2023/05/scouts.jpg
GEO:52.0171751;0.3796575
X-APPLE-STRUCTURED-LOCATION;VALUE=URI;X-ADDRESS=Hempstead Village Hall High Street Hempstead CB10 2PD United Kingdom;X-APPLE-RADIUS=500;X-TITLE=High Street:geo:0.3796575,52.0171751
END:VEVENT
BEGIN:VEVENT
DTSTART;TZID=Europe/London:20270914T183000
DTEND;TZID=Europe/London:20270914T193000
DTSTAMP:20260426T014447
CREATED:20230517T095548Z
LAST-MODIFIED:20230517T095832Z
UID:10000233-1820946600-1820950200@www.hempstead-essex.org.uk
SUMMARY:Ladies Keep Fit
DESCRIPTION:Hempstead Ladies Keep Fit meet in the Village Hall at 7.00pm every Tuesday under the guidance of Joy Goddard\, our qualified instructor. All ages and abilities are very welcome. We focus on general fitness and toning in a friendly and fun atmosphere. Please come along and join us.
URL:https://www.hempstead-essex.org.uk/event/ladies-keep-fit/2027-09-14/
LOCATION:Hempstead Village Hall\, High Street\, Hempstead\, CB10 2PD\, United Kingdom
CATEGORIES:Sporting and Fitness
ATTACH;FMTTYPE=image/jpeg:https://www.hempstead-essex.org.uk/wp-content/uploads/2023/05/keepfitladies2.jpg
GEO:52.0171751;0.3796575
X-APPLE-STRUCTURED-LOCATION;VALUE=URI;X-ADDRESS=Hempstead Village Hall High Street Hempstead CB10 2PD United Kingdom;X-APPLE-RADIUS=500;X-TITLE=High Street:geo:0.3796575,52.0171751
END:VEVENT
BEGIN:VEVENT
DTSTART;TZID=Europe/London:20270915T180000
DTEND;TZID=Europe/London:20270915T193000
DTSTAMP:20260426T014447
CREATED:20230517T100011Z
LAST-MODIFIED:20230517T101231Z
UID:10000496-1821031200-1821036600@www.hempstead-essex.org.uk
SUMMARY:1st Radwinter Cubs
DESCRIPTION:
URL:https://www.hempstead-essex.org.uk/event/1st-radwinter-cubs/2027-09-15/
LOCATION:Hempstead Village Hall\, High Street\, Hempstead\, CB10 2PD\, United Kingdom
CATEGORIES:Children's Events
ATTACH;FMTTYPE=image/jpeg:https://www.hempstead-essex.org.uk/wp-content/uploads/2023/05/scouts.jpg
GEO:52.0171751;0.3796575
X-APPLE-STRUCTURED-LOCATION;VALUE=URI;X-ADDRESS=Hempstead Village Hall High Street Hempstead CB10 2PD United Kingdom;X-APPLE-RADIUS=500;X-TITLE=High Street:geo:0.3796575,52.0171751
END:VEVENT
BEGIN:VEVENT
DTSTART;TZID=Europe/London:20270921T183000
DTEND;TZID=Europe/London:20270921T193000
DTSTAMP:20260426T014447
CREATED:20230517T095548Z
LAST-MODIFIED:20230517T095832Z
UID:10000234-1821551400-1821555000@www.hempstead-essex.org.uk
SUMMARY:Ladies Keep Fit
DESCRIPTION:Hempstead Ladies Keep Fit meet in the Village Hall at 7.00pm every Tuesday under the guidance of Joy Goddard\, our qualified instructor. All ages and abilities are very welcome. We focus on general fitness and toning in a friendly and fun atmosphere. Please come along and join us.
URL:https://www.hempstead-essex.org.uk/event/ladies-keep-fit/2027-09-21/
LOCATION:Hempstead Village Hall\, High Street\, Hempstead\, CB10 2PD\, United Kingdom
CATEGORIES:Sporting and Fitness
ATTACH;FMTTYPE=image/jpeg:https://www.hempstead-essex.org.uk/wp-content/uploads/2023/05/keepfitladies2.jpg
GEO:52.0171751;0.3796575
X-APPLE-STRUCTURED-LOCATION;VALUE=URI;X-ADDRESS=Hempstead Village Hall High Street Hempstead CB10 2PD United Kingdom;X-APPLE-RADIUS=500;X-TITLE=High Street:geo:0.3796575,52.0171751
END:VEVENT
BEGIN:VEVENT
DTSTART;TZID=Europe/London:20270922T180000
DTEND;TZID=Europe/London:20270922T193000
DTSTAMP:20260426T014447
CREATED:20230517T100011Z
LAST-MODIFIED:20230517T101231Z
UID:10000497-1821636000-1821641400@www.hempstead-essex.org.uk
SUMMARY:1st Radwinter Cubs
DESCRIPTION:
URL:https://www.hempstead-essex.org.uk/event/1st-radwinter-cubs/2027-09-22/
LOCATION:Hempstead Village Hall\, High Street\, Hempstead\, CB10 2PD\, United Kingdom
CATEGORIES:Children's Events
ATTACH;FMTTYPE=image/jpeg:https://www.hempstead-essex.org.uk/wp-content/uploads/2023/05/scouts.jpg
GEO:52.0171751;0.3796575
X-APPLE-STRUCTURED-LOCATION;VALUE=URI;X-ADDRESS=Hempstead Village Hall High Street Hempstead CB10 2PD United Kingdom;X-APPLE-RADIUS=500;X-TITLE=High Street:geo:0.3796575,52.0171751
END:VEVENT
BEGIN:VEVENT
DTSTART;TZID=Europe/London:20270928T183000
DTEND;TZID=Europe/London:20270928T193000
DTSTAMP:20260426T014447
CREATED:20230517T095548Z
LAST-MODIFIED:20230517T095832Z
UID:10000235-1822156200-1822159800@www.hempstead-essex.org.uk
SUMMARY:Ladies Keep Fit
DESCRIPTION:Hempstead Ladies Keep Fit meet in the Village Hall at 7.00pm every Tuesday under the guidance of Joy Goddard\, our qualified instructor. All ages and abilities are very welcome. We focus on general fitness and toning in a friendly and fun atmosphere. Please come along and join us.
URL:https://www.hempstead-essex.org.uk/event/ladies-keep-fit/2027-09-28/
LOCATION:Hempstead Village Hall\, High Street\, Hempstead\, CB10 2PD\, United Kingdom
CATEGORIES:Sporting and Fitness
ATTACH;FMTTYPE=image/jpeg:https://www.hempstead-essex.org.uk/wp-content/uploads/2023/05/keepfitladies2.jpg
GEO:52.0171751;0.3796575
X-APPLE-STRUCTURED-LOCATION;VALUE=URI;X-ADDRESS=Hempstead Village Hall High Street Hempstead CB10 2PD United Kingdom;X-APPLE-RADIUS=500;X-TITLE=High Street:geo:0.3796575,52.0171751
END:VEVENT
BEGIN:VEVENT
DTSTART;TZID=Europe/London:20270929T180000
DTEND;TZID=Europe/London:20270929T193000
DTSTAMP:20260426T014447
CREATED:20230517T100011Z
LAST-MODIFIED:20230517T101231Z
UID:10000498-1822240800-1822246200@www.hempstead-essex.org.uk
SUMMARY:1st Radwinter Cubs
DESCRIPTION:
URL:https://www.hempstead-essex.org.uk/event/1st-radwinter-cubs/2027-09-29/
LOCATION:Hempstead Village Hall\, High Street\, Hempstead\, CB10 2PD\, United Kingdom
CATEGORIES:Children's Events
ATTACH;FMTTYPE=image/jpeg:https://www.hempstead-essex.org.uk/wp-content/uploads/2023/05/scouts.jpg
GEO:52.0171751;0.3796575
X-APPLE-STRUCTURED-LOCATION;VALUE=URI;X-ADDRESS=Hempstead Village Hall High Street Hempstead CB10 2PD United Kingdom;X-APPLE-RADIUS=500;X-TITLE=High Street:geo:0.3796575,52.0171751
END:VEVENT
BEGIN:VEVENT
DTSTART;TZID=Europe/London:20271005T183000
DTEND;TZID=Europe/London:20271005T193000
DTSTAMP:20260426T014447
CREATED:20230517T095548Z
LAST-MODIFIED:20230517T095832Z
UID:10000236-1822761000-1822764600@www.hempstead-essex.org.uk
SUMMARY:Ladies Keep Fit
DESCRIPTION:Hempstead Ladies Keep Fit meet in the Village Hall at 7.00pm every Tuesday under the guidance of Joy Goddard\, our qualified instructor. All ages and abilities are very welcome. We focus on general fitness and toning in a friendly and fun atmosphere. Please come along and join us.
URL:https://www.hempstead-essex.org.uk/event/ladies-keep-fit/2027-10-05/
LOCATION:Hempstead Village Hall\, High Street\, Hempstead\, CB10 2PD\, United Kingdom
CATEGORIES:Sporting and Fitness
ATTACH;FMTTYPE=image/jpeg:https://www.hempstead-essex.org.uk/wp-content/uploads/2023/05/keepfitladies2.jpg
GEO:52.0171751;0.3796575
X-APPLE-STRUCTURED-LOCATION;VALUE=URI;X-ADDRESS=Hempstead Village Hall High Street Hempstead CB10 2PD United Kingdom;X-APPLE-RADIUS=500;X-TITLE=High Street:geo:0.3796575,52.0171751
END:VEVENT
BEGIN:VEVENT
DTSTART;TZID=Europe/London:20271006T180000
DTEND;TZID=Europe/London:20271006T193000
DTSTAMP:20260426T014447
CREATED:20230517T100011Z
LAST-MODIFIED:20230517T101231Z
UID:10000499-1822845600-1822851000@www.hempstead-essex.org.uk
SUMMARY:1st Radwinter Cubs
DESCRIPTION:
URL:https://www.hempstead-essex.org.uk/event/1st-radwinter-cubs/2027-10-06/
LOCATION:Hempstead Village Hall\, High Street\, Hempstead\, CB10 2PD\, United Kingdom
CATEGORIES:Children's Events
ATTACH;FMTTYPE=image/jpeg:https://www.hempstead-essex.org.uk/wp-content/uploads/2023/05/scouts.jpg
GEO:52.0171751;0.3796575
X-APPLE-STRUCTURED-LOCATION;VALUE=URI;X-ADDRESS=Hempstead Village Hall High Street Hempstead CB10 2PD United Kingdom;X-APPLE-RADIUS=500;X-TITLE=High Street:geo:0.3796575,52.0171751
END:VEVENT
BEGIN:VEVENT
DTSTART;TZID=Europe/London:20271012T183000
DTEND;TZID=Europe/London:20271012T193000
DTSTAMP:20260426T014447
CREATED:20230517T095548Z
LAST-MODIFIED:20230517T095832Z
UID:10000237-1823365800-1823369400@www.hempstead-essex.org.uk
SUMMARY:Ladies Keep Fit
DESCRIPTION:Hempstead Ladies Keep Fit meet in the Village Hall at 7.00pm every Tuesday under the guidance of Joy Goddard\, our qualified instructor. All ages and abilities are very welcome. We focus on general fitness and toning in a friendly and fun atmosphere. Please come along and join us.
URL:https://www.hempstead-essex.org.uk/event/ladies-keep-fit/2027-10-12/
LOCATION:Hempstead Village Hall\, High Street\, Hempstead\, CB10 2PD\, United Kingdom
CATEGORIES:Sporting and Fitness
ATTACH;FMTTYPE=image/jpeg:https://www.hempstead-essex.org.uk/wp-content/uploads/2023/05/keepfitladies2.jpg
GEO:52.0171751;0.3796575
X-APPLE-STRUCTURED-LOCATION;VALUE=URI;X-ADDRESS=Hempstead Village Hall High Street Hempstead CB10 2PD United Kingdom;X-APPLE-RADIUS=500;X-TITLE=High Street:geo:0.3796575,52.0171751
END:VEVENT
BEGIN:VEVENT
DTSTART;TZID=Europe/London:20271013T180000
DTEND;TZID=Europe/London:20271013T193000
DTSTAMP:20260426T014447
CREATED:20230517T100011Z
LAST-MODIFIED:20230517T101231Z
UID:10000500-1823450400-1823455800@www.hempstead-essex.org.uk
SUMMARY:1st Radwinter Cubs
DESCRIPTION:
URL:https://www.hempstead-essex.org.uk/event/1st-radwinter-cubs/2027-10-13/
LOCATION:Hempstead Village Hall\, High Street\, Hempstead\, CB10 2PD\, United Kingdom
CATEGORIES:Children's Events
ATTACH;FMTTYPE=image/jpeg:https://www.hempstead-essex.org.uk/wp-content/uploads/2023/05/scouts.jpg
GEO:52.0171751;0.3796575
X-APPLE-STRUCTURED-LOCATION;VALUE=URI;X-ADDRESS=Hempstead Village Hall High Street Hempstead CB10 2PD United Kingdom;X-APPLE-RADIUS=500;X-TITLE=High Street:geo:0.3796575,52.0171751
END:VEVENT
BEGIN:VEVENT
DTSTART;TZID=Europe/London:20271019T183000
DTEND;TZID=Europe/London:20271019T193000
DTSTAMP:20260426T014447
CREATED:20230517T095548Z
LAST-MODIFIED:20230517T095832Z
UID:10000238-1823970600-1823974200@www.hempstead-essex.org.uk
SUMMARY:Ladies Keep Fit
DESCRIPTION:Hempstead Ladies Keep Fit meet in the Village Hall at 7.00pm every Tuesday under the guidance of Joy Goddard\, our qualified instructor. All ages and abilities are very welcome. We focus on general fitness and toning in a friendly and fun atmosphere. Please come along and join us.
URL:https://www.hempstead-essex.org.uk/event/ladies-keep-fit/2027-10-19/
LOCATION:Hempstead Village Hall\, High Street\, Hempstead\, CB10 2PD\, United Kingdom
CATEGORIES:Sporting and Fitness
ATTACH;FMTTYPE=image/jpeg:https://www.hempstead-essex.org.uk/wp-content/uploads/2023/05/keepfitladies2.jpg
GEO:52.0171751;0.3796575
X-APPLE-STRUCTURED-LOCATION;VALUE=URI;X-ADDRESS=Hempstead Village Hall High Street Hempstead CB10 2PD United Kingdom;X-APPLE-RADIUS=500;X-TITLE=High Street:geo:0.3796575,52.0171751
END:VEVENT
BEGIN:VEVENT
DTSTART;TZID=Europe/London:20271020T180000
DTEND;TZID=Europe/London:20271020T193000
DTSTAMP:20260426T014447
CREATED:20230517T100011Z
LAST-MODIFIED:20230517T101231Z
UID:10000501-1824055200-1824060600@www.hempstead-essex.org.uk
SUMMARY:1st Radwinter Cubs
DESCRIPTION:
URL:https://www.hempstead-essex.org.uk/event/1st-radwinter-cubs/2027-10-20/
LOCATION:Hempstead Village Hall\, High Street\, Hempstead\, CB10 2PD\, United Kingdom
CATEGORIES:Children's Events
ATTACH;FMTTYPE=image/jpeg:https://www.hempstead-essex.org.uk/wp-content/uploads/2023/05/scouts.jpg
GEO:52.0171751;0.3796575
X-APPLE-STRUCTURED-LOCATION;VALUE=URI;X-ADDRESS=Hempstead Village Hall High Street Hempstead CB10 2PD United Kingdom;X-APPLE-RADIUS=500;X-TITLE=High Street:geo:0.3796575,52.0171751
END:VEVENT
BEGIN:VEVENT
DTSTART;TZID=Europe/London:20271026T183000
DTEND;TZID=Europe/London:20271026T193000
DTSTAMP:20260426T014447
CREATED:20230517T095548Z
LAST-MODIFIED:20230517T095832Z
UID:10000239-1824575400-1824579000@www.hempstead-essex.org.uk
SUMMARY:Ladies Keep Fit
DESCRIPTION:Hempstead Ladies Keep Fit meet in the Village Hall at 7.00pm every Tuesday under the guidance of Joy Goddard\, our qualified instructor. All ages and abilities are very welcome. We focus on general fitness and toning in a friendly and fun atmosphere. Please come along and join us.
URL:https://www.hempstead-essex.org.uk/event/ladies-keep-fit/2027-10-26/
LOCATION:Hempstead Village Hall\, High Street\, Hempstead\, CB10 2PD\, United Kingdom
CATEGORIES:Sporting and Fitness
ATTACH;FMTTYPE=image/jpeg:https://www.hempstead-essex.org.uk/wp-content/uploads/2023/05/keepfitladies2.jpg
GEO:52.0171751;0.3796575
X-APPLE-STRUCTURED-LOCATION;VALUE=URI;X-ADDRESS=Hempstead Village Hall High Street Hempstead CB10 2PD United Kingdom;X-APPLE-RADIUS=500;X-TITLE=High Street:geo:0.3796575,52.0171751
END:VEVENT
END:VCALENDAR