BEGIN:VCALENDAR
VERSION:2.0
PRODID:-//Hempstead in Essex - ECPv6.1.3//NONSGML v1.0//EN
CALSCALE:GREGORIAN
METHOD:PUBLISH
X-WR-CALNAME:Hempstead in Essex
X-ORIGINAL-URL:https://www.hempstead-essex.org.uk
X-WR-CALDESC:Events for Hempstead in Essex
REFRESH-INTERVAL;VALUE=DURATION:PT1H
X-Robots-Tag:noindex
X-PUBLISHED-TTL:PT1H
BEGIN:VTIMEZONE
TZID:Europe/London
BEGIN:DAYLIGHT
TZOFFSETFROM:+0000
TZOFFSETTO:+0100
TZNAME:BST
DTSTART:20250330T010000
END:DAYLIGHT
BEGIN:STANDARD
TZOFFSETFROM:+0100
TZOFFSETTO:+0000
TZNAME:GMT
DTSTART:20251026T010000
END:STANDARD
BEGIN:DAYLIGHT
TZOFFSETFROM:+0000
TZOFFSETTO:+0100
TZNAME:BST
DTSTART:20260329T010000
END:DAYLIGHT
BEGIN:STANDARD
TZOFFSETFROM:+0100
TZOFFSETTO:+0000
TZNAME:GMT
DTSTART:20261025T010000
END:STANDARD
END:VTIMEZONE
BEGIN:VEVENT
DTSTART;TZID=Europe/London:20260107T180000
DTEND;TZID=Europe/London:20260107T193000
DTSTAMP:20260425T124920
CREATED:20230517T100011Z
LAST-MODIFIED:20230517T101231Z
UID:10000408-1767808800-1767814200@www.hempstead-essex.org.uk
SUMMARY:1st Radwinter Cubs
DESCRIPTION:
URL:https://www.hempstead-essex.org.uk/event/1st-radwinter-cubs/2026-01-07/
LOCATION:Hempstead Village Hall\, High Street\, Hempstead\, CB10 2PD\, United Kingdom
CATEGORIES:Children's Events
ATTACH;FMTTYPE=image/jpeg:https://www.hempstead-essex.org.uk/wp-content/uploads/2023/05/scouts.jpg
GEO:52.0171751;0.3796575
X-APPLE-STRUCTURED-LOCATION;VALUE=URI;X-ADDRESS=Hempstead Village Hall High Street Hempstead CB10 2PD United Kingdom;X-APPLE-RADIUS=500;X-TITLE=High Street:geo:0.3796575,52.0171751
END:VEVENT
BEGIN:VEVENT
DTSTART;TZID=Europe/London:20260106T183000
DTEND;TZID=Europe/London:20260106T193000
DTSTAMP:20260425T124920
CREATED:20230517T095548Z
LAST-MODIFIED:20230517T095832Z
UID:10000145-1767724200-1767727800@www.hempstead-essex.org.uk
SUMMARY:Ladies Keep Fit
DESCRIPTION:Hempstead Ladies Keep Fit meet in the Village Hall at 7.00pm every Tuesday under the guidance of Joy Goddard\, our qualified instructor. All ages and abilities are very welcome. We focus on general fitness and toning in a friendly and fun atmosphere. Please come along and join us.
URL:https://www.hempstead-essex.org.uk/event/ladies-keep-fit/2026-01-06/
LOCATION:Hempstead Village Hall\, High Street\, Hempstead\, CB10 2PD\, United Kingdom
CATEGORIES:Sporting and Fitness
ATTACH;FMTTYPE=image/jpeg:https://www.hempstead-essex.org.uk/wp-content/uploads/2023/05/keepfitladies2.jpg
GEO:52.0171751;0.3796575
X-APPLE-STRUCTURED-LOCATION;VALUE=URI;X-ADDRESS=Hempstead Village Hall High Street Hempstead CB10 2PD United Kingdom;X-APPLE-RADIUS=500;X-TITLE=High Street:geo:0.3796575,52.0171751
END:VEVENT
BEGIN:VEVENT
DTSTART;VALUE=DATE:20260101
DTEND;VALUE=DATE:20260102
DTSTAMP:20260425T124920
CREATED:20250501T155142Z
LAST-MODIFIED:20250501T155345Z
UID:10001523-1767225600-1767311999@www.hempstead-essex.org.uk
SUMMARY:Recycling Bin Day
DESCRIPTION:
URL:https://www.hempstead-essex.org.uk/event/recycling-bin-day/2026-01-01/
ATTACH;FMTTYPE=image/jpeg:https://www.hempstead-essex.org.uk/wp-content/uploads/2025/05/IMG_3251.jpg
END:VEVENT
BEGIN:VEVENT
DTSTART;TZID=Europe/London:20251231T180000
DTEND;TZID=Europe/London:20251231T193000
DTSTAMP:20260425T124920
CREATED:20230517T100011Z
LAST-MODIFIED:20230517T101231Z
UID:10000407-1767204000-1767209400@www.hempstead-essex.org.uk
SUMMARY:1st Radwinter Cubs
DESCRIPTION:
URL:https://www.hempstead-essex.org.uk/event/1st-radwinter-cubs/2025-12-31/
LOCATION:Hempstead Village Hall\, High Street\, Hempstead\, CB10 2PD\, United Kingdom
CATEGORIES:Children's Events
ATTACH;FMTTYPE=image/jpeg:https://www.hempstead-essex.org.uk/wp-content/uploads/2023/05/scouts.jpg
GEO:52.0171751;0.3796575
X-APPLE-STRUCTURED-LOCATION;VALUE=URI;X-ADDRESS=Hempstead Village Hall High Street Hempstead CB10 2PD United Kingdom;X-APPLE-RADIUS=500;X-TITLE=High Street:geo:0.3796575,52.0171751
END:VEVENT
BEGIN:VEVENT
DTSTART;TZID=Europe/London:20251230T183000
DTEND;TZID=Europe/London:20251230T193000
DTSTAMP:20260425T124920
CREATED:20230517T095548Z
LAST-MODIFIED:20230517T095832Z
UID:10000144-1767119400-1767123000@www.hempstead-essex.org.uk
SUMMARY:Ladies Keep Fit
DESCRIPTION:Hempstead Ladies Keep Fit meet in the Village Hall at 7.00pm every Tuesday under the guidance of Joy Goddard\, our qualified instructor. All ages and abilities are very welcome. We focus on general fitness and toning in a friendly and fun atmosphere. Please come along and join us.
URL:https://www.hempstead-essex.org.uk/event/ladies-keep-fit/2025-12-30/
LOCATION:Hempstead Village Hall\, High Street\, Hempstead\, CB10 2PD\, United Kingdom
CATEGORIES:Sporting and Fitness
ATTACH;FMTTYPE=image/jpeg:https://www.hempstead-essex.org.uk/wp-content/uploads/2023/05/keepfitladies2.jpg
GEO:52.0171751;0.3796575
X-APPLE-STRUCTURED-LOCATION;VALUE=URI;X-ADDRESS=Hempstead Village Hall High Street Hempstead CB10 2PD United Kingdom;X-APPLE-RADIUS=500;X-TITLE=High Street:geo:0.3796575,52.0171751
END:VEVENT
BEGIN:VEVENT
DTSTART;TZID=Europe/London:20251224T180000
DTEND;TZID=Europe/London:20251224T193000
DTSTAMP:20260425T124920
CREATED:20230517T100011Z
LAST-MODIFIED:20230517T101231Z
UID:10000406-1766599200-1766604600@www.hempstead-essex.org.uk
SUMMARY:1st Radwinter Cubs
DESCRIPTION:
URL:https://www.hempstead-essex.org.uk/event/1st-radwinter-cubs/2025-12-24/
LOCATION:Hempstead Village Hall\, High Street\, Hempstead\, CB10 2PD\, United Kingdom
CATEGORIES:Children's Events
ATTACH;FMTTYPE=image/jpeg:https://www.hempstead-essex.org.uk/wp-content/uploads/2023/05/scouts.jpg
GEO:52.0171751;0.3796575
X-APPLE-STRUCTURED-LOCATION;VALUE=URI;X-ADDRESS=Hempstead Village Hall High Street Hempstead CB10 2PD United Kingdom;X-APPLE-RADIUS=500;X-TITLE=High Street:geo:0.3796575,52.0171751
END:VEVENT
BEGIN:VEVENT
DTSTART;TZID=Europe/London:20251223T183000
DTEND;TZID=Europe/London:20251223T193000
DTSTAMP:20260425T124920
CREATED:20230517T095548Z
LAST-MODIFIED:20230517T095832Z
UID:10000143-1766514600-1766518200@www.hempstead-essex.org.uk
SUMMARY:Ladies Keep Fit
DESCRIPTION:Hempstead Ladies Keep Fit meet in the Village Hall at 7.00pm every Tuesday under the guidance of Joy Goddard\, our qualified instructor. All ages and abilities are very welcome. We focus on general fitness and toning in a friendly and fun atmosphere. Please come along and join us.
URL:https://www.hempstead-essex.org.uk/event/ladies-keep-fit/2025-12-23/
LOCATION:Hempstead Village Hall\, High Street\, Hempstead\, CB10 2PD\, United Kingdom
CATEGORIES:Sporting and Fitness
ATTACH;FMTTYPE=image/jpeg:https://www.hempstead-essex.org.uk/wp-content/uploads/2023/05/keepfitladies2.jpg
GEO:52.0171751;0.3796575
X-APPLE-STRUCTURED-LOCATION;VALUE=URI;X-ADDRESS=Hempstead Village Hall High Street Hempstead CB10 2PD United Kingdom;X-APPLE-RADIUS=500;X-TITLE=High Street:geo:0.3796575,52.0171751
END:VEVENT
BEGIN:VEVENT
DTSTART;VALUE=DATE:20251218
DTEND;VALUE=DATE:20251219
DTSTAMP:20260425T124920
CREATED:20250501T155142Z
LAST-MODIFIED:20250501T155345Z
UID:10001522-1766016000-1766102399@www.hempstead-essex.org.uk
SUMMARY:Recycling Bin Day
DESCRIPTION:
URL:https://www.hempstead-essex.org.uk/event/recycling-bin-day/2025-12-18/
ATTACH;FMTTYPE=image/jpeg:https://www.hempstead-essex.org.uk/wp-content/uploads/2025/05/IMG_3251.jpg
END:VEVENT
BEGIN:VEVENT
DTSTART;TZID=Europe/London:20251217T180000
DTEND;TZID=Europe/London:20251217T193000
DTSTAMP:20260425T124920
CREATED:20230517T100011Z
LAST-MODIFIED:20230517T101231Z
UID:10000405-1765994400-1765999800@www.hempstead-essex.org.uk
SUMMARY:1st Radwinter Cubs
DESCRIPTION:
URL:https://www.hempstead-essex.org.uk/event/1st-radwinter-cubs/2025-12-17/
LOCATION:Hempstead Village Hall\, High Street\, Hempstead\, CB10 2PD\, United Kingdom
CATEGORIES:Children's Events
ATTACH;FMTTYPE=image/jpeg:https://www.hempstead-essex.org.uk/wp-content/uploads/2023/05/scouts.jpg
GEO:52.0171751;0.3796575
X-APPLE-STRUCTURED-LOCATION;VALUE=URI;X-ADDRESS=Hempstead Village Hall High Street Hempstead CB10 2PD United Kingdom;X-APPLE-RADIUS=500;X-TITLE=High Street:geo:0.3796575,52.0171751
END:VEVENT
BEGIN:VEVENT
DTSTART;TZID=Europe/London:20251216T183000
DTEND;TZID=Europe/London:20251216T193000
DTSTAMP:20260425T124920
CREATED:20230517T095548Z
LAST-MODIFIED:20230517T095832Z
UID:10000142-1765909800-1765913400@www.hempstead-essex.org.uk
SUMMARY:Ladies Keep Fit
DESCRIPTION:Hempstead Ladies Keep Fit meet in the Village Hall at 7.00pm every Tuesday under the guidance of Joy Goddard\, our qualified instructor. All ages and abilities are very welcome. We focus on general fitness and toning in a friendly and fun atmosphere. Please come along and join us.
URL:https://www.hempstead-essex.org.uk/event/ladies-keep-fit/2025-12-16/
LOCATION:Hempstead Village Hall\, High Street\, Hempstead\, CB10 2PD\, United Kingdom
CATEGORIES:Sporting and Fitness
ATTACH;FMTTYPE=image/jpeg:https://www.hempstead-essex.org.uk/wp-content/uploads/2023/05/keepfitladies2.jpg
GEO:52.0171751;0.3796575
X-APPLE-STRUCTURED-LOCATION;VALUE=URI;X-ADDRESS=Hempstead Village Hall High Street Hempstead CB10 2PD United Kingdom;X-APPLE-RADIUS=500;X-TITLE=High Street:geo:0.3796575,52.0171751
END:VEVENT
BEGIN:VEVENT
DTSTART;TZID=Europe/London:20251210T180000
DTEND;TZID=Europe/London:20251210T193000
DTSTAMP:20260425T124920
CREATED:20230517T100011Z
LAST-MODIFIED:20230517T101231Z
UID:10000404-1765389600-1765395000@www.hempstead-essex.org.uk
SUMMARY:1st Radwinter Cubs
DESCRIPTION:
URL:https://www.hempstead-essex.org.uk/event/1st-radwinter-cubs/2025-12-10/
LOCATION:Hempstead Village Hall\, High Street\, Hempstead\, CB10 2PD\, United Kingdom
CATEGORIES:Children's Events
ATTACH;FMTTYPE=image/jpeg:https://www.hempstead-essex.org.uk/wp-content/uploads/2023/05/scouts.jpg
GEO:52.0171751;0.3796575
X-APPLE-STRUCTURED-LOCATION;VALUE=URI;X-ADDRESS=Hempstead Village Hall High Street Hempstead CB10 2PD United Kingdom;X-APPLE-RADIUS=500;X-TITLE=High Street:geo:0.3796575,52.0171751
END:VEVENT
BEGIN:VEVENT
DTSTART;TZID=Europe/London:20251209T183000
DTEND;TZID=Europe/London:20251209T193000
DTSTAMP:20260425T124920
CREATED:20230517T095548Z
LAST-MODIFIED:20230517T095832Z
UID:10000141-1765305000-1765308600@www.hempstead-essex.org.uk
SUMMARY:Ladies Keep Fit
DESCRIPTION:Hempstead Ladies Keep Fit meet in the Village Hall at 7.00pm every Tuesday under the guidance of Joy Goddard\, our qualified instructor. All ages and abilities are very welcome. We focus on general fitness and toning in a friendly and fun atmosphere. Please come along and join us.
URL:https://www.hempstead-essex.org.uk/event/ladies-keep-fit/2025-12-09/
LOCATION:Hempstead Village Hall\, High Street\, Hempstead\, CB10 2PD\, United Kingdom
CATEGORIES:Sporting and Fitness
ATTACH;FMTTYPE=image/jpeg:https://www.hempstead-essex.org.uk/wp-content/uploads/2023/05/keepfitladies2.jpg
GEO:52.0171751;0.3796575
X-APPLE-STRUCTURED-LOCATION;VALUE=URI;X-ADDRESS=Hempstead Village Hall High Street Hempstead CB10 2PD United Kingdom;X-APPLE-RADIUS=500;X-TITLE=High Street:geo:0.3796575,52.0171751
END:VEVENT
BEGIN:VEVENT
DTSTART;VALUE=DATE:20251204
DTEND;VALUE=DATE:20251205
DTSTAMP:20260425T124920
CREATED:20250501T155142Z
LAST-MODIFIED:20250501T155345Z
UID:10001521-1764806400-1764892799@www.hempstead-essex.org.uk
SUMMARY:Recycling Bin Day
DESCRIPTION:
URL:https://www.hempstead-essex.org.uk/event/recycling-bin-day/2025-12-04/
ATTACH;FMTTYPE=image/jpeg:https://www.hempstead-essex.org.uk/wp-content/uploads/2025/05/IMG_3251.jpg
END:VEVENT
BEGIN:VEVENT
DTSTART;TZID=Europe/London:20251203T180000
DTEND;TZID=Europe/London:20251203T193000
DTSTAMP:20260425T124920
CREATED:20230517T100011Z
LAST-MODIFIED:20230517T101231Z
UID:10000403-1764784800-1764790200@www.hempstead-essex.org.uk
SUMMARY:1st Radwinter Cubs
DESCRIPTION:
URL:https://www.hempstead-essex.org.uk/event/1st-radwinter-cubs/2025-12-03/
LOCATION:Hempstead Village Hall\, High Street\, Hempstead\, CB10 2PD\, United Kingdom
CATEGORIES:Children's Events
ATTACH;FMTTYPE=image/jpeg:https://www.hempstead-essex.org.uk/wp-content/uploads/2023/05/scouts.jpg
GEO:52.0171751;0.3796575
X-APPLE-STRUCTURED-LOCATION;VALUE=URI;X-ADDRESS=Hempstead Village Hall High Street Hempstead CB10 2PD United Kingdom;X-APPLE-RADIUS=500;X-TITLE=High Street:geo:0.3796575,52.0171751
END:VEVENT
BEGIN:VEVENT
DTSTART;TZID=Europe/London:20251202T183000
DTEND;TZID=Europe/London:20251202T193000
DTSTAMP:20260425T124920
CREATED:20230517T095548Z
LAST-MODIFIED:20230517T095832Z
UID:10000140-1764700200-1764703800@www.hempstead-essex.org.uk
SUMMARY:Ladies Keep Fit
DESCRIPTION:Hempstead Ladies Keep Fit meet in the Village Hall at 7.00pm every Tuesday under the guidance of Joy Goddard\, our qualified instructor. All ages and abilities are very welcome. We focus on general fitness and toning in a friendly and fun atmosphere. Please come along and join us.
URL:https://www.hempstead-essex.org.uk/event/ladies-keep-fit/2025-12-02/
LOCATION:Hempstead Village Hall\, High Street\, Hempstead\, CB10 2PD\, United Kingdom
CATEGORIES:Sporting and Fitness
ATTACH;FMTTYPE=image/jpeg:https://www.hempstead-essex.org.uk/wp-content/uploads/2023/05/keepfitladies2.jpg
GEO:52.0171751;0.3796575
X-APPLE-STRUCTURED-LOCATION;VALUE=URI;X-ADDRESS=Hempstead Village Hall High Street Hempstead CB10 2PD United Kingdom;X-APPLE-RADIUS=500;X-TITLE=High Street:geo:0.3796575,52.0171751
END:VEVENT
BEGIN:VEVENT
DTSTART;TZID=Europe/London:20251126T180000
DTEND;TZID=Europe/London:20251126T193000
DTSTAMP:20260425T124920
CREATED:20230517T100011Z
LAST-MODIFIED:20230517T101231Z
UID:10000402-1764180000-1764185400@www.hempstead-essex.org.uk
SUMMARY:1st Radwinter Cubs
DESCRIPTION:
URL:https://www.hempstead-essex.org.uk/event/1st-radwinter-cubs/2025-11-26/
LOCATION:Hempstead Village Hall\, High Street\, Hempstead\, CB10 2PD\, United Kingdom
CATEGORIES:Children's Events
ATTACH;FMTTYPE=image/jpeg:https://www.hempstead-essex.org.uk/wp-content/uploads/2023/05/scouts.jpg
GEO:52.0171751;0.3796575
X-APPLE-STRUCTURED-LOCATION;VALUE=URI;X-ADDRESS=Hempstead Village Hall High Street Hempstead CB10 2PD United Kingdom;X-APPLE-RADIUS=500;X-TITLE=High Street:geo:0.3796575,52.0171751
END:VEVENT
BEGIN:VEVENT
DTSTART;TZID=Europe/London:20251125T183000
DTEND;TZID=Europe/London:20251125T193000
DTSTAMP:20260425T124920
CREATED:20230517T095548Z
LAST-MODIFIED:20230517T095832Z
UID:10000139-1764095400-1764099000@www.hempstead-essex.org.uk
SUMMARY:Ladies Keep Fit
DESCRIPTION:Hempstead Ladies Keep Fit meet in the Village Hall at 7.00pm every Tuesday under the guidance of Joy Goddard\, our qualified instructor. All ages and abilities are very welcome. We focus on general fitness and toning in a friendly and fun atmosphere. Please come along and join us.
URL:https://www.hempstead-essex.org.uk/event/ladies-keep-fit/2025-11-25/
LOCATION:Hempstead Village Hall\, High Street\, Hempstead\, CB10 2PD\, United Kingdom
CATEGORIES:Sporting and Fitness
ATTACH;FMTTYPE=image/jpeg:https://www.hempstead-essex.org.uk/wp-content/uploads/2023/05/keepfitladies2.jpg
GEO:52.0171751;0.3796575
X-APPLE-STRUCTURED-LOCATION;VALUE=URI;X-ADDRESS=Hempstead Village Hall High Street Hempstead CB10 2PD United Kingdom;X-APPLE-RADIUS=500;X-TITLE=High Street:geo:0.3796575,52.0171751
END:VEVENT
BEGIN:VEVENT
DTSTART;VALUE=DATE:20251120
DTEND;VALUE=DATE:20251121
DTSTAMP:20260425T124920
CREATED:20250501T155142Z
LAST-MODIFIED:20250501T155345Z
UID:10001520-1763596800-1763683199@www.hempstead-essex.org.uk
SUMMARY:Recycling Bin Day
DESCRIPTION:
URL:https://www.hempstead-essex.org.uk/event/recycling-bin-day/2025-11-20/
ATTACH;FMTTYPE=image/jpeg:https://www.hempstead-essex.org.uk/wp-content/uploads/2025/05/IMG_3251.jpg
END:VEVENT
BEGIN:VEVENT
DTSTART;TZID=Europe/London:20251119T180000
DTEND;TZID=Europe/London:20251119T193000
DTSTAMP:20260425T124920
CREATED:20230517T100011Z
LAST-MODIFIED:20230517T101231Z
UID:10000401-1763575200-1763580600@www.hempstead-essex.org.uk
SUMMARY:1st Radwinter Cubs
DESCRIPTION:
URL:https://www.hempstead-essex.org.uk/event/1st-radwinter-cubs/2025-11-19/
LOCATION:Hempstead Village Hall\, High Street\, Hempstead\, CB10 2PD\, United Kingdom
CATEGORIES:Children's Events
ATTACH;FMTTYPE=image/jpeg:https://www.hempstead-essex.org.uk/wp-content/uploads/2023/05/scouts.jpg
GEO:52.0171751;0.3796575
X-APPLE-STRUCTURED-LOCATION;VALUE=URI;X-ADDRESS=Hempstead Village Hall High Street Hempstead CB10 2PD United Kingdom;X-APPLE-RADIUS=500;X-TITLE=High Street:geo:0.3796575,52.0171751
END:VEVENT
BEGIN:VEVENT
DTSTART;TZID=Europe/London:20251118T183000
DTEND;TZID=Europe/London:20251118T193000
DTSTAMP:20260425T124920
CREATED:20230517T095548Z
LAST-MODIFIED:20230517T095832Z
UID:10000138-1763490600-1763494200@www.hempstead-essex.org.uk
SUMMARY:Ladies Keep Fit
DESCRIPTION:Hempstead Ladies Keep Fit meet in the Village Hall at 7.00pm every Tuesday under the guidance of Joy Goddard\, our qualified instructor. All ages and abilities are very welcome. We focus on general fitness and toning in a friendly and fun atmosphere. Please come along and join us.
URL:https://www.hempstead-essex.org.uk/event/ladies-keep-fit/2025-11-18/
LOCATION:Hempstead Village Hall\, High Street\, Hempstead\, CB10 2PD\, United Kingdom
CATEGORIES:Sporting and Fitness
ATTACH;FMTTYPE=image/jpeg:https://www.hempstead-essex.org.uk/wp-content/uploads/2023/05/keepfitladies2.jpg
GEO:52.0171751;0.3796575
X-APPLE-STRUCTURED-LOCATION;VALUE=URI;X-ADDRESS=Hempstead Village Hall High Street Hempstead CB10 2PD United Kingdom;X-APPLE-RADIUS=500;X-TITLE=High Street:geo:0.3796575,52.0171751
END:VEVENT
BEGIN:VEVENT
DTSTART;TZID=Europe/London:20251112T180000
DTEND;TZID=Europe/London:20251112T193000
DTSTAMP:20260425T124920
CREATED:20230517T100011Z
LAST-MODIFIED:20230517T101231Z
UID:10000400-1762970400-1762975800@www.hempstead-essex.org.uk
SUMMARY:1st Radwinter Cubs
DESCRIPTION:
URL:https://www.hempstead-essex.org.uk/event/1st-radwinter-cubs/2025-11-12/
LOCATION:Hempstead Village Hall\, High Street\, Hempstead\, CB10 2PD\, United Kingdom
CATEGORIES:Children's Events
ATTACH;FMTTYPE=image/jpeg:https://www.hempstead-essex.org.uk/wp-content/uploads/2023/05/scouts.jpg
GEO:52.0171751;0.3796575
X-APPLE-STRUCTURED-LOCATION;VALUE=URI;X-ADDRESS=Hempstead Village Hall High Street Hempstead CB10 2PD United Kingdom;X-APPLE-RADIUS=500;X-TITLE=High Street:geo:0.3796575,52.0171751
END:VEVENT
BEGIN:VEVENT
DTSTART;TZID=Europe/London:20251111T183000
DTEND;TZID=Europe/London:20251111T193000
DTSTAMP:20260425T124920
CREATED:20230517T095548Z
LAST-MODIFIED:20230517T095832Z
UID:10000137-1762885800-1762889400@www.hempstead-essex.org.uk
SUMMARY:Ladies Keep Fit
DESCRIPTION:Hempstead Ladies Keep Fit meet in the Village Hall at 7.00pm every Tuesday under the guidance of Joy Goddard\, our qualified instructor. All ages and abilities are very welcome. We focus on general fitness and toning in a friendly and fun atmosphere. Please come along and join us.
URL:https://www.hempstead-essex.org.uk/event/ladies-keep-fit/2025-11-11/
LOCATION:Hempstead Village Hall\, High Street\, Hempstead\, CB10 2PD\, United Kingdom
CATEGORIES:Sporting and Fitness
ATTACH;FMTTYPE=image/jpeg:https://www.hempstead-essex.org.uk/wp-content/uploads/2023/05/keepfitladies2.jpg
GEO:52.0171751;0.3796575
X-APPLE-STRUCTURED-LOCATION;VALUE=URI;X-ADDRESS=Hempstead Village Hall High Street Hempstead CB10 2PD United Kingdom;X-APPLE-RADIUS=500;X-TITLE=High Street:geo:0.3796575,52.0171751
END:VEVENT
BEGIN:VEVENT
DTSTART;VALUE=DATE:20251106
DTEND;VALUE=DATE:20251107
DTSTAMP:20260425T124920
CREATED:20250501T155142Z
LAST-MODIFIED:20250501T155345Z
UID:10001519-1762387200-1762473599@www.hempstead-essex.org.uk
SUMMARY:Recycling Bin Day
DESCRIPTION:
URL:https://www.hempstead-essex.org.uk/event/recycling-bin-day/2025-11-06/
ATTACH;FMTTYPE=image/jpeg:https://www.hempstead-essex.org.uk/wp-content/uploads/2025/05/IMG_3251.jpg
END:VEVENT
BEGIN:VEVENT
DTSTART;TZID=Europe/London:20251105T180000
DTEND;TZID=Europe/London:20251105T193000
DTSTAMP:20260425T124920
CREATED:20230517T100011Z
LAST-MODIFIED:20230517T101231Z
UID:10000399-1762365600-1762371000@www.hempstead-essex.org.uk
SUMMARY:1st Radwinter Cubs
DESCRIPTION:
URL:https://www.hempstead-essex.org.uk/event/1st-radwinter-cubs/2025-11-05/
LOCATION:Hempstead Village Hall\, High Street\, Hempstead\, CB10 2PD\, United Kingdom
CATEGORIES:Children's Events
ATTACH;FMTTYPE=image/jpeg:https://www.hempstead-essex.org.uk/wp-content/uploads/2023/05/scouts.jpg
GEO:52.0171751;0.3796575
X-APPLE-STRUCTURED-LOCATION;VALUE=URI;X-ADDRESS=Hempstead Village Hall High Street Hempstead CB10 2PD United Kingdom;X-APPLE-RADIUS=500;X-TITLE=High Street:geo:0.3796575,52.0171751
END:VEVENT
BEGIN:VEVENT
DTSTART;TZID=Europe/London:20251104T183000
DTEND;TZID=Europe/London:20251104T193000
DTSTAMP:20260425T124920
CREATED:20230517T095548Z
LAST-MODIFIED:20230517T095832Z
UID:10000136-1762281000-1762284600@www.hempstead-essex.org.uk
SUMMARY:Ladies Keep Fit
DESCRIPTION:Hempstead Ladies Keep Fit meet in the Village Hall at 7.00pm every Tuesday under the guidance of Joy Goddard\, our qualified instructor. All ages and abilities are very welcome. We focus on general fitness and toning in a friendly and fun atmosphere. Please come along and join us.
URL:https://www.hempstead-essex.org.uk/event/ladies-keep-fit/2025-11-04/
LOCATION:Hempstead Village Hall\, High Street\, Hempstead\, CB10 2PD\, United Kingdom
CATEGORIES:Sporting and Fitness
ATTACH;FMTTYPE=image/jpeg:https://www.hempstead-essex.org.uk/wp-content/uploads/2023/05/keepfitladies2.jpg
GEO:52.0171751;0.3796575
X-APPLE-STRUCTURED-LOCATION;VALUE=URI;X-ADDRESS=Hempstead Village Hall High Street Hempstead CB10 2PD United Kingdom;X-APPLE-RADIUS=500;X-TITLE=High Street:geo:0.3796575,52.0171751
END:VEVENT
BEGIN:VEVENT
DTSTART;VALUE=DATE:20251030
DTEND;VALUE=DATE:20251031
DTSTAMP:20260425T124920
CREATED:20251106T204605Z
LAST-MODIFIED:20251106T204606Z
UID:10001529-1761782400-1761868799@www.hempstead-essex.org.uk
SUMMARY:Black Bin Day
DESCRIPTION:
URL:https://www.hempstead-essex.org.uk/event/black-bin-day-2/
CATEGORIES:Recycling
ATTACH;FMTTYPE=image/png:https://www.hempstead-essex.org.uk/wp-content/uploads/2023/05/blackbin.png
END:VEVENT
BEGIN:VEVENT
DTSTART;TZID=Europe/London:20251029T180000
DTEND;TZID=Europe/London:20251029T193000
DTSTAMP:20260425T124920
CREATED:20230517T100011Z
LAST-MODIFIED:20230517T101231Z
UID:10000398-1761760800-1761766200@www.hempstead-essex.org.uk
SUMMARY:1st Radwinter Cubs
DESCRIPTION:
URL:https://www.hempstead-essex.org.uk/event/1st-radwinter-cubs/2025-10-29/
LOCATION:Hempstead Village Hall\, High Street\, Hempstead\, CB10 2PD\, United Kingdom
CATEGORIES:Children's Events
ATTACH;FMTTYPE=image/jpeg:https://www.hempstead-essex.org.uk/wp-content/uploads/2023/05/scouts.jpg
GEO:52.0171751;0.3796575
X-APPLE-STRUCTURED-LOCATION;VALUE=URI;X-ADDRESS=Hempstead Village Hall High Street Hempstead CB10 2PD United Kingdom;X-APPLE-RADIUS=500;X-TITLE=High Street:geo:0.3796575,52.0171751
END:VEVENT
BEGIN:VEVENT
DTSTART;TZID=Europe/London:20251028T183000
DTEND;TZID=Europe/London:20251028T193000
DTSTAMP:20260425T124920
CREATED:20230517T095548Z
LAST-MODIFIED:20230517T095832Z
UID:10000135-1761676200-1761679800@www.hempstead-essex.org.uk
SUMMARY:Ladies Keep Fit
DESCRIPTION:Hempstead Ladies Keep Fit meet in the Village Hall at 7.00pm every Tuesday under the guidance of Joy Goddard\, our qualified instructor. All ages and abilities are very welcome. We focus on general fitness and toning in a friendly and fun atmosphere. Please come along and join us.
URL:https://www.hempstead-essex.org.uk/event/ladies-keep-fit/2025-10-28/
LOCATION:Hempstead Village Hall\, High Street\, Hempstead\, CB10 2PD\, United Kingdom
CATEGORIES:Sporting and Fitness
ATTACH;FMTTYPE=image/jpeg:https://www.hempstead-essex.org.uk/wp-content/uploads/2023/05/keepfitladies2.jpg
GEO:52.0171751;0.3796575
X-APPLE-STRUCTURED-LOCATION;VALUE=URI;X-ADDRESS=Hempstead Village Hall High Street Hempstead CB10 2PD United Kingdom;X-APPLE-RADIUS=500;X-TITLE=High Street:geo:0.3796575,52.0171751
END:VEVENT
BEGIN:VEVENT
DTSTART;VALUE=DATE:20251023
DTEND;VALUE=DATE:20251024
DTSTAMP:20260425T124920
CREATED:20250501T155142Z
LAST-MODIFIED:20250501T155345Z
UID:10001518-1761177600-1761263999@www.hempstead-essex.org.uk
SUMMARY:Recycling Bin Day
DESCRIPTION:
URL:https://www.hempstead-essex.org.uk/event/recycling-bin-day/2025-10-23/
ATTACH;FMTTYPE=image/jpeg:https://www.hempstead-essex.org.uk/wp-content/uploads/2025/05/IMG_3251.jpg
END:VEVENT
BEGIN:VEVENT
DTSTART;TZID=Europe/London:20251022T180000
DTEND;TZID=Europe/London:20251022T193000
DTSTAMP:20260425T124920
CREATED:20230517T100011Z
LAST-MODIFIED:20230517T101231Z
UID:10000397-1761156000-1761161400@www.hempstead-essex.org.uk
SUMMARY:1st Radwinter Cubs
DESCRIPTION:
URL:https://www.hempstead-essex.org.uk/event/1st-radwinter-cubs/2025-10-22/
LOCATION:Hempstead Village Hall\, High Street\, Hempstead\, CB10 2PD\, United Kingdom
CATEGORIES:Children's Events
ATTACH;FMTTYPE=image/jpeg:https://www.hempstead-essex.org.uk/wp-content/uploads/2023/05/scouts.jpg
GEO:52.0171751;0.3796575
X-APPLE-STRUCTURED-LOCATION;VALUE=URI;X-ADDRESS=Hempstead Village Hall High Street Hempstead CB10 2PD United Kingdom;X-APPLE-RADIUS=500;X-TITLE=High Street:geo:0.3796575,52.0171751
END:VEVENT
END:VCALENDAR