BEGIN:VCALENDAR
VERSION:2.0
PRODID:-//Hempstead in Essex - ECPv6.1.3//NONSGML v1.0//EN
CALSCALE:GREGORIAN
METHOD:PUBLISH
X-ORIGINAL-URL:https://www.hempstead-essex.org.uk
X-WR-CALDESC:Events for Hempstead in Essex
REFRESH-INTERVAL;VALUE=DURATION:PT1H
X-Robots-Tag:noindex
X-PUBLISHED-TTL:PT1H
BEGIN:VTIMEZONE
TZID:Europe/London
BEGIN:DAYLIGHT
TZOFFSETFROM:+0000
TZOFFSETTO:+0100
TZNAME:BST
DTSTART:20260329T010000
END:DAYLIGHT
BEGIN:STANDARD
TZOFFSETFROM:+0100
TZOFFSETTO:+0000
TZNAME:GMT
DTSTART:20261025T010000
END:STANDARD
END:VTIMEZONE
BEGIN:VEVENT
DTSTART;TZID=Europe/London:20260526T183000
DTEND;TZID=Europe/London:20260526T193000
DTSTAMP:20260425T160812
CREATED:20230517T095548Z
LAST-MODIFIED:20230517T095832Z
UID:10000165-1779820200-1779823800@www.hempstead-essex.org.uk
SUMMARY:Ladies Keep Fit
DESCRIPTION:Hempstead Ladies Keep Fit meet in the Village Hall at 7.00pm every Tuesday under the guidance of Joy Goddard\, our qualified instructor. All ages and abilities are very welcome. We focus on general fitness and toning in a friendly and fun atmosphere. Please come along and join us.
URL:https://www.hempstead-essex.org.uk/event/ladies-keep-fit/2026-05-26/
LOCATION:Hempstead Village Hall\, High Street\, Hempstead\, CB10 2PD\, United Kingdom
CATEGORIES:Sporting and Fitness
ATTACH;FMTTYPE=image/jpeg:https://www.hempstead-essex.org.uk/wp-content/uploads/2023/05/keepfitladies2.jpg
GEO:52.0171751;0.3796575
X-APPLE-STRUCTURED-LOCATION;VALUE=URI;X-ADDRESS=Hempstead Village Hall High Street Hempstead CB10 2PD United Kingdom;X-APPLE-RADIUS=500;X-TITLE=High Street:geo:0.3796575,52.0171751
END:VEVENT
BEGIN:VEVENT
DTSTART;TZID=Europe/London:20260527T180000
DTEND;TZID=Europe/London:20260527T193000
DTSTAMP:20260425T160812
CREATED:20230517T100011Z
LAST-MODIFIED:20230517T101231Z
UID:10000428-1779904800-1779910200@www.hempstead-essex.org.uk
SUMMARY:1st Radwinter Cubs
DESCRIPTION:
URL:https://www.hempstead-essex.org.uk/event/1st-radwinter-cubs/2026-05-27/
LOCATION:Hempstead Village Hall\, High Street\, Hempstead\, CB10 2PD\, United Kingdom
CATEGORIES:Children's Events
ATTACH;FMTTYPE=image/jpeg:https://www.hempstead-essex.org.uk/wp-content/uploads/2023/05/scouts.jpg
GEO:52.0171751;0.3796575
X-APPLE-STRUCTURED-LOCATION;VALUE=URI;X-ADDRESS=Hempstead Village Hall High Street Hempstead CB10 2PD United Kingdom;X-APPLE-RADIUS=500;X-TITLE=High Street:geo:0.3796575,52.0171751
END:VEVENT
BEGIN:VEVENT
DTSTART;VALUE=DATE:20260528
DTEND;VALUE=DATE:20260529
DTSTAMP:20260425T160812
CREATED:20251106T204916Z
LAST-MODIFIED:20260126T120400Z
UID:10001545-1779926400-1780012799@www.hempstead-essex.org.uk
SUMMARY:Black Bin Day
DESCRIPTION:
URL:https://www.hempstead-essex.org.uk/event/black-bin-day-3/2026-05-28/
CATEGORIES:Recycling
ATTACH;FMTTYPE=image/png:https://www.hempstead-essex.org.uk/wp-content/uploads/2023/05/blackbin.png
END:VEVENT
BEGIN:VEVENT
DTSTART;TZID=Europe/London:20260602T183000
DTEND;TZID=Europe/London:20260602T193000
DTSTAMP:20260425T160812
CREATED:20230517T095548Z
LAST-MODIFIED:20230517T095832Z
UID:10000166-1780425000-1780428600@www.hempstead-essex.org.uk
SUMMARY:Ladies Keep Fit
DESCRIPTION:Hempstead Ladies Keep Fit meet in the Village Hall at 7.00pm every Tuesday under the guidance of Joy Goddard\, our qualified instructor. All ages and abilities are very welcome. We focus on general fitness and toning in a friendly and fun atmosphere. Please come along and join us.
URL:https://www.hempstead-essex.org.uk/event/ladies-keep-fit/2026-06-02/
LOCATION:Hempstead Village Hall\, High Street\, Hempstead\, CB10 2PD\, United Kingdom
CATEGORIES:Sporting and Fitness
ATTACH;FMTTYPE=image/jpeg:https://www.hempstead-essex.org.uk/wp-content/uploads/2023/05/keepfitladies2.jpg
GEO:52.0171751;0.3796575
X-APPLE-STRUCTURED-LOCATION;VALUE=URI;X-ADDRESS=Hempstead Village Hall High Street Hempstead CB10 2PD United Kingdom;X-APPLE-RADIUS=500;X-TITLE=High Street:geo:0.3796575,52.0171751
END:VEVENT
BEGIN:VEVENT
DTSTART;TZID=Europe/London:20260603T180000
DTEND;TZID=Europe/London:20260603T193000
DTSTAMP:20260425T160812
CREATED:20230517T100011Z
LAST-MODIFIED:20230517T101231Z
UID:10000429-1780509600-1780515000@www.hempstead-essex.org.uk
SUMMARY:1st Radwinter Cubs
DESCRIPTION:
URL:https://www.hempstead-essex.org.uk/event/1st-radwinter-cubs/2026-06-03/
LOCATION:Hempstead Village Hall\, High Street\, Hempstead\, CB10 2PD\, United Kingdom
CATEGORIES:Children's Events
ATTACH;FMTTYPE=image/jpeg:https://www.hempstead-essex.org.uk/wp-content/uploads/2023/05/scouts.jpg
GEO:52.0171751;0.3796575
X-APPLE-STRUCTURED-LOCATION;VALUE=URI;X-ADDRESS=Hempstead Village Hall High Street Hempstead CB10 2PD United Kingdom;X-APPLE-RADIUS=500;X-TITLE=High Street:geo:0.3796575,52.0171751
END:VEVENT
BEGIN:VEVENT
DTSTART;VALUE=DATE:20260604
DTEND;VALUE=DATE:20260605
DTSTAMP:20260425T160812
CREATED:20260126T120619Z
LAST-MODIFIED:20260126T120833Z
UID:10001568-1780531200-1780617599@www.hempstead-essex.org.uk
SUMMARY:Recycling Bin Day
DESCRIPTION:
URL:https://www.hempstead-essex.org.uk/event/recycling-bin-day-2/2026-06-04/
ATTACH;FMTTYPE=image/jpeg:https://www.hempstead-essex.org.uk/wp-content/uploads/2025/05/IMG_3251.jpg
END:VEVENT
BEGIN:VEVENT
DTSTART;TZID=Europe/London:20260609T183000
DTEND;TZID=Europe/London:20260609T193000
DTSTAMP:20260425T160812
CREATED:20230517T095548Z
LAST-MODIFIED:20230517T095832Z
UID:10000167-1781029800-1781033400@www.hempstead-essex.org.uk
SUMMARY:Ladies Keep Fit
DESCRIPTION:Hempstead Ladies Keep Fit meet in the Village Hall at 7.00pm every Tuesday under the guidance of Joy Goddard\, our qualified instructor. All ages and abilities are very welcome. We focus on general fitness and toning in a friendly and fun atmosphere. Please come along and join us.
URL:https://www.hempstead-essex.org.uk/event/ladies-keep-fit/2026-06-09/
LOCATION:Hempstead Village Hall\, High Street\, Hempstead\, CB10 2PD\, United Kingdom
CATEGORIES:Sporting and Fitness
ATTACH;FMTTYPE=image/jpeg:https://www.hempstead-essex.org.uk/wp-content/uploads/2023/05/keepfitladies2.jpg
GEO:52.0171751;0.3796575
X-APPLE-STRUCTURED-LOCATION;VALUE=URI;X-ADDRESS=Hempstead Village Hall High Street Hempstead CB10 2PD United Kingdom;X-APPLE-RADIUS=500;X-TITLE=High Street:geo:0.3796575,52.0171751
END:VEVENT
BEGIN:VEVENT
DTSTART;TZID=Europe/London:20260610T180000
DTEND;TZID=Europe/London:20260610T193000
DTSTAMP:20260425T160812
CREATED:20230517T100011Z
LAST-MODIFIED:20230517T101231Z
UID:10000430-1781114400-1781119800@www.hempstead-essex.org.uk
SUMMARY:1st Radwinter Cubs
DESCRIPTION:
URL:https://www.hempstead-essex.org.uk/event/1st-radwinter-cubs/2026-06-10/
LOCATION:Hempstead Village Hall\, High Street\, Hempstead\, CB10 2PD\, United Kingdom
CATEGORIES:Children's Events
ATTACH;FMTTYPE=image/jpeg:https://www.hempstead-essex.org.uk/wp-content/uploads/2023/05/scouts.jpg
GEO:52.0171751;0.3796575
X-APPLE-STRUCTURED-LOCATION;VALUE=URI;X-ADDRESS=Hempstead Village Hall High Street Hempstead CB10 2PD United Kingdom;X-APPLE-RADIUS=500;X-TITLE=High Street:geo:0.3796575,52.0171751
END:VEVENT
BEGIN:VEVENT
DTSTART;VALUE=DATE:20260611
DTEND;VALUE=DATE:20260612
DTSTAMP:20260425T160812
CREATED:20251106T204916Z
LAST-MODIFIED:20260126T120400Z
UID:10001546-1781136000-1781222399@www.hempstead-essex.org.uk
SUMMARY:Black Bin Day
DESCRIPTION:
URL:https://www.hempstead-essex.org.uk/event/black-bin-day-3/2026-06-11/
CATEGORIES:Recycling
ATTACH;FMTTYPE=image/png:https://www.hempstead-essex.org.uk/wp-content/uploads/2023/05/blackbin.png
END:VEVENT
BEGIN:VEVENT
DTSTART;TZID=Europe/London:20260616T183000
DTEND;TZID=Europe/London:20260616T193000
DTSTAMP:20260425T160812
CREATED:20230517T095548Z
LAST-MODIFIED:20230517T095832Z
UID:10000168-1781634600-1781638200@www.hempstead-essex.org.uk
SUMMARY:Ladies Keep Fit
DESCRIPTION:Hempstead Ladies Keep Fit meet in the Village Hall at 7.00pm every Tuesday under the guidance of Joy Goddard\, our qualified instructor. All ages and abilities are very welcome. We focus on general fitness and toning in a friendly and fun atmosphere. Please come along and join us.
URL:https://www.hempstead-essex.org.uk/event/ladies-keep-fit/2026-06-16/
LOCATION:Hempstead Village Hall\, High Street\, Hempstead\, CB10 2PD\, United Kingdom
CATEGORIES:Sporting and Fitness
ATTACH;FMTTYPE=image/jpeg:https://www.hempstead-essex.org.uk/wp-content/uploads/2023/05/keepfitladies2.jpg
GEO:52.0171751;0.3796575
X-APPLE-STRUCTURED-LOCATION;VALUE=URI;X-ADDRESS=Hempstead Village Hall High Street Hempstead CB10 2PD United Kingdom;X-APPLE-RADIUS=500;X-TITLE=High Street:geo:0.3796575,52.0171751
END:VEVENT
BEGIN:VEVENT
DTSTART;TZID=Europe/London:20260617T180000
DTEND;TZID=Europe/London:20260617T193000
DTSTAMP:20260425T160812
CREATED:20230517T100011Z
LAST-MODIFIED:20230517T101231Z
UID:10000431-1781719200-1781724600@www.hempstead-essex.org.uk
SUMMARY:1st Radwinter Cubs
DESCRIPTION:
URL:https://www.hempstead-essex.org.uk/event/1st-radwinter-cubs/2026-06-17/
LOCATION:Hempstead Village Hall\, High Street\, Hempstead\, CB10 2PD\, United Kingdom
CATEGORIES:Children's Events
ATTACH;FMTTYPE=image/jpeg:https://www.hempstead-essex.org.uk/wp-content/uploads/2023/05/scouts.jpg
GEO:52.0171751;0.3796575
X-APPLE-STRUCTURED-LOCATION;VALUE=URI;X-ADDRESS=Hempstead Village Hall High Street Hempstead CB10 2PD United Kingdom;X-APPLE-RADIUS=500;X-TITLE=High Street:geo:0.3796575,52.0171751
END:VEVENT
BEGIN:VEVENT
DTSTART;VALUE=DATE:20260618
DTEND;VALUE=DATE:20260619
DTSTAMP:20260425T160812
CREATED:20260126T120619Z
LAST-MODIFIED:20260126T120833Z
UID:10001569-1781740800-1781827199@www.hempstead-essex.org.uk
SUMMARY:Recycling Bin Day
DESCRIPTION:
URL:https://www.hempstead-essex.org.uk/event/recycling-bin-day-2/2026-06-18/
ATTACH;FMTTYPE=image/jpeg:https://www.hempstead-essex.org.uk/wp-content/uploads/2025/05/IMG_3251.jpg
END:VEVENT
BEGIN:VEVENT
DTSTART;TZID=Europe/London:20260623T183000
DTEND;TZID=Europe/London:20260623T193000
DTSTAMP:20260425T160812
CREATED:20230517T095548Z
LAST-MODIFIED:20230517T095832Z
UID:10000169-1782239400-1782243000@www.hempstead-essex.org.uk
SUMMARY:Ladies Keep Fit
DESCRIPTION:Hempstead Ladies Keep Fit meet in the Village Hall at 7.00pm every Tuesday under the guidance of Joy Goddard\, our qualified instructor. All ages and abilities are very welcome. We focus on general fitness and toning in a friendly and fun atmosphere. Please come along and join us.
URL:https://www.hempstead-essex.org.uk/event/ladies-keep-fit/2026-06-23/
LOCATION:Hempstead Village Hall\, High Street\, Hempstead\, CB10 2PD\, United Kingdom
CATEGORIES:Sporting and Fitness
ATTACH;FMTTYPE=image/jpeg:https://www.hempstead-essex.org.uk/wp-content/uploads/2023/05/keepfitladies2.jpg
GEO:52.0171751;0.3796575
X-APPLE-STRUCTURED-LOCATION;VALUE=URI;X-ADDRESS=Hempstead Village Hall High Street Hempstead CB10 2PD United Kingdom;X-APPLE-RADIUS=500;X-TITLE=High Street:geo:0.3796575,52.0171751
END:VEVENT
BEGIN:VEVENT
DTSTART;TZID=Europe/London:20260624T180000
DTEND;TZID=Europe/London:20260624T193000
DTSTAMP:20260425T160812
CREATED:20230517T100011Z
LAST-MODIFIED:20230517T101231Z
UID:10000432-1782324000-1782329400@www.hempstead-essex.org.uk
SUMMARY:1st Radwinter Cubs
DESCRIPTION:
URL:https://www.hempstead-essex.org.uk/event/1st-radwinter-cubs/2026-06-24/
LOCATION:Hempstead Village Hall\, High Street\, Hempstead\, CB10 2PD\, United Kingdom
CATEGORIES:Children's Events
ATTACH;FMTTYPE=image/jpeg:https://www.hempstead-essex.org.uk/wp-content/uploads/2023/05/scouts.jpg
GEO:52.0171751;0.3796575
X-APPLE-STRUCTURED-LOCATION;VALUE=URI;X-ADDRESS=Hempstead Village Hall High Street Hempstead CB10 2PD United Kingdom;X-APPLE-RADIUS=500;X-TITLE=High Street:geo:0.3796575,52.0171751
END:VEVENT
BEGIN:VEVENT
DTSTART;VALUE=DATE:20260625
DTEND;VALUE=DATE:20260626
DTSTAMP:20260425T160812
CREATED:20251106T204916Z
LAST-MODIFIED:20260126T120400Z
UID:10001547-1782345600-1782431999@www.hempstead-essex.org.uk
SUMMARY:Black Bin Day
DESCRIPTION:
URL:https://www.hempstead-essex.org.uk/event/black-bin-day-3/2026-06-25/
CATEGORIES:Recycling
ATTACH;FMTTYPE=image/png:https://www.hempstead-essex.org.uk/wp-content/uploads/2023/05/blackbin.png
END:VEVENT
BEGIN:VEVENT
DTSTART;TZID=Europe/London:20260630T183000
DTEND;TZID=Europe/London:20260630T193000
DTSTAMP:20260425T160812
CREATED:20230517T095548Z
LAST-MODIFIED:20230517T095832Z
UID:10000170-1782844200-1782847800@www.hempstead-essex.org.uk
SUMMARY:Ladies Keep Fit
DESCRIPTION:Hempstead Ladies Keep Fit meet in the Village Hall at 7.00pm every Tuesday under the guidance of Joy Goddard\, our qualified instructor. All ages and abilities are very welcome. We focus on general fitness and toning in a friendly and fun atmosphere. Please come along and join us.
URL:https://www.hempstead-essex.org.uk/event/ladies-keep-fit/2026-06-30/
LOCATION:Hempstead Village Hall\, High Street\, Hempstead\, CB10 2PD\, United Kingdom
CATEGORIES:Sporting and Fitness
ATTACH;FMTTYPE=image/jpeg:https://www.hempstead-essex.org.uk/wp-content/uploads/2023/05/keepfitladies2.jpg
GEO:52.0171751;0.3796575
X-APPLE-STRUCTURED-LOCATION;VALUE=URI;X-ADDRESS=Hempstead Village Hall High Street Hempstead CB10 2PD United Kingdom;X-APPLE-RADIUS=500;X-TITLE=High Street:geo:0.3796575,52.0171751
END:VEVENT
BEGIN:VEVENT
DTSTART;TZID=Europe/London:20260701T180000
DTEND;TZID=Europe/London:20260701T193000
DTSTAMP:20260425T160812
CREATED:20230517T100011Z
LAST-MODIFIED:20230517T101231Z
UID:10000433-1782928800-1782934200@www.hempstead-essex.org.uk
SUMMARY:1st Radwinter Cubs
DESCRIPTION:
URL:https://www.hempstead-essex.org.uk/event/1st-radwinter-cubs/2026-07-01/
LOCATION:Hempstead Village Hall\, High Street\, Hempstead\, CB10 2PD\, United Kingdom
CATEGORIES:Children's Events
ATTACH;FMTTYPE=image/jpeg:https://www.hempstead-essex.org.uk/wp-content/uploads/2023/05/scouts.jpg
GEO:52.0171751;0.3796575
X-APPLE-STRUCTURED-LOCATION;VALUE=URI;X-ADDRESS=Hempstead Village Hall High Street Hempstead CB10 2PD United Kingdom;X-APPLE-RADIUS=500;X-TITLE=High Street:geo:0.3796575,52.0171751
END:VEVENT
BEGIN:VEVENT
DTSTART;VALUE=DATE:20260702
DTEND;VALUE=DATE:20260703
DTSTAMP:20260425T160812
CREATED:20260126T120619Z
LAST-MODIFIED:20260126T120833Z
UID:10001570-1782950400-1783036799@www.hempstead-essex.org.uk
SUMMARY:Recycling Bin Day
DESCRIPTION:
URL:https://www.hempstead-essex.org.uk/event/recycling-bin-day-2/2026-07-02/
ATTACH;FMTTYPE=image/jpeg:https://www.hempstead-essex.org.uk/wp-content/uploads/2025/05/IMG_3251.jpg
END:VEVENT
BEGIN:VEVENT
DTSTART;TZID=Europe/London:20260707T183000
DTEND;TZID=Europe/London:20260707T193000
DTSTAMP:20260425T160812
CREATED:20230517T095548Z
LAST-MODIFIED:20230517T095832Z
UID:10000171-1783449000-1783452600@www.hempstead-essex.org.uk
SUMMARY:Ladies Keep Fit
DESCRIPTION:Hempstead Ladies Keep Fit meet in the Village Hall at 7.00pm every Tuesday under the guidance of Joy Goddard\, our qualified instructor. All ages and abilities are very welcome. We focus on general fitness and toning in a friendly and fun atmosphere. Please come along and join us.
URL:https://www.hempstead-essex.org.uk/event/ladies-keep-fit/2026-07-07/
LOCATION:Hempstead Village Hall\, High Street\, Hempstead\, CB10 2PD\, United Kingdom
CATEGORIES:Sporting and Fitness
ATTACH;FMTTYPE=image/jpeg:https://www.hempstead-essex.org.uk/wp-content/uploads/2023/05/keepfitladies2.jpg
GEO:52.0171751;0.3796575
X-APPLE-STRUCTURED-LOCATION;VALUE=URI;X-ADDRESS=Hempstead Village Hall High Street Hempstead CB10 2PD United Kingdom;X-APPLE-RADIUS=500;X-TITLE=High Street:geo:0.3796575,52.0171751
END:VEVENT
BEGIN:VEVENT
DTSTART;TZID=Europe/London:20260708T180000
DTEND;TZID=Europe/London:20260708T193000
DTSTAMP:20260425T160812
CREATED:20230517T100011Z
LAST-MODIFIED:20230517T101231Z
UID:10000434-1783533600-1783539000@www.hempstead-essex.org.uk
SUMMARY:1st Radwinter Cubs
DESCRIPTION:
URL:https://www.hempstead-essex.org.uk/event/1st-radwinter-cubs/2026-07-08/
LOCATION:Hempstead Village Hall\, High Street\, Hempstead\, CB10 2PD\, United Kingdom
CATEGORIES:Children's Events
ATTACH;FMTTYPE=image/jpeg:https://www.hempstead-essex.org.uk/wp-content/uploads/2023/05/scouts.jpg
GEO:52.0171751;0.3796575
X-APPLE-STRUCTURED-LOCATION;VALUE=URI;X-ADDRESS=Hempstead Village Hall High Street Hempstead CB10 2PD United Kingdom;X-APPLE-RADIUS=500;X-TITLE=High Street:geo:0.3796575,52.0171751
END:VEVENT
BEGIN:VEVENT
DTSTART;VALUE=DATE:20260709
DTEND;VALUE=DATE:20260710
DTSTAMP:20260425T160812
CREATED:20251106T204916Z
LAST-MODIFIED:20260126T120400Z
UID:10001548-1783555200-1783641599@www.hempstead-essex.org.uk
SUMMARY:Black Bin Day
DESCRIPTION:
URL:https://www.hempstead-essex.org.uk/event/black-bin-day-3/2026-07-09/
CATEGORIES:Recycling
ATTACH;FMTTYPE=image/png:https://www.hempstead-essex.org.uk/wp-content/uploads/2023/05/blackbin.png
END:VEVENT
BEGIN:VEVENT
DTSTART;TZID=Europe/London:20260714T183000
DTEND;TZID=Europe/London:20260714T193000
DTSTAMP:20260425T160812
CREATED:20230517T095548Z
LAST-MODIFIED:20230517T095832Z
UID:10000172-1784053800-1784057400@www.hempstead-essex.org.uk
SUMMARY:Ladies Keep Fit
DESCRIPTION:Hempstead Ladies Keep Fit meet in the Village Hall at 7.00pm every Tuesday under the guidance of Joy Goddard\, our qualified instructor. All ages and abilities are very welcome. We focus on general fitness and toning in a friendly and fun atmosphere. Please come along and join us.
URL:https://www.hempstead-essex.org.uk/event/ladies-keep-fit/2026-07-14/
LOCATION:Hempstead Village Hall\, High Street\, Hempstead\, CB10 2PD\, United Kingdom
CATEGORIES:Sporting and Fitness
ATTACH;FMTTYPE=image/jpeg:https://www.hempstead-essex.org.uk/wp-content/uploads/2023/05/keepfitladies2.jpg
GEO:52.0171751;0.3796575
X-APPLE-STRUCTURED-LOCATION;VALUE=URI;X-ADDRESS=Hempstead Village Hall High Street Hempstead CB10 2PD United Kingdom;X-APPLE-RADIUS=500;X-TITLE=High Street:geo:0.3796575,52.0171751
END:VEVENT
BEGIN:VEVENT
DTSTART;TZID=Europe/London:20260715T180000
DTEND;TZID=Europe/London:20260715T193000
DTSTAMP:20260425T160812
CREATED:20230517T100011Z
LAST-MODIFIED:20230517T101231Z
UID:10000435-1784138400-1784143800@www.hempstead-essex.org.uk
SUMMARY:1st Radwinter Cubs
DESCRIPTION:
URL:https://www.hempstead-essex.org.uk/event/1st-radwinter-cubs/2026-07-15/
LOCATION:Hempstead Village Hall\, High Street\, Hempstead\, CB10 2PD\, United Kingdom
CATEGORIES:Children's Events
ATTACH;FMTTYPE=image/jpeg:https://www.hempstead-essex.org.uk/wp-content/uploads/2023/05/scouts.jpg
GEO:52.0171751;0.3796575
X-APPLE-STRUCTURED-LOCATION;VALUE=URI;X-ADDRESS=Hempstead Village Hall High Street Hempstead CB10 2PD United Kingdom;X-APPLE-RADIUS=500;X-TITLE=High Street:geo:0.3796575,52.0171751
END:VEVENT
BEGIN:VEVENT
DTSTART;VALUE=DATE:20260716
DTEND;VALUE=DATE:20260717
DTSTAMP:20260425T160812
CREATED:20260126T120619Z
LAST-MODIFIED:20260126T120833Z
UID:10001571-1784160000-1784246399@www.hempstead-essex.org.uk
SUMMARY:Recycling Bin Day
DESCRIPTION:
URL:https://www.hempstead-essex.org.uk/event/recycling-bin-day-2/2026-07-16/
ATTACH;FMTTYPE=image/jpeg:https://www.hempstead-essex.org.uk/wp-content/uploads/2025/05/IMG_3251.jpg
END:VEVENT
BEGIN:VEVENT
DTSTART;TZID=Europe/London:20260721T183000
DTEND;TZID=Europe/London:20260721T193000
DTSTAMP:20260425T160812
CREATED:20230517T095548Z
LAST-MODIFIED:20230517T095832Z
UID:10000173-1784658600-1784662200@www.hempstead-essex.org.uk
SUMMARY:Ladies Keep Fit
DESCRIPTION:Hempstead Ladies Keep Fit meet in the Village Hall at 7.00pm every Tuesday under the guidance of Joy Goddard\, our qualified instructor. All ages and abilities are very welcome. We focus on general fitness and toning in a friendly and fun atmosphere. Please come along and join us.
URL:https://www.hempstead-essex.org.uk/event/ladies-keep-fit/2026-07-21/
LOCATION:Hempstead Village Hall\, High Street\, Hempstead\, CB10 2PD\, United Kingdom
CATEGORIES:Sporting and Fitness
ATTACH;FMTTYPE=image/jpeg:https://www.hempstead-essex.org.uk/wp-content/uploads/2023/05/keepfitladies2.jpg
GEO:52.0171751;0.3796575
X-APPLE-STRUCTURED-LOCATION;VALUE=URI;X-ADDRESS=Hempstead Village Hall High Street Hempstead CB10 2PD United Kingdom;X-APPLE-RADIUS=500;X-TITLE=High Street:geo:0.3796575,52.0171751
END:VEVENT
BEGIN:VEVENT
DTSTART;TZID=Europe/London:20260722T180000
DTEND;TZID=Europe/London:20260722T193000
DTSTAMP:20260425T160812
CREATED:20230517T100011Z
LAST-MODIFIED:20230517T101231Z
UID:10000436-1784743200-1784748600@www.hempstead-essex.org.uk
SUMMARY:1st Radwinter Cubs
DESCRIPTION:
URL:https://www.hempstead-essex.org.uk/event/1st-radwinter-cubs/2026-07-22/
LOCATION:Hempstead Village Hall\, High Street\, Hempstead\, CB10 2PD\, United Kingdom
CATEGORIES:Children's Events
ATTACH;FMTTYPE=image/jpeg:https://www.hempstead-essex.org.uk/wp-content/uploads/2023/05/scouts.jpg
GEO:52.0171751;0.3796575
X-APPLE-STRUCTURED-LOCATION;VALUE=URI;X-ADDRESS=Hempstead Village Hall High Street Hempstead CB10 2PD United Kingdom;X-APPLE-RADIUS=500;X-TITLE=High Street:geo:0.3796575,52.0171751
END:VEVENT
BEGIN:VEVENT
DTSTART;VALUE=DATE:20260723
DTEND;VALUE=DATE:20260724
DTSTAMP:20260425T160812
CREATED:20251106T204916Z
LAST-MODIFIED:20260126T120400Z
UID:10001549-1784764800-1784851199@www.hempstead-essex.org.uk
SUMMARY:Black Bin Day
DESCRIPTION:
URL:https://www.hempstead-essex.org.uk/event/black-bin-day-3/2026-07-23/
CATEGORIES:Recycling
ATTACH;FMTTYPE=image/png:https://www.hempstead-essex.org.uk/wp-content/uploads/2023/05/blackbin.png
END:VEVENT
BEGIN:VEVENT
DTSTART;TZID=Europe/London:20260728T183000
DTEND;TZID=Europe/London:20260728T193000
DTSTAMP:20260425T160812
CREATED:20230517T095548Z
LAST-MODIFIED:20230517T095832Z
UID:10000174-1785263400-1785267000@www.hempstead-essex.org.uk
SUMMARY:Ladies Keep Fit
DESCRIPTION:Hempstead Ladies Keep Fit meet in the Village Hall at 7.00pm every Tuesday under the guidance of Joy Goddard\, our qualified instructor. All ages and abilities are very welcome. We focus on general fitness and toning in a friendly and fun atmosphere. Please come along and join us.
URL:https://www.hempstead-essex.org.uk/event/ladies-keep-fit/2026-07-28/
LOCATION:Hempstead Village Hall\, High Street\, Hempstead\, CB10 2PD\, United Kingdom
CATEGORIES:Sporting and Fitness
ATTACH;FMTTYPE=image/jpeg:https://www.hempstead-essex.org.uk/wp-content/uploads/2023/05/keepfitladies2.jpg
GEO:52.0171751;0.3796575
X-APPLE-STRUCTURED-LOCATION;VALUE=URI;X-ADDRESS=Hempstead Village Hall High Street Hempstead CB10 2PD United Kingdom;X-APPLE-RADIUS=500;X-TITLE=High Street:geo:0.3796575,52.0171751
END:VEVENT
BEGIN:VEVENT
DTSTART;TZID=Europe/London:20260729T180000
DTEND;TZID=Europe/London:20260729T193000
DTSTAMP:20260425T160812
CREATED:20230517T100011Z
LAST-MODIFIED:20230517T101231Z
UID:10000437-1785348000-1785353400@www.hempstead-essex.org.uk
SUMMARY:1st Radwinter Cubs
DESCRIPTION:
URL:https://www.hempstead-essex.org.uk/event/1st-radwinter-cubs/2026-07-29/
LOCATION:Hempstead Village Hall\, High Street\, Hempstead\, CB10 2PD\, United Kingdom
CATEGORIES:Children's Events
ATTACH;FMTTYPE=image/jpeg:https://www.hempstead-essex.org.uk/wp-content/uploads/2023/05/scouts.jpg
GEO:52.0171751;0.3796575
X-APPLE-STRUCTURED-LOCATION;VALUE=URI;X-ADDRESS=Hempstead Village Hall High Street Hempstead CB10 2PD United Kingdom;X-APPLE-RADIUS=500;X-TITLE=High Street:geo:0.3796575,52.0171751
END:VEVENT
BEGIN:VEVENT
DTSTART;VALUE=DATE:20260730
DTEND;VALUE=DATE:20260731
DTSTAMP:20260425T160812
CREATED:20260126T120619Z
LAST-MODIFIED:20260126T120833Z
UID:10001572-1785369600-1785455999@www.hempstead-essex.org.uk
SUMMARY:Recycling Bin Day
DESCRIPTION:
URL:https://www.hempstead-essex.org.uk/event/recycling-bin-day-2/2026-07-30/
ATTACH;FMTTYPE=image/jpeg:https://www.hempstead-essex.org.uk/wp-content/uploads/2025/05/IMG_3251.jpg
END:VEVENT
END:VCALENDAR