BEGIN:VCALENDAR
VERSION:2.0
PRODID:-//Hempstead in Essex - ECPv6.1.3//NONSGML v1.0//EN
CALSCALE:GREGORIAN
METHOD:PUBLISH
X-WR-CALNAME:Hempstead in Essex
X-ORIGINAL-URL:https://www.hempstead-essex.org.uk
X-WR-CALDESC:Events for Hempstead in Essex
REFRESH-INTERVAL;VALUE=DURATION:PT1H
X-Robots-Tag:noindex
X-PUBLISHED-TTL:PT1H
BEGIN:VTIMEZONE
TZID:Europe/London
BEGIN:DAYLIGHT
TZOFFSETFROM:+0000
TZOFFSETTO:+0100
TZNAME:BST
DTSTART:20260329T010000
END:DAYLIGHT
BEGIN:STANDARD
TZOFFSETFROM:+0100
TZOFFSETTO:+0000
TZNAME:GMT
DTSTART:20261025T010000
END:STANDARD
END:VTIMEZONE
BEGIN:VEVENT
DTSTART;VALUE=DATE:20260430
DTEND;VALUE=DATE:20260501
DTSTAMP:20260424T230142
CREATED:20251106T204916Z
LAST-MODIFIED:20260126T120400Z
UID:10001543-1777507200-1777593599@www.hempstead-essex.org.uk
SUMMARY:Black Bin Day
DESCRIPTION:
URL:https://www.hempstead-essex.org.uk/event/black-bin-day-3/2026-04-30/
CATEGORIES:Recycling
ATTACH;FMTTYPE=image/png:https://www.hempstead-essex.org.uk/wp-content/uploads/2023/05/blackbin.png
END:VEVENT
BEGIN:VEVENT
DTSTART;VALUE=DATE:20260514
DTEND;VALUE=DATE:20260515
DTSTAMP:20260424T230142
CREATED:20251106T204916Z
LAST-MODIFIED:20260126T120400Z
UID:10001544-1778716800-1778803199@www.hempstead-essex.org.uk
SUMMARY:Black Bin Day
DESCRIPTION:
URL:https://www.hempstead-essex.org.uk/event/black-bin-day-3/2026-05-14/
CATEGORIES:Recycling
ATTACH;FMTTYPE=image/png:https://www.hempstead-essex.org.uk/wp-content/uploads/2023/05/blackbin.png
END:VEVENT
BEGIN:VEVENT
DTSTART;VALUE=DATE:20260528
DTEND;VALUE=DATE:20260529
DTSTAMP:20260424T230142
CREATED:20251106T204916Z
LAST-MODIFIED:20260126T120400Z
UID:10001545-1779926400-1780012799@www.hempstead-essex.org.uk
SUMMARY:Black Bin Day
DESCRIPTION:
URL:https://www.hempstead-essex.org.uk/event/black-bin-day-3/2026-05-28/
CATEGORIES:Recycling
ATTACH;FMTTYPE=image/png:https://www.hempstead-essex.org.uk/wp-content/uploads/2023/05/blackbin.png
END:VEVENT
BEGIN:VEVENT
DTSTART;VALUE=DATE:20260611
DTEND;VALUE=DATE:20260612
DTSTAMP:20260424T230142
CREATED:20251106T204916Z
LAST-MODIFIED:20260126T120400Z
UID:10001546-1781136000-1781222399@www.hempstead-essex.org.uk
SUMMARY:Black Bin Day
DESCRIPTION:
URL:https://www.hempstead-essex.org.uk/event/black-bin-day-3/2026-06-11/
CATEGORIES:Recycling
ATTACH;FMTTYPE=image/png:https://www.hempstead-essex.org.uk/wp-content/uploads/2023/05/blackbin.png
END:VEVENT
BEGIN:VEVENT
DTSTART;VALUE=DATE:20260625
DTEND;VALUE=DATE:20260626
DTSTAMP:20260424T230142
CREATED:20251106T204916Z
LAST-MODIFIED:20260126T120400Z
UID:10001547-1782345600-1782431999@www.hempstead-essex.org.uk
SUMMARY:Black Bin Day
DESCRIPTION:
URL:https://www.hempstead-essex.org.uk/event/black-bin-day-3/2026-06-25/
CATEGORIES:Recycling
ATTACH;FMTTYPE=image/png:https://www.hempstead-essex.org.uk/wp-content/uploads/2023/05/blackbin.png
END:VEVENT
BEGIN:VEVENT
DTSTART;VALUE=DATE:20260709
DTEND;VALUE=DATE:20260710
DTSTAMP:20260424T230142
CREATED:20251106T204916Z
LAST-MODIFIED:20260126T120400Z
UID:10001548-1783555200-1783641599@www.hempstead-essex.org.uk
SUMMARY:Black Bin Day
DESCRIPTION:
URL:https://www.hempstead-essex.org.uk/event/black-bin-day-3/2026-07-09/
CATEGORIES:Recycling
ATTACH;FMTTYPE=image/png:https://www.hempstead-essex.org.uk/wp-content/uploads/2023/05/blackbin.png
END:VEVENT
BEGIN:VEVENT
DTSTART;VALUE=DATE:20260723
DTEND;VALUE=DATE:20260724
DTSTAMP:20260424T230142
CREATED:20251106T204916Z
LAST-MODIFIED:20260126T120400Z
UID:10001549-1784764800-1784851199@www.hempstead-essex.org.uk
SUMMARY:Black Bin Day
DESCRIPTION:
URL:https://www.hempstead-essex.org.uk/event/black-bin-day-3/2026-07-23/
CATEGORIES:Recycling
ATTACH;FMTTYPE=image/png:https://www.hempstead-essex.org.uk/wp-content/uploads/2023/05/blackbin.png
END:VEVENT
BEGIN:VEVENT
DTSTART;VALUE=DATE:20260806
DTEND;VALUE=DATE:20260807
DTSTAMP:20260424T230142
CREATED:20251106T204916Z
LAST-MODIFIED:20260126T120400Z
UID:10001550-1785974400-1786060799@www.hempstead-essex.org.uk
SUMMARY:Black Bin Day
DESCRIPTION:
URL:https://www.hempstead-essex.org.uk/event/black-bin-day-3/2026-08-06/
CATEGORIES:Recycling
ATTACH;FMTTYPE=image/png:https://www.hempstead-essex.org.uk/wp-content/uploads/2023/05/blackbin.png
END:VEVENT
BEGIN:VEVENT
DTSTART;VALUE=DATE:20260820
DTEND;VALUE=DATE:20260821
DTSTAMP:20260424T230142
CREATED:20251106T204916Z
LAST-MODIFIED:20260126T120400Z
UID:10001551-1787184000-1787270399@www.hempstead-essex.org.uk
SUMMARY:Black Bin Day
DESCRIPTION:
URL:https://www.hempstead-essex.org.uk/event/black-bin-day-3/2026-08-20/
CATEGORIES:Recycling
ATTACH;FMTTYPE=image/png:https://www.hempstead-essex.org.uk/wp-content/uploads/2023/05/blackbin.png
END:VEVENT
BEGIN:VEVENT
DTSTART;VALUE=DATE:20260903
DTEND;VALUE=DATE:20260904
DTSTAMP:20260424T230142
CREATED:20251106T204916Z
LAST-MODIFIED:20260126T120400Z
UID:10001552-1788393600-1788479999@www.hempstead-essex.org.uk
SUMMARY:Black Bin Day
DESCRIPTION:
URL:https://www.hempstead-essex.org.uk/event/black-bin-day-3/2026-09-03/
CATEGORIES:Recycling
ATTACH;FMTTYPE=image/png:https://www.hempstead-essex.org.uk/wp-content/uploads/2023/05/blackbin.png
END:VEVENT
BEGIN:VEVENT
DTSTART;VALUE=DATE:20260917
DTEND;VALUE=DATE:20260918
DTSTAMP:20260424T230142
CREATED:20251106T204916Z
LAST-MODIFIED:20260126T120400Z
UID:10001553-1789603200-1789689599@www.hempstead-essex.org.uk
SUMMARY:Black Bin Day
DESCRIPTION:
URL:https://www.hempstead-essex.org.uk/event/black-bin-day-3/2026-09-17/
CATEGORIES:Recycling
ATTACH;FMTTYPE=image/png:https://www.hempstead-essex.org.uk/wp-content/uploads/2023/05/blackbin.png
END:VEVENT
BEGIN:VEVENT
DTSTART;VALUE=DATE:20261001
DTEND;VALUE=DATE:20261002
DTSTAMP:20260424T230142
CREATED:20251106T204916Z
LAST-MODIFIED:20260126T120400Z
UID:10001554-1790812800-1790899199@www.hempstead-essex.org.uk
SUMMARY:Black Bin Day
DESCRIPTION:
URL:https://www.hempstead-essex.org.uk/event/black-bin-day-3/2026-10-01/
CATEGORIES:Recycling
ATTACH;FMTTYPE=image/png:https://www.hempstead-essex.org.uk/wp-content/uploads/2023/05/blackbin.png
END:VEVENT
BEGIN:VEVENT
DTSTART;VALUE=DATE:20261015
DTEND;VALUE=DATE:20261016
DTSTAMP:20260424T230142
CREATED:20251106T204916Z
LAST-MODIFIED:20260126T120400Z
UID:10001555-1792022400-1792108799@www.hempstead-essex.org.uk
SUMMARY:Black Bin Day
DESCRIPTION:
URL:https://www.hempstead-essex.org.uk/event/black-bin-day-3/2026-10-15/
CATEGORIES:Recycling
ATTACH;FMTTYPE=image/png:https://www.hempstead-essex.org.uk/wp-content/uploads/2023/05/blackbin.png
END:VEVENT
BEGIN:VEVENT
DTSTART;VALUE=DATE:20261029
DTEND;VALUE=DATE:20261030
DTSTAMP:20260424T230142
CREATED:20251106T204916Z
LAST-MODIFIED:20260126T120400Z
UID:10001556-1793232000-1793318399@www.hempstead-essex.org.uk
SUMMARY:Black Bin Day
DESCRIPTION:
URL:https://www.hempstead-essex.org.uk/event/black-bin-day-3/2026-10-29/
CATEGORIES:Recycling
ATTACH;FMTTYPE=image/png:https://www.hempstead-essex.org.uk/wp-content/uploads/2023/05/blackbin.png
END:VEVENT
BEGIN:VEVENT
DTSTART;VALUE=DATE:20261112
DTEND;VALUE=DATE:20261113
DTSTAMP:20260424T230142
CREATED:20251106T204916Z
LAST-MODIFIED:20260126T120400Z
UID:10001557-1794441600-1794527999@www.hempstead-essex.org.uk
SUMMARY:Black Bin Day
DESCRIPTION:
URL:https://www.hempstead-essex.org.uk/event/black-bin-day-3/2026-11-12/
CATEGORIES:Recycling
ATTACH;FMTTYPE=image/png:https://www.hempstead-essex.org.uk/wp-content/uploads/2023/05/blackbin.png
END:VEVENT
BEGIN:VEVENT
DTSTART;VALUE=DATE:20261126
DTEND;VALUE=DATE:20261127
DTSTAMP:20260424T230142
CREATED:20251106T204916Z
LAST-MODIFIED:20260126T120400Z
UID:10001558-1795651200-1795737599@www.hempstead-essex.org.uk
SUMMARY:Black Bin Day
DESCRIPTION:
URL:https://www.hempstead-essex.org.uk/event/black-bin-day-3/2026-11-26/
CATEGORIES:Recycling
ATTACH;FMTTYPE=image/png:https://www.hempstead-essex.org.uk/wp-content/uploads/2023/05/blackbin.png
END:VEVENT
BEGIN:VEVENT
DTSTART;VALUE=DATE:20261210
DTEND;VALUE=DATE:20261211
DTSTAMP:20260424T230142
CREATED:20251106T204916Z
LAST-MODIFIED:20260126T120400Z
UID:10001559-1796860800-1796947199@www.hempstead-essex.org.uk
SUMMARY:Black Bin Day
DESCRIPTION:
URL:https://www.hempstead-essex.org.uk/event/black-bin-day-3/2026-12-10/
CATEGORIES:Recycling
ATTACH;FMTTYPE=image/png:https://www.hempstead-essex.org.uk/wp-content/uploads/2023/05/blackbin.png
END:VEVENT
END:VCALENDAR