BEGIN:VCALENDAR
VERSION:2.0
PRODID:-//Hempstead in Essex - ECPv6.1.3//NONSGML v1.0//EN
CALSCALE:GREGORIAN
METHOD:PUBLISH
X-ORIGINAL-URL:https://www.hempstead-essex.org.uk
X-WR-CALDESC:Events for Hempstead in Essex
REFRESH-INTERVAL;VALUE=DURATION:PT1H
X-Robots-Tag:noindex
X-PUBLISHED-TTL:PT1H
BEGIN:VTIMEZONE
TZID:Europe/London
BEGIN:DAYLIGHT
TZOFFSETFROM:+0000
TZOFFSETTO:+0100
TZNAME:BST
DTSTART:20230326T010000
END:DAYLIGHT
BEGIN:STANDARD
TZOFFSETFROM:+0100
TZOFFSETTO:+0000
TZNAME:GMT
DTSTART:20231029T010000
END:STANDARD
BEGIN:DAYLIGHT
TZOFFSETFROM:+0000
TZOFFSETTO:+0100
TZNAME:BST
DTSTART:20240331T010000
END:DAYLIGHT
BEGIN:STANDARD
TZOFFSETFROM:+0100
TZOFFSETTO:+0000
TZNAME:GMT
DTSTART:20241027T010000
END:STANDARD
END:VTIMEZONE
BEGIN:VEVENT
DTSTART;TZID=Europe/London:20230929T090000
DTEND;TZID=Europe/London:20230929T140000
DTSTAMP:20260421T092216
CREATED:20230919T101819Z
LAST-MODIFIED:20230919T102600Z
UID:10001325-1695978000-1695996000@www.hempstead-essex.org.uk
SUMMARY:Bric-a-Brac Sale
DESCRIPTION:
URL:https://www.hempstead-essex.org.uk/event/bric-a-brac-sale-thaxted-guildhall/
LOCATION:Thaxted Guildhall\, High Street\, Thaxted\, Essex\, CM6 2LA
ATTACH;FMTTYPE=image/jpeg:https://www.hempstead-essex.org.uk/wp-content/uploads/2023/08/TGAut23d.jpg
END:VEVENT
BEGIN:VEVENT
DTSTART;TZID=Europe/London:20230930T090000
DTEND;TZID=Europe/London:20230930T140000
DTSTAMP:20260421T092216
CREATED:20230919T101938Z
LAST-MODIFIED:20230919T102451Z
UID:10001326-1696064400-1696082400@www.hempstead-essex.org.uk
SUMMARY:Bric-a-brac Sale
DESCRIPTION:
URL:https://www.hempstead-essex.org.uk/event/bric-a-brac-sale/
LOCATION:Thaxted Guildhall\, High Street\, Thaxted\, Essex\, CM6 2LA
ATTACH;FMTTYPE=image/jpeg:https://www.hempstead-essex.org.uk/wp-content/uploads/2023/08/TGAut23d.jpg
END:VEVENT
BEGIN:VEVENT
DTSTART;TZID=Europe/London:20240426T090000
DTEND;TZID=Europe/London:20240427T133000
DTSTAMP:20260421T092216
CREATED:20240229T185324Z
LAST-MODIFIED:20240229T185324Z
UID:10001365-1714122000-1714224600@www.hempstead-essex.org.uk
SUMMARY:Diana's Bric-a-Brac\, Thaxted Guildhall
DESCRIPTION:Diana’s Spring bric-a-brac sale will be at Thaxted Guildhall (CM6 2LA) to raise money for Hempstead Village Hall\, on Friday 26th and Saturday 27th April 2024\, selling from 9am to 1.30pm.\nThe sale will include garden items\, small furniture\, wicker\, china\, ornaments\, fine glass and art\, crafts and hobbies\, kitchen wares\, bedspreads and linens and more.
URL:https://www.hempstead-essex.org.uk/event/dianas-bric-a-brac-thaxted-guildhall/
LOCATION:Thaxted Guildhall\, High Street\, Thaxted\, Essex\, CM6 2LA
CATEGORIES:Fundraiser
ATTACH;FMTTYPE=image/jpeg:https://www.hempstead-essex.org.uk/wp-content/uploads/2024/02/ThaxSpr1.jpg
END:VEVENT
END:VCALENDAR